BEGIN:VCALENDAR
VERSION:2.0
PRODID:icalendar-ruby
CALSCALE:GREGORIAN
BEGIN:VTIMEZONE
TZID:America/Chicago
BEGIN:DAYLIGHT
DTSTART:20260308T030000
TZOFFSETFROM:-0600
TZOFFSETTO:-0500
RRULE:FREQ=YEARLY;BYDAY=2SU;BYMONTH=3
TZNAME:CDT
END:DAYLIGHT
BEGIN:STANDARD
DTSTART:20261101T010000
TZOFFSETFROM:-0500
TZOFFSETTO:-0600
RRULE:FREQ=YEARLY;BYDAY=1SU;BYMONTH=11
TZNAME:CST
END:STANDARD
END:VTIMEZONE
BEGIN:VEVENT
DTSTAMP:20260421T235421Z
UID:94eeb0c8-aaaf-44db-809a-118c0b84bd76
DTSTART;VALUE=DATE:20260424
DTEND;VALUE=DATE:20260425
DESCRIPTION:
LOCATION:
SUMMARY:Instructional Planning/Professional Development (No Students) 
END:VEVENT
BEGIN:VEVENT
DTSTAMP:20260421T235421Z
UID:b0162fdf-dbc2-4777-99d7-81214cc8dd8a
DTSTART;VALUE=DATE:20260518
DTEND;VALUE=DATE:20260522
DESCRIPTION:
LOCATION:
SUMMARY:High School Graduations
END:VEVENT
BEGIN:VEVENT
DTSTAMP:20260421T235421Z
UID:245d2a06-376b-41cd-8a21-059f4876d1c0
DTSTART;VALUE=DATE:20260521
DTEND;VALUE=DATE:20260522
DESCRIPTION:
LOCATION:
SUMMARY:Early Dismissal 1:00 p.m.
END:VEVENT
BEGIN:VEVENT
DTSTAMP:20260421T235421Z
UID:b09010f3-082c-4d5c-900e-5217dffe6153
DTSTART;VALUE=DATE:20260521
DTEND;VALUE=DATE:20260522
DESCRIPTION:
LOCATION:
SUMMARY:End of 4th Nine Weeks
END:VEVENT
BEGIN:VEVENT
DTSTAMP:20260421T235421Z
UID:a88983ae-3282-4bcd-bceb-5c2102e5ae55
DTSTART;VALUE=DATE:20260521
DTEND;VALUE=DATE:20260522
DESCRIPTION:
LOCATION:
SUMMARY:Grades Sent Home
END:VEVENT
BEGIN:VEVENT
DTSTAMP:20260421T235421Z
UID:b163039b-24f1-4998-92e1-7bc98a4c3d03
DTSTART;VALUE=DATE:20260522
DTEND;VALUE=DATE:20260523
DESCRIPTION:
LOCATION:
SUMMARY:Teacher Workday
END:VEVENT
BEGIN:VEVENT
DTSTAMP:20260421T235421Z
UID:2bcf13a1-3489-4d1e-8345-515d5dce0793
DTSTART;VALUE=DATE:20260525
DTEND;VALUE=DATE:20260526
DESCRIPTION:
LOCATION:
SUMMARY:Memorial Day Holiday (Schools and Offices Closed) 
END:VEVENT
BEGIN:VEVENT
DTSTAMP:20260421T235421Z
UID:ea25e731-f026-4ca9-a8ad-ec097c064730
DTSTART;VALUE=DATE:20260619
DTEND;VALUE=DATE:20260620
DESCRIPTION:
LOCATION:
SUMMARY:Juneteenth Holiday (Schools and Offices Closed) 
END:VEVENT
BEGIN:VEVENT
DTSTAMP:20260421T235421Z
UID:26228902-e47b-4289-a17e-c05b6a8b4a61
DTSTART;VALUE=DATE:20260703
DTEND;VALUE=DATE:20260704
DESCRIPTION:
LOCATION:
SUMMARY:July 4th (Observed)\; Schools & Offices Closed
END:VEVENT
BEGIN:VEVENT
DTSTAMP:20260421T235421Z
UID:55ca1d7e-a7f1-4711-a34b-2a66517e0a13
DTSTART;VALUE=DATE:20260806
DTEND;VALUE=DATE:20260808
DESCRIPTION:
LOCATION:
SUMMARY:Professional Development (PD)
END:VEVENT
BEGIN:VEVENT
DTSTAMP:20260421T235421Z
UID:9b1ff25a-0194-438c-9259-a4d15869f8e1
DTSTART;VALUE=DATE:20260810
DTEND;VALUE=DATE:20260811
DESCRIPTION:
LOCATION:
SUMMARY:Teacher Work Day
END:VEVENT
BEGIN:VEVENT
DTSTAMP:20260421T235421Z
UID:e849afeb-2972-4c38-bc55-5b7347894d87
DTSTART;VALUE=DATE:20260811
DTEND;VALUE=DATE:20260812
DESCRIPTION:
LOCATION:
SUMMARY:Institute Day 
END:VEVENT
BEGIN:VEVENT
DTSTAMP:20260421T235421Z
UID:25d2eb00-ffff-4dc1-871b-1e9b692ab16f
DTSTART;VALUE=DATE:20260812
DTEND;VALUE=DATE:20260813
DESCRIPTION:
LOCATION:
SUMMARY:Teacher Work Day
END:VEVENT
BEGIN:VEVENT
DTSTAMP:20260421T235421Z
UID:65fb1a4d-5c5c-47d6-95fd-29e629c2f44b
DTSTART;VALUE=DATE:20260813
DTEND;VALUE=DATE:20260814
DESCRIPTION:
LOCATION:
SUMMARY:First Semester Begins / 1st Day of School for Students
END:VEVENT
BEGIN:VEVENT
DTSTAMP:20260421T235421Z
UID:37d2ebe5-5fb1-41e1-9a49-e279a102e9fa
DTSTART;VALUE=DATE:20260907
DTEND;VALUE=DATE:20260908
DESCRIPTION:
LOCATION:
SUMMARY:Labor Day\; Schools & Offices Closed
END:VEVENT
BEGIN:VEVENT
DTSTAMP:20260421T235421Z
UID:d01ee821-77d9-40d1-a71f-f674f4d38b05
DTSTART;VALUE=DATE:20261012
DTEND;VALUE=DATE:20261014
DESCRIPTION:
LOCATION:
SUMMARY:Fall Break - Schools Closed
END:VEVENT
BEGIN:VEVENT
DTSTAMP:20260421T235421Z
UID:4644d4a5-7483-4949-b651-87d7b0923bba
DTSTART;VALUE=DATE:20261111
DTEND;VALUE=DATE:20261112
DESCRIPTION:
LOCATION:
SUMMARY:Veteran's Day\; Schools & Offices Closed
END:VEVENT
BEGIN:VEVENT
DTSTAMP:20260421T235421Z
UID:010bede3-0a57-443c-b335-c520a29f2086
DTSTART;VALUE=DATE:20261123
DTEND;VALUE=DATE:20261128
DESCRIPTION:
LOCATION:
SUMMARY:Thanksgiving Break\; School Closed
END:VEVENT
BEGIN:VEVENT
DTSTAMP:20260421T235421Z
UID:781258d2-4c6c-4530-91d9-9fa555e3622e
DTSTART;VALUE=DATE:20261218
DTEND;VALUE=DATE:20261219
DESCRIPTION:
LOCATION:
SUMMARY:End of 2nd Nine Weeks\; Early Dismissal
END:VEVENT
BEGIN:VEVENT
DTSTAMP:20260421T235421Z
UID:3976d8de-fcd1-4d3f-b6b1-ee1d4659a90f
DTSTART;VALUE=DATE:20261221
DTEND;VALUE=DATE:20270102
DESCRIPTION:
LOCATION:
SUMMARY:Winter Break\; Schools Closed
END:VEVENT
BEGIN:VEVENT
DTSTAMP:20260421T235421Z
UID:60fc0f1d-a056-448e-8a9e-2a8717b572d9
DTSTART;VALUE=DATE:20270104
DTEND;VALUE=DATE:20270105
DESCRIPTION:
LOCATION:
SUMMARY:Teacher Workday\; No Students
END:VEVENT
BEGIN:VEVENT
DTSTAMP:20260421T235421Z
UID:7f89d971-6b4a-4a8d-ba29-bc86adb56356
DTSTART;VALUE=DATE:20270105
DTEND;VALUE=DATE:20270106
DESCRIPTION:
LOCATION:
SUMMARY:Second Semester Begins
END:VEVENT
BEGIN:VEVENT
DTSTAMP:20260421T235421Z
UID:9e76b456-4eb9-4b61-a777-30ba92fd041e
DTSTART;VALUE=DATE:20270108
DTEND;VALUE=DATE:20270109
DESCRIPTION:
LOCATION:
SUMMARY:Report Cards Sent Home
END:VEVENT
BEGIN:VEVENT
DTSTAMP:20260421T235421Z
UID:3f0ed727-15ad-403e-a101-3895f7654376
DTSTART;VALUE=DATE:20270118
DTEND;VALUE=DATE:20270119
DESCRIPTION:
LOCATION:
SUMMARY:Martin Luther King Jr. Day\; Schools Closed
END:VEVENT
BEGIN:VEVENT
DTSTAMP:20260421T235421Z
UID:461ed62e-521e-4007-a63a-ee3bb8376adb
DTSTART;VALUE=DATE:20270215
DTEND;VALUE=DATE:20270216
DESCRIPTION:
LOCATION:
SUMMARY:Presidents' Day\; Instructional Planning\; Teacher Workday\; No Stu
 dents
END:VEVENT
BEGIN:VEVENT
DTSTAMP:20260421T235421Z
UID:15b51884-8e1e-4ad1-aad2-6e5ff74fbea2
DTSTART;VALUE=DATE:20270305
DTEND;VALUE=DATE:20270306
DESCRIPTION:
LOCATION:
SUMMARY:End of 3rd Nine Weeks
END:VEVENT
BEGIN:VEVENT
DTSTAMP:20260421T235421Z
UID:ce88a170-6df2-47d6-abdc-fc27220f01d2
DTSTART;VALUE=DATE:20270308
DTEND;VALUE=DATE:20270309
DESCRIPTION:
LOCATION:
SUMMARY:Instructional Planning
END:VEVENT
BEGIN:VEVENT
DTSTAMP:20260421T235421Z
UID:c34739dd-319f-42e7-b9e8-b193a5acbcf0
DTSTART;VALUE=DATE:20270322
DTEND;VALUE=DATE:20270327
DESCRIPTION:
LOCATION:
SUMMARY:Spring Break\; Schools Closed
END:VEVENT
END:VCALENDAR
