BEGIN:VCALENDAR
VERSION:2.0
PRODID:icalendar-ruby
CALSCALE:GREGORIAN
BEGIN:VTIMEZONE
TZID:America/New_York
BEGIN:DAYLIGHT
DTSTART:20260308T030000
TZOFFSETFROM:-0500
TZOFFSETTO:-0400
RRULE:FREQ=YEARLY;BYDAY=2SU;BYMONTH=3
TZNAME:EDT
END:DAYLIGHT
BEGIN:STANDARD
DTSTART:20261101T010000
TZOFFSETFROM:-0400
TZOFFSETTO:-0500
RRULE:FREQ=YEARLY;BYDAY=1SU;BYMONTH=11
TZNAME:EST
END:STANDARD
END:VTIMEZONE
BEGIN:VEVENT
DTSTAMP:20260424T170208Z
UID:6513485f-958a-4e4b-abd8-f6aa42d3e3b6
DTSTART:20260518T173000
DTEND:20260518T193000
DESCRIPTION:
LOCATION:Alton Central School Library
SUMMARY:Alton School Board Meeting
END:VEVENT
BEGIN:VEVENT
DTSTAMP:20260424T170208Z
UID:2c961af7-0890-4bc2-ad9d-3bfdf2c16b25
DTSTART:20260519T180000
DTEND:20260519T200000
DESCRIPTION:
LOCATION:Prospect Mountain High School Library
SUMMARY:Prospect Mountain JMA School Board Meeting
END:VEVENT
BEGIN:VEVENT
DTSTAMP:20260424T170208Z
UID:7280c6b5-9017-4781-be5a-e23b9ce95f6c
DTSTART:20260520T180000
DTEND:20260520T200000
DESCRIPTION:
LOCATION:Barnstead Elementary School Library
SUMMARY:Barnstead School Board Meeting
END:VEVENT
BEGIN:VEVENT
DTSTAMP:20260424T170208Z
UID:89e9371c-65bd-4975-9f53-9c465a46c598
DTSTART:20260615T173000
DTEND:20260615T193000
DESCRIPTION:
LOCATION:Alton Central School - Library
SUMMARY:Alton School Board Meeting
END:VEVENT
BEGIN:VEVENT
DTSTAMP:20260424T170208Z
UID:a2cfc374-e530-4f9f-ac5f-72137077b530
DTSTART:20260616T180000
DTEND:20260616T200000
DESCRIPTION:
LOCATION:Prospect Mountain High School Library
SUMMARY:Prospect Mountain JMA School Board Meeting
END:VEVENT
BEGIN:VEVENT
DTSTAMP:20260424T170208Z
UID:d3d3bf51-d9f5-44b9-b453-aa90c9a05348
DTSTART:20260617T180000
DTEND:20260617T200000
DESCRIPTION:
LOCATION:Barnstead Elementary School Library
SUMMARY:Barnstead School Board Meeting
END:VEVENT
END:VCALENDAR
