BEGIN:VCALENDAR
VERSION:2.0
PRODID:icalendar-ruby
CALSCALE:GREGORIAN
BEGIN:VTIMEZONE
TZID:America/Denver
BEGIN:DAYLIGHT
DTSTART:20260308T030000
TZOFFSETFROM:-0700
TZOFFSETTO:-0600
RRULE:FREQ=YEARLY;BYDAY=2SU;BYMONTH=3
TZNAME:MDT
END:DAYLIGHT
BEGIN:STANDARD
DTSTART:20261101T010000
TZOFFSETFROM:-0600
TZOFFSETTO:-0700
RRULE:FREQ=YEARLY;BYDAY=1SU;BYMONTH=11
TZNAME:MST
END:STANDARD
END:VTIMEZONE
BEGIN:VEVENT
DTSTAMP:20260424T145955Z
UID:712008c0-b8ac-468b-9dd0-16f5715ee3b9
DTSTART:20260424T080000
DTEND:20260424T123000
DESCRIPTION:
LOCATION:
SUMMARY:SUPPORT FRIDAY 8 AM -12:30 PM
END:VEVENT
BEGIN:VEVENT
DTSTAMP:20260424T145955Z
UID:0fc4142f-6f78-4989-8b66-fdf24c6e7d2d
DTSTART:20260508T080000
DTEND:20260508T123000
DESCRIPTION:
LOCATION:
SUMMARY:SUPPORT FRIDAY 8 AM-12:30 PM
END:VEVENT
BEGIN:VEVENT
DTSTAMP:20260424T145955Z
UID:8adf8dc7-5e3f-49a5-8081-73232e023dae
DTSTART:20260515T080000
DTEND:20260515T173000
DESCRIPTION:
LOCATION:
SUMMARY:No School
END:VEVENT
BEGIN:VEVENT
DTSTAMP:20260424T145955Z
UID:e20342eb-e3c9-419a-b782-00c4f8b57154
DTSTART:20260522T080000
DTEND:20260522T123000
DESCRIPTION:
LOCATION:
SUMMARY:SUPPORT FRIDAY 8 AM-12:30 PM
END:VEVENT
BEGIN:VEVENT
DTSTAMP:20260424T145955Z
UID:139bd709-eb16-401f-a6cb-185bad5d06ba
DTSTART:20260525T080000
DTEND:20260525T090000
DESCRIPTION:
LOCATION:
SUMMARY:MEMORIAL DAY  HOLIDAY ! ALL EMPLOYEES 
END:VEVENT
BEGIN:VEVENT
DTSTAMP:20260424T145955Z
UID:82e4c0d2-943a-442e-a2c9-751610d218a2
DTSTART:20260529T080000
DTEND:20260529T173000
DESCRIPTION:
LOCATION:
SUMMARY:No School
END:VEVENT
BEGIN:VEVENT
DTSTAMP:20260424T145955Z
UID:141b46b2-93d5-4dd7-b117-a9e4f391e008
DTSTART:20260604T080000
DTEND:20260604T163000
DESCRIPTION:
LOCATION:
SUMMARY:LAST DAY OF SCHOOL !!!! 4TH QUARTER OVER!
END:VEVENT
END:VCALENDAR
