BEGIN:VCALENDAR
VERSION:2.0
PRODID:icalendar-ruby
CALSCALE:GREGORIAN
BEGIN:VTIMEZONE
TZID:America/New_York
BEGIN:DAYLIGHT
DTSTART:20260308T030000
TZOFFSETFROM:-0500
TZOFFSETTO:-0400
RRULE:FREQ=YEARLY;BYDAY=2SU;BYMONTH=3
TZNAME:EDT
END:DAYLIGHT
BEGIN:STANDARD
DTSTART:20261101T010000
TZOFFSETFROM:-0400
TZOFFSETTO:-0500
RRULE:FREQ=YEARLY;BYDAY=1SU;BYMONTH=11
TZNAME:EST
END:STANDARD
END:VTIMEZONE
BEGIN:VEVENT
DTSTAMP:20260425T134256Z
UID:647d390a-b989-46ae-8e69-57f5b5b12e85
DTSTART;VALUE=DATE:20260427
DTEND;VALUE=DATE:20260502
DESCRIPTION:Visit the Somerset County Board of Education Monday April 27 - 
 Friday May 1\, 2026 for the Countywide Art Show! View the artwork of our t
 alented students anytime between 8:00 AM - 5:00 PM Monday through Friday!
  \n\nThe opening reception will be held on Tuesday\, April 28th from 4:30
 -6:30pm. We hope to see you there!
LOCATION:7982a Tawes Campus Dr\, Westover\, MD 21871\, USA
SUMMARY:Countywide Art Show
END:VEVENT
BEGIN:VEVENT
DTSTAMP:20260425T134256Z
UID:35cb3fd5-0d8e-49d2-8aaf-50cb092c4c15
DTSTART:20260428T163000
DTEND:20260428T183000
DESCRIPTION:Visit the Somerset County Board of Education for the opening re
 ception of the Countywide Art Show on Tuesday\, April 28th from 4:30-6:30p
 m. We hope to see you there!
LOCATION:7982a Tawes Campus Dr\, Westover\, MD 21871\, USA
SUMMARY:Opening Ceremony: Countywide Art Show
END:VEVENT
BEGIN:VEVENT
DTSTAMP:20260425T134256Z
UID:a031ab60-ebcf-4910-9d29-1275a58b5d39
DTSTART;VALUE=DATE:20260505
DTEND;VALUE=DATE:20260506
DESCRIPTION:<p>Somerset County Public Schools will administer the <strong>M
 aryland Comprehensive Assessment Program (MCAP)</strong> on <strong>May 5\
 , 6\, 12\, and 13\, 2026</strong>.</p><p>Please note that <strong>schedule
  adjustments will be in place for secondary schools (grades 6–12)</stron
 g> on testing days. <strong>Students who are scheduled to test</strong> at
  <strong>Somerset Intermediate School</strong>\, <strong>Crisfield Academy
  &amp\; High School</strong>\, and <strong>Washington Academy &amp\; High 
 School</strong> will report at their <strong>regular start time</strong> f
 or MCAP test administration. <strong>Students in grades 6–12 who are not
  scheduled to test will not report to school</strong> on these days.</p><p
 >Secondary schools will <strong>dismiss early at 11:30 a.m.</strong> on te
 sting days.</p><p>There will be <strong>no changes</strong> to the regular
  school day schedule for <strong>elementary schools</strong>.</p>
LOCATION:
SUMMARY:MCAP Test Administration - Secondary School Early Dismissal
END:VEVENT
BEGIN:VEVENT
DTSTAMP:20260425T134256Z
UID:4d2581a2-6fb0-4e46-b621-589f0764c8ef
DTSTART;VALUE=DATE:20260506
DTEND;VALUE=DATE:20260507
DESCRIPTION:<p>Somerset County Public Schools will administer the <strong>M
 aryland Comprehensive Assessment Program (MCAP)</strong> on <strong>May 5\
 , 6\, 12\, and 13\, 2026</strong>.</p><p>Please note that <strong>schedule
  adjustments will be in place for secondary schools (grades 6–12)</stron
 g> on testing days. <strong>Students who are scheduled to test</strong> at
  <strong>Somerset Intermediate School</strong>\, <strong>Crisfield Academy
  &amp\; High School</strong>\, and <strong>Washington Academy &amp\; High 
 School</strong> will report at their <strong>regular start time</strong> f
 or MCAP test administration. <strong>Students in grades 6–12 who are not
  scheduled to test will not report to school</strong> on these days.</p><p
 >Secondary schools will <strong>dismiss early at 11:30 a.m.</strong> on te
 sting days.</p><p>There will be <strong>no changes</strong> to the regular
  school day schedule for <strong>elementary schools</strong>.</p>
LOCATION:
SUMMARY:MCAP Test Administration - Secondary School Early Dismissal
END:VEVENT
BEGIN:VEVENT
DTSTAMP:20260425T134256Z
UID:f659318c-7900-4584-8a36-f6ae2f5c9eb4
DTSTART;VALUE=DATE:20260512
DTEND;VALUE=DATE:20260513
DESCRIPTION:<p>Somerset County Public Schools will administer the <strong>M
 aryland Comprehensive Assessment Program (MCAP)</strong> on <strong>May 5\
 , 6\, 12\, and 13\, 2026</strong>.</p><p>Please note that <strong>schedule
  adjustments will be in place for secondary schools (grades 6–12)</stron
 g> on testing days. <strong>Students who are scheduled to test</strong> at
  <strong>Somerset Intermediate School</strong>\, <strong>Crisfield Academy
  &amp\; High School</strong>\, and <strong>Washington Academy &amp\; High 
 School</strong> will report at their <strong>regular start time</strong> f
 or MCAP test administration. <strong>Students in grades 6–12 who are not
  scheduled to test will not report to school</strong> on these days.</p><p
 >Secondary schools will <strong>dismiss early at 11:30 a.m.</strong> on te
 sting days.</p><p>There will be <strong>no changes</strong> to the regular
  school day schedule for <strong>elementary schools</strong>.</p>
LOCATION:
SUMMARY:MCAP Test Administration - Secondary School Early Dismissal
END:VEVENT
BEGIN:VEVENT
DTSTAMP:20260425T134256Z
UID:2b7edfb1-cccd-4828-b591-2dba0502455e
DTSTART;VALUE=DATE:20260513
DTEND;VALUE=DATE:20260514
DESCRIPTION:<p>Somerset County Public Schools will administer the <strong>M
 aryland Comprehensive Assessment Program (MCAP)</strong> on <strong>May 5\
 , 6\, 12\, and 13\, 2026</strong>.</p><p>Please note that <strong>schedule
  adjustments will be in place for secondary schools (grades 6–12)</stron
 g> on testing days. <strong>Students who are scheduled to test</strong> at
  <strong>Somerset Intermediate School</strong>\, <strong>Crisfield Academy
  &amp\; High School</strong>\, and <strong>Washington Academy &amp\; High 
 School</strong> will report at their <strong>regular start time</strong> f
 or MCAP test administration. <strong>Students in grades 6–12 who are not
  scheduled to test will not report to school</strong> on these days.</p><p
 >Secondary schools will <strong>dismiss early at 11:30 a.m.</strong> on te
 sting days.</p><p>There will be <strong>no changes</strong> to the regular
  school day schedule for <strong>elementary schools</strong>.</p>
LOCATION:
SUMMARY:MCAP Test Administration - Secondary School Early Dismissal
END:VEVENT
BEGIN:VEVENT
DTSTAMP:20260425T134256Z
UID:628bd811-9af9-4e8f-a7d0-2b36c843cbf1
DTSTART;VALUE=DATE:20260514
DTEND;VALUE=DATE:20260515
DESCRIPTION:Elementary School Dismissal: 12:30 PM\nSecondary School Dismiss
 al: 11:30 AM
LOCATION:
SUMMARY:Early Dismissal - PM Staff Professional Development
END:VEVENT
BEGIN:VEVENT
DTSTAMP:20260425T134256Z
UID:a553ced1-8029-4a72-9cb2-e5bd15043aae
DTSTART:20260519T163000
DTEND:20260519T213000
DESCRIPTION:<p>All regular meetings shall begin at 4:30 PM with a motion to
  immediately convene into a closed session to discuss confidential and bus
 iness matters. All meetings shall reconvene to an open session for public 
 viewing at 6:00 PM.</p><p>In-person Board Meetings can be viewed online: <
 a href="https://www.google.com/url?q=https://townhallstreams.com/towns/Som
 erset_County_PS_MD&amp\;sa=D&amp\;source=calendar&amp\;ust=175077691815711
 0&amp\;usg=AOvVaw1O4XS8SK3eo48DcqOsY52I" target="_blank"><u><u>https://tow
 nhallstreams.com/towns/Somerset_County_PS_MD</u></u></a></p><p>Meeting Age
 ndas &amp\; Board Documents: </p><p><a href="https://www.google.com/url?q=
 https://www.somerset.k12.md.us/documents/board--of-education/409451&amp\;s
 a=D&amp\;source=calendar&amp\;ust=1750776918157110&amp\;usg=AOvVaw3kioT2a8
 slrac5WC3ZtrN-" target="_blank"><u><u>https://www.somerset.k12.md.us/docum
 ents/board--of-education/409451</u></u></a></p>
LOCATION:
SUMMARY:Board of Education Meeting
END:VEVENT
BEGIN:VEVENT
DTSTAMP:20260425T134256Z
UID:6f072e0a-6c56-4fd6-85fe-bdf3d54bc0f9
DTSTART;VALUE=DATE:20260525
DTEND;VALUE=DATE:20260526
DESCRIPTION:
LOCATION:
SUMMARY:Memorial Day - System Closed
END:VEVENT
BEGIN:VEVENT
DTSTAMP:20260425T134256Z
UID:24091c68-def6-4fce-b3dd-2af9c6092e18
DTSTART;VALUE=DATE:20260604
DTEND;VALUE=DATE:20260605
DESCRIPTION:
LOCATION:
SUMMARY:Washington High School Graduation
END:VEVENT
BEGIN:VEVENT
DTSTAMP:20260425T134256Z
UID:9dd0ec1e-fdb1-4378-854a-6c6ab59966b7
DTSTART;VALUE=DATE:20260605
DTEND;VALUE=DATE:20260606
DESCRIPTION:
LOCATION:
SUMMARY:Crisfield High School Graduation
END:VEVENT
BEGIN:VEVENT
DTSTAMP:20260425T134256Z
UID:489ba261-d965-4f05-88a1-c2f354f1c562
DTSTART;VALUE=DATE:20260615
DTEND;VALUE=DATE:20260617
DESCRIPTION:Elementary School Dismissal: 12:30 PM\nSecondary School Dismiss
 al: 11:30 AM
LOCATION:
SUMMARY:Early Dismissal
END:VEVENT
BEGIN:VEVENT
DTSTAMP:20260425T134256Z
UID:bd15c419-98cd-496b-b290-df9b5fcdee98
DTSTART:20260616T163000
DTEND:20260616T213000
DESCRIPTION:<p>All regular meetings shall begin at 4:30 PM with a motion to
  immediately convene into a closed session to discuss confidential and bus
 iness matters. All meetings shall reconvene to an open session for public 
 viewing at 6:00 PM.</p><p>In-person Board Meetings can be viewed online: <
 a href="https://www.google.com/url?q=https://townhallstreams.com/towns/Som
 erset_County_PS_MD&amp\;sa=D&amp\;source=calendar&amp\;ust=175077693737904
 1&amp\;usg=AOvVaw11PeoxsvGlWl_ihZSh--jU" target="_blank"><u><u>https://tow
 nhallstreams.com/towns/Somerset_County_PS_MD</u></u></a></p><p>Meeting Age
 ndas &amp\; Board Documents: </p><p><a href="https://www.google.com/url?q=
 https://www.somerset.k12.md.us/documents/board--of-education/409451&amp\;s
 a=D&amp\;source=calendar&amp\;ust=1750776937379041&amp\;usg=AOvVaw0KXejAm5
 l0YdWTCCDSa6MQ" target="_blank"><u><u>https://www.somerset.k12.md.us/docum
 ents/board--of-education/409451</u></u></a></p>
LOCATION:
SUMMARY:Board of Education Meeting
END:VEVENT
BEGIN:VEVENT
DTSTAMP:20260425T134256Z
UID:b6da5dfd-19dd-40b1-ae31-4dae3c56015e
DTSTART;VALUE=DATE:20260617
DTEND;VALUE=DATE:20260618
DESCRIPTION:Elementary School Dismissal: 12:30 PM\nSecondary School Dismiss
 al: 11:30 AM
LOCATION:
SUMMARY:End of Q4 (45 Days)\, Last Day for Students\, Early Dismissal
END:VEVENT
BEGIN:VEVENT
DTSTAMP:20260425T134256Z
UID:e7eb8391-5e38-4333-ba85-b25d90561574
DTSTART;VALUE=DATE:20260618
DTEND;VALUE=DATE:20260619
DESCRIPTION:
LOCATION:
SUMMARY:Teacher Workday\, Last Day for Teachers
END:VEVENT
BEGIN:VEVENT
DTSTAMP:20260425T134256Z
UID:f2d7ce1b-ed59-40d3-9067-eac53eb9eb62
DTSTART;VALUE=DATE:20260619
DTEND;VALUE=DATE:20260620
DESCRIPTION:
LOCATION:
SUMMARY:Juneteenth - System Closed
END:VEVENT
END:VCALENDAR
