BEGIN:VCALENDAR
VERSION:2.0
PRODID:icalendar-ruby
CALSCALE:GREGORIAN
BEGIN:VTIMEZONE
TZID:America/Chicago
BEGIN:DAYLIGHT
DTSTART:20260308T030000
TZOFFSETFROM:-0600
TZOFFSETTO:-0500
RRULE:FREQ=YEARLY;BYDAY=2SU;BYMONTH=3
TZNAME:CDT
END:DAYLIGHT
BEGIN:STANDARD
DTSTART:20261101T010000
TZOFFSETFROM:-0500
TZOFFSETTO:-0600
RRULE:FREQ=YEARLY;BYDAY=1SU;BYMONTH=11
TZNAME:CST
END:STANDARD
END:VTIMEZONE
BEGIN:VEVENT
DTSTAMP:20260425T175105Z
UID:ef08ea17-8d3a-444a-8ceb-4712077fcae6
DTSTART;VALUE=DATE:20260507
DTEND;VALUE=DATE:20260508
DESCRIPTION:
LOCATION:
SUMMARY:Serendipity 
END:VEVENT
BEGIN:VEVENT
DTSTAMP:20260425T175105Z
UID:fabfb29c-87b5-465a-a76d-87e4535294ef
DTSTART;VALUE=DATE:20261026
DTEND;VALUE=DATE:20261028
DESCRIPTION:
LOCATION:
SUMMARY:Mini Maze-5th Grade
END:VEVENT
END:VCALENDAR
