BEGIN:VCALENDAR
VERSION:2.0
PRODID:icalendar-ruby
CALSCALE:GREGORIAN
BEGIN:VTIMEZONE
TZID:America/New_York
BEGIN:DAYLIGHT
DTSTART:20260308T030000
TZOFFSETFROM:-0500
TZOFFSETTO:-0400
RRULE:FREQ=YEARLY;BYDAY=2SU;BYMONTH=3
TZNAME:EDT
END:DAYLIGHT
BEGIN:STANDARD
DTSTART:20261101T010000
TZOFFSETFROM:-0400
TZOFFSETTO:-0500
RRULE:FREQ=YEARLY;BYDAY=1SU;BYMONTH=11
TZNAME:EST
END:STANDARD
END:VTIMEZONE
BEGIN:VEVENT
DTSTAMP:20260425T141058Z
UID:7609af6a-82be-4653-9fa0-5768e6f63531
DTSTART:20260428T103000
DTEND:20260428T122500
DESCRIPTION:
LOCATION:
SUMMARY:HIgh School Scholar Recess Visit
END:VEVENT
BEGIN:VEVENT
DTSTAMP:20260425T141058Z
UID:5cf955db-df58-4bcf-b0ae-795c0a73167c
DTSTART:20260428T170000
DTEND:20260428T183000
DESCRIPTION:
LOCATION:
SUMMARY:Playground Night
END:VEVENT
BEGIN:VEVENT
DTSTAMP:20260425T141058Z
UID:34b17e21-f27c-4805-bba1-ca3475189318
DTSTART;VALUE=DATE:20260429
DTEND;VALUE=DATE:20260430
DESCRIPTION:
LOCATION:
SUMMARY:Burnett - Wildflower garden
END:VEVENT
BEGIN:VEVENT
DTSTAMP:20260425T141058Z
UID:58ce5d5f-4ee2-4a47-a017-289fbe5dd518
DTSTART;VALUE=DATE:20260430
DTEND;VALUE=DATE:20260501
DESCRIPTION:
LOCATION:
SUMMARY:5th grade -Jerry Craft Author visit - Kulp 
END:VEVENT
BEGIN:VEVENT
DTSTAMP:20260425T141058Z
UID:3879a2b2-e1a3-4549-bf3b-b9ec3b4e0c72
DTSTART:20260430T173000
DTEND:20260430T190000
DESCRIPTION:
LOCATION:Beverly J. Martin Elementary School GYM
SUMMARY:Roller-Skating Night
END:VEVENT
BEGIN:VEVENT
DTSTAMP:20260425T141058Z
UID:2c0d8c9f-a289-464e-83d7-3519e489cb34
DTSTART;VALUE=DATE:20260505
DTEND;VALUE=DATE:20260506
DESCRIPTION:
LOCATION:
SUMMARY:Summerlin - Wildflower Garden
END:VEVENT
BEGIN:VEVENT
DTSTAMP:20260425T141058Z
UID:c08dc399-74ac-45c5-a5e2-6c38873514fd
DTSTART;VALUE=DATE:20260507
DTEND;VALUE=DATE:20260508
DESCRIPTION:
LOCATION:
SUMMARY:McClinitic - Ithaca Childrens Garden (KDT)
END:VEVENT
BEGIN:VEVENT
DTSTAMP:20260425T141058Z
UID:50591054-b467-41fe-8f7e-c5ec5cc8b10c
DTSTART;VALUE=DATE:20260508
DTEND;VALUE=DATE:20260509
DESCRIPTION:
LOCATION:
SUMMARY:Eight Square Schoolhouse - Farley
END:VEVENT
BEGIN:VEVENT
DTSTAMP:20260425T141058Z
UID:730c60e1-4052-4925-a8f4-bf19eb50c0c5
DTSTART;VALUE=DATE:20260511
DTEND;VALUE=DATE:20260512
DESCRIPTION:
LOCATION:
SUMMARY:Eight Square Schoolhouse - Herr
END:VEVENT
BEGIN:VEVENT
DTSTAMP:20260425T141058Z
UID:53a87903-3c07-425d-b445-f7fcbaf58108
DTSTART;VALUE=DATE:20260514
DTEND;VALUE=DATE:20260515
DESCRIPTION:
LOCATION:
SUMMARY:Daisy Hollow Farm visiting school
END:VEVENT
BEGIN:VEVENT
DTSTAMP:20260425T141058Z
UID:922468d7-d14d-49fe-81ca-e41e96f2d684
DTSTART;VALUE=DATE:20260514
DTEND;VALUE=DATE:20260515
DESCRIPTION:
LOCATION:
SUMMARY:Hopkins/Kroog Johnson Art Museum
END:VEVENT
BEGIN:VEVENT
DTSTAMP:20260425T141058Z
UID:c326e8cc-a508-4063-bacb-bf53ca2dcfae
DTSTART:20260515T111500
DTEND:20260515T120000
DESCRIPTION:
LOCATION:
SUMMARY:Graham - community service
END:VEVENT
BEGIN:VEVENT
DTSTAMP:20260425T141058Z
UID:ad3055d6-8cda-4e6c-b831-09e3159ac780
DTSTART:20260518T000000
DTEND:20260518T003000
DESCRIPTION:
LOCATION:
SUMMARY:Graham- Lab of Ornithology 
END:VEVENT
BEGIN:VEVENT
DTSTAMP:20260425T141058Z
UID:b075fa2e-928a-407a-a8d6-d18d6e229c59
DTSTART;VALUE=DATE:20260519
DTEND;VALUE=DATE:20260520
DESCRIPTION:
LOCATION:
SUMMARY:McClintic- State of the Art
END:VEVENT
BEGIN:VEVENT
DTSTAMP:20260425T141058Z
UID:2158ea72-c1d5-4533-8f63-1ad5a1d4aecf
DTSTART:20260520T131500
DTEND:20260520T134500
DESCRIPTION:
LOCATION:
SUMMARY:prek-2 music concert
END:VEVENT
BEGIN:VEVENT
DTSTAMP:20260425T141058Z
UID:4683f330-7d75-43df-9946-d5915b6a4cdc
DTSTART;VALUE=DATE:20260521
DTEND;VALUE=DATE:20260522
DESCRIPTION:
LOCATION:
SUMMARY:McClintic - Tompkins Public Library (KDT)
END:VEVENT
BEGIN:VEVENT
DTSTAMP:20260425T141058Z
UID:bf72a2f1-f2a3-4d02-9958-1ffbc3c2f5fc
DTSTART;VALUE=DATE:20260521
DTEND;VALUE=DATE:20260522
DESCRIPTION:
LOCATION:
SUMMARY:Roberts- Lab of Ornithology
END:VEVENT
BEGIN:VEVENT
DTSTAMP:20260425T141058Z
UID:0f024249-e6ed-4e6c-b647-3cdafa59562d
DTSTART:20260522T090000
DTEND:20260522T114500
DESCRIPTION:
LOCATION:
SUMMARY:5th grade- Boynton MS
END:VEVENT
BEGIN:VEVENT
DTSTAMP:20260425T141058Z
UID:4fec1a98-8603-4f1b-b79f-4c3c8d69ea56
DTSTART;VALUE=DATE:20260525
DTEND;VALUE=DATE:20260526
DESCRIPTION:No school
LOCATION:
SUMMARY:Memorial Day Recess
END:VEVENT
BEGIN:VEVENT
DTSTAMP:20260425T141058Z
UID:54c61e67-5eaf-4940-a5d7-fed842f5d46a
DTSTART:20260529T083000
DTEND:20260529T090000
DESCRIPTION:
LOCATION:
SUMMARY:Last Learning Celebration of 25-26 
END:VEVENT
BEGIN:VEVENT
DTSTAMP:20260425T141058Z
UID:8117aab0-e160-4496-bc74-372f0ce824d8
DTSTART;VALUE=DATE:20260604
DTEND;VALUE=DATE:20260605
DESCRIPTION:
LOCATION:
SUMMARY:Kindergarten registration
END:VEVENT
BEGIN:VEVENT
DTSTAMP:20260425T141058Z
UID:81583e68-91db-4102-ab50-80ba29281f2b
DTSTART;VALUE=DATE:20260609
DTEND;VALUE=DATE:20260610
DESCRIPTION:
LOCATION:
SUMMARY:3rd Grade- State of the Art Gallery
END:VEVENT
BEGIN:VEVENT
DTSTAMP:20260425T141058Z
UID:9c2dbb94-70cc-4277-8d90-b7f9b2d3603d
DTSTART;VALUE=DATE:20260618
DTEND;VALUE=DATE:20260619
DESCRIPTION:I am adding a professional activies absence for all of you and 
 requesting subs for all but Graham and Roberts.
LOCATION:
SUMMARY:5th grade trip
END:VEVENT
BEGIN:VEVENT
DTSTAMP:20260425T141058Z
UID:4e8fc666-d6bb-4f67-9b9c-6ea0756ee568
DTSTART;VALUE=DATE:20260619
DTEND;VALUE=DATE:20260620
DESCRIPTION:No school
LOCATION:
SUMMARY:Juneteenth Recess
END:VEVENT
BEGIN:VEVENT
DTSTAMP:20260425T141058Z
UID:ad101b98-7b6c-422b-a384-9f760f68278d
DTSTART;VALUE=DATE:20260623
DTEND;VALUE=DATE:20260624
DESCRIPTION:
LOCATION:
SUMMARY:Field Day
END:VEVENT
BEGIN:VEVENT
DTSTAMP:20260425T141058Z
UID:4e397916-4236-4114-a83b-5b836472a5bc
DTSTART;VALUE=DATE:20260624
DTEND;VALUE=DATE:20260625
DESCRIPTION:
LOCATION:
SUMMARY:Pool Day
END:VEVENT
BEGIN:VEVENT
DTSTAMP:20260425T141058Z
UID:a877bab1-3dc5-4a79-9ee2-2ab74413c01e
DTSTART;VALUE=DATE:20260625
DTEND;VALUE=DATE:20260626
DESCRIPTION:
LOCATION:
SUMMARY:Last Day for Students
END:VEVENT
BEGIN:VEVENT
DTSTAMP:20260425T141058Z
UID:c98dacde-0b2b-43fc-838a-c539145d5ea2
DTSTART:20260625T120000
DTEND:20260625T133000
DESCRIPTION:
LOCATION:
SUMMARY:5TH GRADE MOVING UP CEREMONY
END:VEVENT
BEGIN:VEVENT
DTSTAMP:20260425T141058Z
UID:9c7003d2-0d25-4bb0-9ac9-cfc73762a155
DTSTART;VALUE=DATE:20260626
DTEND;VALUE=DATE:20260627
DESCRIPTION:
LOCATION:
SUMMARY:Last Day for Staff
END:VEVENT
BEGIN:VEVENT
DTSTAMP:20260425T141058Z
UID:89186bad-a607-4cff-bc14-add087431d64
DTSTART;VALUE=DATE:20260720
DTEND;VALUE=DATE:20260731
DESCRIPTION:
LOCATION:
SUMMARY:Gym closed for refinishing
END:VEVENT
BEGIN:VEVENT
DTSTAMP:20260425T141058Z
UID:fbb88ec3-cf74-4dab-9d5d-163eb9605001
DTSTART:20260810T080000
DTEND:20260810T120000
DESCRIPTION:
LOCATION:
SUMMARY:MLL Screening
END:VEVENT
BEGIN:VEVENT
DTSTAMP:20260425T141058Z
UID:db6660e4-8f27-480c-bf15-aff1278b2556
DTSTART:20260811T080000
DTEND:20260811T120000
DESCRIPTION:
LOCATION:
SUMMARY:MLL Screening
END:VEVENT
END:VCALENDAR
