BEGIN:VCALENDAR
VERSION:2.0
PRODID:icalendar-ruby
CALSCALE:GREGORIAN
BEGIN:VTIMEZONE
TZID:America/New_York
BEGIN:DAYLIGHT
DTSTART:20260308T030000
TZOFFSETFROM:-0500
TZOFFSETTO:-0400
RRULE:FREQ=YEARLY;BYDAY=2SU;BYMONTH=3
TZNAME:EDT
END:DAYLIGHT
BEGIN:STANDARD
DTSTART:20261101T010000
TZOFFSETFROM:-0400
TZOFFSETTO:-0500
RRULE:FREQ=YEARLY;BYDAY=1SU;BYMONTH=11
TZNAME:EST
END:STANDARD
END:VTIMEZONE
BEGIN:VEVENT
DTSTAMP:20260423T160107Z
UID:3a8a3399-4489-4a2f-8fd3-92ad31bbd1de
DTSTART;VALUE=DATE:20260525
DTEND;VALUE=DATE:20260526
DESCRIPTION:No school
LOCATION:
SUMMARY:Memorial Day Recess
END:VEVENT
BEGIN:VEVENT
DTSTAMP:20260423T160107Z
UID:36067c0d-e3ae-4d79-9675-7c83a5553265
DTSTART:20260618T174500
DTEND:20260618T184500
DESCRIPTION:
LOCATION:
SUMMARY:5th Grade Moving Up Ceremony
END:VEVENT
BEGIN:VEVENT
DTSTAMP:20260423T160107Z
UID:b57048f8-0ea2-46a6-8c7b-fbbf884846c7
DTSTART;VALUE=DATE:20260619
DTEND;VALUE=DATE:20260620
DESCRIPTION:No school
LOCATION:
SUMMARY:Juneteenth Recess
END:VEVENT
BEGIN:VEVENT
DTSTAMP:20260423T160107Z
UID:880b29fc-64ab-4705-a29f-2f5642819e58
DTSTART;VALUE=DATE:20260625
DTEND;VALUE=DATE:20260626
DESCRIPTION:
LOCATION:
SUMMARY:Last Day for Students
END:VEVENT
BEGIN:VEVENT
DTSTAMP:20260423T160107Z
UID:64450297-02c5-4fe0-9dc8-c97e1e601cd0
DTSTART;VALUE=DATE:20260626
DTEND;VALUE=DATE:20260627
DESCRIPTION:
LOCATION:
SUMMARY:Last Day for Staff
END:VEVENT
END:VCALENDAR
