BEGIN:VCALENDAR
VERSION:2.0
PRODID:icalendar-ruby
CALSCALE:GREGORIAN
BEGIN:VTIMEZONE
TZID:America/Chicago
BEGIN:DAYLIGHT
DTSTART:20260308T030000
TZOFFSETFROM:-0600
TZOFFSETTO:-0500
RRULE:FREQ=YEARLY;BYDAY=2SU;BYMONTH=3
TZNAME:CDT
END:DAYLIGHT
BEGIN:STANDARD
DTSTART:20261101T010000
TZOFFSETFROM:-0500
TZOFFSETTO:-0600
RRULE:FREQ=YEARLY;BYDAY=1SU;BYMONTH=11
TZNAME:CST
END:STANDARD
END:VTIMEZONE
BEGIN:VEVENT
DTSTAMP:20260424T171102Z
UID:d5027bde-7616-4701-87f4-46a10e6c43e7
DTSTART:20260424T000000
DTEND:20260424T000000
DESCRIPTION:
LOCATION:Chase County High School
SUMMARY:District Music  (Home)
END:VEVENT
BEGIN:VEVENT
DTSTAMP:20260424T171102Z
UID:49c126b0-db17-4fda-8770-9484879dbb55
DTSTART:20260424T120000
DTEND:20260424T120000
DESCRIPTION:Type: Invitational  Opponent: Lexington\, Anselmo-Merna\, Axtel
 l Public\, Gothenburg\, Elwood/Eustis-Farnam Coop\, McCook\, North Platte\
 , Ogallala High School\, Overton\, Sidney\, Alma\, Amherst\, Bertrand\, Du
 ndy County Stratton\, Elm Creek\, Kearney Bearcats\, Kearney Catholic\, Ma
 xwell\, Medicine Valley\, Ravenna Public\, Southern Valley Schools\, Stand
 ing Bear\, Wilcox-Hildreth  Comments: Only a few will go to this meet
LOCATION:Ray Ehlers Stadium Lexington Memorial Field Lexington\, NE  
SUMMARY:Boys & Girls Track: Varsity  vs. Lexington\, Anselmo-Merna\, Axtell
  Public\, Gothenburg\, Elwood/Eustis-Farnam Coop\, McCook\, North Platte\,
  Ogallala High School\, Overton\, Sidney\, Alma\, Amherst\, Bertrand\, Dun
 dy County Stratton\, Elm Creek\, Kearney Bearcats\, Kearney Catholic\, Max
 well\, Medicine Valley\, Ravenna Public\, Southern Valley Schools\, Standi
 ng Bear\, Wilcox-Hildreth (Away)
END:VEVENT
BEGIN:VEVENT
DTSTAMP:20260424T171102Z
UID:2201cf97-4143-4bb8-86b9-58884d0e0218
DTSTART:20260425T000000
DTEND:20260425T000000
DESCRIPTION:Comments: NAHS Field Trip
LOCATION:Lincoln
SUMMARY:Field Trip  (Home)
END:VEVENT
BEGIN:VEVENT
DTSTAMP:20260424T171102Z
UID:77c4eddf-6dd0-4c21-a68b-f95028f718df
DTSTART:20260427T183000
DTEND:20260427T183000
DESCRIPTION:
LOCATION:Ella Missing Building
SUMMARY:Athletic Banquet  (Home)
END:VEVENT
BEGIN:VEVENT
DTSTAMP:20260424T171102Z
UID:c15d30d8-e3b9-423b-88aa-26ae9ea8c369
DTSTART:20260428T090000
DTEND:20260428T090000
DESCRIPTION:Type: Invitational  Opponent: Kearney Catholic\, Adams Central 
 Junior-Senior\, Amherst\, Bertrand\, Centura\, Elm Creek\, Gibbon\, Hastin
 gs Catholic Schools\, Hershey\, Loomis Public Schools\, North Platte St. P
 at's\, Ord\, Ravenna\, St. Paul\, Wood River  
LOCATION:Meadowlark Hills Golf Course  
SUMMARY:Golf: Boys Varsity  vs. Kearney Catholic\, Adams Central Junior-Sen
 ior\, Amherst\, Bertrand\, Centura\, Elm Creek\, Gibbon\, Hastings Catholi
 c Schools\, Hershey\, Loomis Public Schools\, North Platte St. Pat's\, Ord
 \, Ravenna\, St. Paul\, Wood River (Away)
END:VEVENT
BEGIN:VEVENT
DTSTAMP:20260424T171102Z
UID:c917880b-e851-46b1-865d-99d5627a5da2
DTSTART:20260428T100000
DTEND:20260428T100000
DESCRIPTION:Type: Invitational  Opponent: Bertrand\, Alma\, Cambridge\, Hi-
 Line Bulls Co-Op\, Loomis Public Schools\, Maywood-Hayes Center\, Medicine
  Valley\, Overton\, Southern Valley Schools\, Southwest\, Zion Lutheran  
LOCATION:Bertrand High School  
SUMMARY:Boys & Girls Track: Junior High  vs. Bertrand\, Alma\, Cambridge\, 
 Hi-Line Bulls Co-Op\, Loomis Public Schools\, Maywood-Hayes Center\, Medic
 ine Valley\, Overton\, Southern Valley Schools\, Southwest\, Zion Lutheran
  (Away)
END:VEVENT
BEGIN:VEVENT
DTSTAMP:20260424T171102Z
UID:75314ee9-d56a-4574-8478-7fdc35a78397
DTSTART:20260428T143000
DTEND:20260428T143000
DESCRIPTION:Type: Meet  Opponent: Alma\, Axtell Public\, Bertrand\, Cambrid
 ge\, Elm Creek\, Franklin\, Hitchcock County High School\, Loomis Public S
 chools\, Northern Valley\, Southern Valley Schools\, Wilcox-Hildreth  
LOCATION:Alma Municipal Golf Course  
SUMMARY:Golf: Boys JV  vs. Alma\, Axtell Public\, Bertrand\, Cambridge\, El
 m Creek\, Franklin\, Hitchcock County High School\, Loomis Public Schools\
 , Northern Valley\, Southern Valley Schools\, Wilcox-Hildreth (Away)
END:VEVENT
BEGIN:VEVENT
DTSTAMP:20260424T171102Z
UID:2e27cf9c-a208-4259-9c71-ec75711e5a72
DTSTART:20260429T000000
DTEND:20260429T000000
DESCRIPTION:Comments: at Arapahoe Public Library
LOCATION:
SUMMARY:Battle of the Books  (Home)
END:VEVENT
BEGIN:VEVENT
DTSTAMP:20260424T171102Z
UID:4255aed1-5099-437b-abd1-e9f25e80d0e7
DTSTART:20260429T070000
DTEND:20260429T070000
DESCRIPTION:
LOCATION:Arapahoe Public Schools
SUMMARY:FCCLA Installation  (Home)
END:VEVENT
BEGIN:VEVENT
DTSTAMP:20260424T171102Z
UID:94c9fd33-b1a9-4ebe-b5ec-732e8acaab7c
DTSTART:20260429T110000
DTEND:20260429T110000
DESCRIPTION:
LOCATION:McCook
SUMMARY:RPAC Principal/AD Meeting  (Home)
END:VEVENT
BEGIN:VEVENT
DTSTAMP:20260424T171102Z
UID:6b7c721e-4575-412f-9cfe-3e8d3d55eca4
DTSTART:20260430T100000
DTEND:20260430T100000
DESCRIPTION:Type: RPAC Tournament/Meet  Opponent: Medicine Valley  
LOCATION:
SUMMARY:Golf: Boys Varsity  vs. Medicine Valley (Away)
END:VEVENT
BEGIN:VEVENT
DTSTAMP:20260424T171102Z
UID:55c4f352-ecf4-4670-8f7e-ffc87ad43822
DTSTART:20260430T190000
DTEND:20260430T190000
DESCRIPTION:
LOCATION:Arapahoe Public Schools
SUMMARY:K-4th Spring Concert  (Home)
END:VEVENT
BEGIN:VEVENT
DTSTAMP:20260424T171102Z
UID:fd90b62f-3b64-4a21-95a6-308aa02132df
DTSTART:20260501T103000
DTEND:20260501T103000
DESCRIPTION:Type: RPAC Tournament/Meet  Opponent: Cambridge\, Alma\, Bertra
 nd\, Dundy County Stratton\, Hi-Line Bulls Co-Op\, Hitchcock County High S
 chool\, Maxwell\, Maywood-Hayes Center\, Medicine Valley\, Paxton\, Southe
 rn Valley Schools\, Southwest Public Schools\, Sutherland\, Wallace Public
  School\, Wauneta-Palisade  
LOCATION:Cambridge High School  
SUMMARY:Boys & Girls Track: Varsity  vs. Cambridge\, Alma\, Bertrand\, Dund
 y County Stratton\, Hi-Line Bulls Co-Op\, Hitchcock County High School\, M
 axwell\, Maywood-Hayes Center\, Medicine Valley\, Paxton\, Southern Valley
  Schools\, Southwest Public Schools\, Sutherland\, Wallace Public School\,
  Wauneta-Palisade (Away)
END:VEVENT
BEGIN:VEVENT
DTSTAMP:20260424T171102Z
UID:95fb1fcb-7deb-4d1e-841f-94660ae48c57
DTSTART:20260504T100000
DTEND:20260504T100000
DESCRIPTION:Type: RPAC Tournament/Meet  Opponent: Medicine Valley  Comments
 : Rain Date
LOCATION:
SUMMARY:Golf: Boys Varsity  vs. Medicine Valley (Away)
END:VEVENT
BEGIN:VEVENT
DTSTAMP:20260424T171102Z
UID:88c58af7-f82a-46ad-a45b-c6392f55fa51
DTSTART:20260504T103000
DTEND:20260504T103000
DESCRIPTION:Type: RPAC Tournament/Meet  Opponent: Cambridge  Comments: Rain
  Date
LOCATION:Cambridge High School  
SUMMARY:Boys & Girls Track: Varsity  vs. Cambridge (Away)
END:VEVENT
BEGIN:VEVENT
DTSTAMP:20260424T171102Z
UID:5bb64be7-a071-47b0-a5d7-902658b9a5c6
DTSTART:20260505T130000
DTEND:20260505T130000
DESCRIPTION:Type: Meet  Opponent: Cambridge\, Alma\, Bertrand\, Dundy Count
 y Stratton\, Hi-Line Bulls Co-Op\, Hitchcock County High School\, Maxwell\
 , Southern Valley Schools\, Southwest Public Schools  
LOCATION:Cambridge Public School  
SUMMARY:Boys & Girls Track: Junior High  vs. Cambridge\, Alma\, Bertrand\, 
 Dundy County Stratton\, Hi-Line Bulls Co-Op\, Hitchcock County High School
 \, Maxwell\, Southern Valley Schools\, Southwest Public Schools (Away)
END:VEVENT
BEGIN:VEVENT
DTSTAMP:20260424T171102Z
UID:1af737b1-d9eb-4a1d-8de1-966ef0d46bca
DTSTART:20260505T150000
DTEND:20260505T150000
DESCRIPTION:Type: Best Of The Midwest  Opponent: Sutherland  
LOCATION:Sutherland High School  
SUMMARY:Boys & Girls Track: Varsity  vs. Sutherland (Away)
END:VEVENT
BEGIN:VEVENT
DTSTAMP:20260424T171102Z
UID:a88a2504-97ca-4ad7-a32f-69cf7b3b72a9
DTSTART:20260506T000000
DTEND:20260506T000000
DESCRIPTION:
LOCATION:Arapahoe Public Schools
SUMMARY:7th-12th Student Assistance Team Meetings  (Home)
END:VEVENT
BEGIN:VEVENT
DTSTAMP:20260424T171102Z
UID:cc439f72-e0aa-4c32-80d5-d9532f3df305
DTSTART:20260506T133000
DTEND:20260506T133000
DESCRIPTION:Comments: For Grades 7th-12th
LOCATION:North Gym (Old Gym)
SUMMARY:Academic Awards Assembly  (Home)
END:VEVENT
BEGIN:VEVENT
DTSTAMP:20260424T171102Z
UID:e035fe51-81ec-4344-b90f-2e36be776616
DTSTART:20260507T090000
DTEND:20260507T090000
DESCRIPTION:Type: Tournament  Opponent: Southern Valley Schools\, Alma\, Ax
 tell Public\, Bertrand\, Holdrege\, McCook\, Northern Valley  
LOCATION:Cardinal Country Club (Oxford\, NE)  
SUMMARY:Golf: Boys Varsity  vs. Southern Valley Schools\, Alma\, Axtell Pub
 lic\, Bertrand\, Holdrege\, McCook\, Northern Valley (Away)
END:VEVENT
BEGIN:VEVENT
DTSTAMP:20260424T171102Z
UID:20853303-2253-483c-8edd-3251fd745449
DTSTART:20260507T100000
DTEND:20260507T100000
DESCRIPTION:Type: Meet  Opponent: Alma\, Bertrand\, Cambridge\, Franklin\, 
 Hi-Line Bulls Co-Op\, Medicine Valley\, Red Cloud Schools\, Southern Valle
 y Schools\, Southwest\, Wilcox-Hildreth  
LOCATION:Alma High School  
SUMMARY:Boys & Girls Track: Varsity  vs. Alma\, Bertrand\, Cambridge\, Fran
 klin\, Hi-Line Bulls Co-Op\, Medicine Valley\, Red Cloud Schools\, Souther
 n Valley Schools\, Southwest\, Wilcox-Hildreth (Away)
END:VEVENT
BEGIN:VEVENT
DTSTAMP:20260424T171102Z
UID:2ab2a705-b7bd-4fa2-af4f-14bc5af331ff
DTSTART:20260507T142000
DTEND:20260507T153000
DESCRIPTION:
LOCATION:Arapahoe Public Schools
SUMMARY:Kindergarten Kamp  (Home)
END:VEVENT
BEGIN:VEVENT
DTSTAMP:20260424T171102Z
UID:9b5a0d62-12ac-4ca9-8cda-c2668d3f022d
DTSTART:20260508T000000
DTEND:20260508T000000
DESCRIPTION:Comments: For June 13 Test Date
LOCATION:
SUMMARY:Registration Deadline for ACT  (Home)
END:VEVENT
BEGIN:VEVENT
DTSTAMP:20260424T171102Z
UID:9df0f3fc-29de-4611-b910-872a34eb0fe3
DTSTART:20260508T000000
DTEND:20260508T000000
DESCRIPTION:
LOCATION:Lincoln
SUMMARY:Senior Sneak Field Trip  (Home)
END:VEVENT
BEGIN:VEVENT
DTSTAMP:20260424T171102Z
UID:73e493a9-97d9-4b4c-b2b0-b303f03671cf
DTSTART:20260508T130000
DTEND:20260508T143000
DESCRIPTION:
LOCATION:Arapahoe Public Schools
SUMMARY:Warrior Tribe Games  (Home)
END:VEVENT
BEGIN:VEVENT
DTSTAMP:20260424T171102Z
UID:1e0f1797-1d24-42ad-bf70-352c5a0ff422
DTSTART:20260511T130000
DTEND:20260511T130000
DESCRIPTION:Type: Meet  Opponent: Southern Valley Schools\, Alma\, Cambridg
 e\, Elm Creek\, Hi-Line Bulls Co-Op\, Loomis Public Schools  
LOCATION:Southern Valley High School  
SUMMARY:Boys & Girls Track: Junior High  vs. Southern Valley Schools\, Alma
 \, Cambridge\, Elm Creek\, Hi-Line Bulls Co-Op\, Loomis Public Schools (Aw
 ay)
END:VEVENT
BEGIN:VEVENT
DTSTAMP:20260424T171102Z
UID:120ab2c2-e20b-4b55-8b50-044303647521
DTSTART:20260511T190000
DTEND:20260511T190000
DESCRIPTION:
LOCATION:Arapahoe Public Schools
SUMMARY:Board Meeting  (Home)
END:VEVENT
BEGIN:VEVENT
DTSTAMP:20260424T171102Z
UID:0130955f-d5fa-414a-9b80-619c6f4288c6
DTSTART:20260512T000000
DTEND:20260512T000000
DESCRIPTION:
LOCATION:Arapahoe Public Schools
SUMMARY:Senior Semester Finals (Odd Periods)  (Home)
END:VEVENT
BEGIN:VEVENT
DTSTAMP:20260424T171102Z
UID:cc9f6519-ba1c-4965-9358-91ad96a64c81
DTSTART:20260512T000000
DTEND:20260512T000000
DESCRIPTION:Comments: Trails and Rails Museum in Kearney
LOCATION:Kearney
SUMMARY:Third Grade Field Trip  (Home)
END:VEVENT
BEGIN:VEVENT
DTSTAMP:20260424T171102Z
UID:fbd4ca53-6d6b-48d0-978c-3eb699a03f96
DTSTART:20260512T100000
DTEND:20260512T100000
DESCRIPTION:Type: Cattle Trail Tournament  Opponent: Medicine Valley\, Camb
 ridge\, Dundy County Stratton\, Hi-Line Bulls Co-Op\, Hitchcock County Hig
 h School\, Maywood-Hayes Center\, Southwest Public Schools\, Wallace Publi
 c School  
LOCATION:Arrowhead Meadows Golf Course  
SUMMARY:Golf: Boys Varsity  vs. Medicine Valley\, Cambridge\, Dundy County 
 Stratton\, Hi-Line Bulls Co-Op\, Hitchcock County High School\, Maywood-Ha
 yes Center\, Southwest Public Schools\, Wallace Public School (Away)
END:VEVENT
BEGIN:VEVENT
DTSTAMP:20260424T171102Z
UID:b6a303fe-3876-4f06-af62-f036e9aa8a44
DTSTART:20260513T000000
DTEND:20260513T000000
DESCRIPTION:
LOCATION:Arapahoe Public Schools
SUMMARY:Senior Semester Finals (Even Period)  (Home)
END:VEVENT
BEGIN:VEVENT
DTSTAMP:20260424T171102Z
UID:84ab48b6-ac86-4a45-a9dc-1bdf9be2afdf
DTSTART:20260513T000000
DTEND:20260513T000000
DESCRIPTION:
LOCATION:Arapahoe Public Schools
SUMMARY:Seniors Last Day  (Home)
END:VEVENT
BEGIN:VEVENT
DTSTAMP:20260424T171102Z
UID:1be78c6e-f4ff-4867-9ecc-5e3fbc44f149
DTSTART:20260513T000000
DTEND:20260513T000000
DESCRIPTION:Comments: Pioneer Village in Minden
LOCATION:Minden
SUMMARY:Sixth Grade Field Trip  (Home)
END:VEVENT
BEGIN:VEVENT
DTSTAMP:20260424T171102Z
UID:2d01ed1b-07b6-40d9-9969-e75cbeef8425
DTSTART:20260513T100000
DTEND:20260513T100000
DESCRIPTION:Type: District  Opponent: Southern Valley Schools  
LOCATION:Southern Valley High School  
SUMMARY:Boys & Girls Track: Varsity  vs. Southern Valley Schools (Away)
END:VEVENT
BEGIN:VEVENT
DTSTAMP:20260424T171102Z
UID:0ad09a9e-83c1-4db0-9fec-21a6e155d8a9
DTSTART:20260514T000000
DTEND:20260514T000000
DESCRIPTION:Comments: Kearney Children's Museum
LOCATION:Kearney
SUMMARY:Kindergarten Field Trip  (Home)
END:VEVENT
BEGIN:VEVENT
DTSTAMP:20260424T171102Z
UID:c6fc03f1-67b7-4ee2-9f0c-7b00b006bf0d
DTSTART:20260514T000000
DTEND:20260514T000000
DESCRIPTION:
LOCATION:Arapahoe Public Schools
SUMMARY:Last Day Of PK  (Home)
END:VEVENT
BEGIN:VEVENT
DTSTAMP:20260424T171102Z
UID:0ff3f3c1-ee1d-43ac-bcce-13d8ed3e43ee
DTSTART:20260514T000000
DTEND:20260514T000000
DESCRIPTION:
LOCATION:Arapahoe Public Schools
SUMMARY:PreK Promotion Program  (Home)
END:VEVENT
BEGIN:VEVENT
DTSTAMP:20260424T171102Z
UID:aa824e8a-0771-4677-be1b-3ce744fbf6c5
DTSTART:20260515T090000
DTEND:20260515T090000
DESCRIPTION:
LOCATION:Arapahoe Public Schools
SUMMARY:Graduation Practice  (Home)
END:VEVENT
BEGIN:VEVENT
DTSTAMP:20260424T171102Z
UID:85eb1f85-a88f-477f-8aea-ef5448646fd3
DTSTART:20260516T140000
DTEND:20260516T140000
DESCRIPTION:
LOCATION:Arapahoe Public Schools
SUMMARY:Graduation  (Home)
END:VEVENT
BEGIN:VEVENT
DTSTAMP:20260424T171102Z
UID:4a3443f8-33f6-4510-86de-1d9cabc98b5a
DTSTART:20260518T000000
DTEND:20260518T000000
DESCRIPTION:
LOCATION:Arapahoe Public Schools
SUMMARY:Semester Finals (HS ONLY) - Odd Periods  (Home)
END:VEVENT
BEGIN:VEVENT
DTSTAMP:20260424T171102Z
UID:2009ae3f-6a4a-4c60-9d86-5aac82605a37
DTSTART:20260518T090000
DTEND:20260518T101500
DESCRIPTION:
LOCATION:Arapahoe Public Schools
SUMMARY:Elementary Awards Day  (Home)
END:VEVENT
BEGIN:VEVENT
DTSTAMP:20260424T171102Z
UID:e84de31c-9ea5-4818-91a0-a8444572fc66
DTSTART:20260519T000000
DTEND:20260519T000000
DESCRIPTION:Comments: Edgerton Explorit Center in Aurora
LOCATION:Aurora
SUMMARY:Fifth Grade Field Trip  (Home)
END:VEVENT
BEGIN:VEVENT
DTSTAMP:20260424T171102Z
UID:5114753c-2cbe-4e8f-a787-a8d82f276154
DTSTART:20260519T000000
DTEND:20260519T000000
DESCRIPTION:Comments: Common Scents in McCook
LOCATION:McCook
SUMMARY:First Grade Field Trip  (Home)
END:VEVENT
BEGIN:VEVENT
DTSTAMP:20260424T171102Z
UID:a3ed2233-5a9f-4506-8356-d39a0119a17a
DTSTART:20260519T000000
DTEND:20260519T000000
DESCRIPTION:Comments: Edgerton Explorit Center in Aurora
LOCATION:Aurora
SUMMARY:Second Grade Field Trip  (Home)
END:VEVENT
BEGIN:VEVENT
DTSTAMP:20260424T171102Z
UID:65033fbe-2597-4404-8281-b54b78a9cc1f
DTSTART:20260519T000000
DTEND:20260519T000000
DESCRIPTION:
LOCATION:Arapahoe Public Schools
SUMMARY:Semester Finals (HS ONLY) - Even Periods  (Home)
END:VEVENT
BEGIN:VEVENT
DTSTAMP:20260424T171102Z
UID:81fb9b61-1b7d-49e7-b145-b83afc191ee3
DTSTART:20260520T000000
DTEND:20260520T000000
DESCRIPTION:
LOCATION:Arapahoe Public Schools
SUMMARY:2:30 pm Dismissal  (Home)
END:VEVENT
BEGIN:VEVENT
DTSTAMP:20260424T171102Z
UID:d50d0e5b-f69f-4e0a-bfa4-b14cb622d795
DTSTART:20260520T000000
DTEND:20260520T000000
DESCRIPTION:
LOCATION:Arapahoe Public Schools
SUMMARY:End of Quarter 4-Semester 2  (Home)
END:VEVENT
BEGIN:VEVENT
DTSTAMP:20260424T171102Z
UID:3a437567-e988-4133-993e-a7b28d378412
DTSTART:20260520T081500
DTEND:20260520T143000
DESCRIPTION:
LOCATION:Arapahoe Public Schools
SUMMARY:Elementary Field Day  (Home)
END:VEVENT
BEGIN:VEVENT
DTSTAMP:20260424T171102Z
UID:4e5de4e4-edd6-4cca-a572-03d9fb6e14d6
DTSTART:20260521T000000
DTEND:20260521T000000
DESCRIPTION:
LOCATION:Arapahoe Public Schools
SUMMARY:Teacher Work Day  (Home)
END:VEVENT
BEGIN:VEVENT
DTSTAMP:20260424T171102Z
UID:a98b032a-4e11-4b40-9afd-8efc4d70bd5d
DTSTART:20260522T000000
DTEND:20260522T000000
DESCRIPTION:Type: State  Opponent: TBA  
LOCATION:Burke High School  
SUMMARY:Boys & Girls Track: Varsity  vs. TBA (Away)
END:VEVENT
BEGIN:VEVENT
DTSTAMP:20260424T171102Z
UID:df1e121d-fff7-41e6-b650-04d1e1e5fc03
DTSTART:20260523T000000
DTEND:20260523T000000
DESCRIPTION:
LOCATION:Ella Missing Building
SUMMARY:Arapahoe Alumni Association Banquet  (Home)
END:VEVENT
BEGIN:VEVENT
DTSTAMP:20260424T171102Z
UID:3f8b5db6-c994-4fda-9e53-14ed8febd339
DTSTART:20260523T000000
DTEND:20260523T000000
DESCRIPTION:Type: State  Opponent: TBA  
LOCATION:Burke High School  
SUMMARY:Boys & Girls Track: Varsity  vs. TBA (Away)
END:VEVENT
BEGIN:VEVENT
DTSTAMP:20260424T171102Z
UID:fa61c3e5-ec5c-4cf2-ac2c-1b9f9baf9f0c
DTSTART:20260605T000000
DTEND:20260605T000000
DESCRIPTION:Comments: For July 11 Test Date
LOCATION:
SUMMARY:Registration Deadline for ACT  (Home)
END:VEVENT
BEGIN:VEVENT
DTSTAMP:20260424T171102Z
UID:67c90528-a8b4-4992-8662-9aef50cec045
DTSTART:20260608T190000
DTEND:20260608T190000
DESCRIPTION:
LOCATION:Arapahoe Public Schools
SUMMARY:Board Meeting  (Home)
END:VEVENT
BEGIN:VEVENT
DTSTAMP:20260424T171102Z
UID:8aad1a8a-9adf-4aca-a469-24b39d2294ee
DTSTART:20260613T000000
DTEND:20260613T000000
DESCRIPTION:
LOCATION:
SUMMARY:ACT TEST  (Home)
END:VEVENT
BEGIN:VEVENT
DTSTAMP:20260424T171102Z
UID:441d7e54-abc3-45e9-be66-572194edd545
DTSTART:20260630T000000
DTEND:20260630T000000
DESCRIPTION:
LOCATION:Kearney - UNK
SUMMARY:Elementary Leadership Conference  (Home)
END:VEVENT
END:VCALENDAR
