BEGIN:VCALENDAR
VERSION:2.0
PRODID:icalendar-ruby
CALSCALE:GREGORIAN
BEGIN:VTIMEZONE
TZID:America/New_York
BEGIN:DAYLIGHT
DTSTART:20260308T030000
TZOFFSETFROM:-0500
TZOFFSETTO:-0400
RRULE:FREQ=YEARLY;BYDAY=2SU;BYMONTH=3
TZNAME:EDT
END:DAYLIGHT
BEGIN:STANDARD
DTSTART:20261101T010000
TZOFFSETFROM:-0400
TZOFFSETTO:-0500
RRULE:FREQ=YEARLY;BYDAY=1SU;BYMONTH=11
TZNAME:EST
END:STANDARD
END:VTIMEZONE
BEGIN:VEVENT
DTSTAMP:20260420T041805Z
UID:e3670b0a-8712-4ccb-a63e-76899c446baf
DTSTART:20260428T180000
DTEND:20260428T190000
DESCRIPTION:<p>HCMS Chorus Concert - 6:00pm at HCMS</p>
LOCATION:1011 Middle School Cir\, South Boston\, VA 24592\, USA
SUMMARY:HCMS Chorus Concert 
END:VEVENT
BEGIN:VEVENT
DTSTAMP:20260420T041805Z
UID:d79f565a-7250-4f0c-9db3-2f31a13ad3f6
DTSTART:20260501T190000
DTEND:20260501T200000
DESCRIPTION:<p>HCMS Band Concert - at HCHS - 7:00pm</p>
LOCATION:High School Cir\, South Boston\, VA 24592\, USA
SUMMARY:HCMS Band Concert 
END:VEVENT
BEGIN:VEVENT
DTSTAMP:20260420T041805Z
UID:015743ce-285e-440d-91ec-9464b2b431ca
DTSTART:20260507T173000
DTEND:20260507T183000
DESCRIPTION:<p> HCMS FFA Awards Day - 5:30pm </p>
LOCATION:
SUMMARY: HCMS FFA Awards Day 
END:VEVENT
END:VCALENDAR
