BEGIN:VCALENDAR
VERSION:2.0
PRODID:icalendar-ruby
CALSCALE:GREGORIAN
BEGIN:VTIMEZONE
TZID:America/New_York
BEGIN:DAYLIGHT
DTSTART:20260308T030000
TZOFFSETFROM:-0500
TZOFFSETTO:-0400
RRULE:FREQ=YEARLY;BYDAY=2SU;BYMONTH=3
TZNAME:EDT
END:DAYLIGHT
BEGIN:STANDARD
DTSTART:20261101T010000
TZOFFSETFROM:-0400
TZOFFSETTO:-0500
RRULE:FREQ=YEARLY;BYDAY=1SU;BYMONTH=11
TZNAME:EST
END:STANDARD
END:VTIMEZONE
BEGIN:VEVENT
DTSTAMP:20260425T161505Z
UID:597a0a28-417a-4936-99ef-980b877f6c05
DTSTART:20260428T180000
DTEND:20260428T200000
DESCRIPTION:
LOCATION:801 N Hamilton St\, Williamston\, SC 29697\, USA
SUMMARY:Anderson School District One Board of Trustees Meeting
END:VEVENT
BEGIN:VEVENT
DTSTAMP:20260425T161505Z
UID:13e9a2ca-1f20-4352-8d60-0c38568d5b15
DTSTART:20260506T080000
DTEND:20260506T090000
DESCRIPTION:
LOCATION:
SUMMARY:SC Ready - Elementary
END:VEVENT
BEGIN:VEVENT
DTSTAMP:20260425T161505Z
UID:419d10cb-bb3d-448c-ab8e-7e262932f71b
DTSTART;VALUE=DATE:20260507
DTEND;VALUE=DATE:20260508
DESCRIPTION:
LOCATION:
SUMMARY:SC Ready - Elementary
END:VEVENT
BEGIN:VEVENT
DTSTAMP:20260425T161505Z
UID:d1ae4d9b-06f5-49f6-b630-74a0de80ec18
DTSTART:20260519T090000
DTEND:20260519T100000
DESCRIPTION:
LOCATION:219 Perimeter Rd\, Clemson\, SC 29634\, USA
SUMMARY:Palmetto High School Graduation
END:VEVENT
BEGIN:VEVENT
DTSTAMP:20260425T161505Z
UID:43a6e878-74f2-47da-9913-9332a28966cc
DTSTART:20260519T120000
DTEND:20260519T130000
DESCRIPTION:
LOCATION:219 Perimeter Rd\, Clemson\, SC 29634\, USA
SUMMARY:Wren High School Graduation
END:VEVENT
BEGIN:VEVENT
DTSTAMP:20260425T161505Z
UID:d7209c19-06ab-40cc-b443-9609a7148677
DTSTART:20260519T150000
DTEND:20260519T160000
DESCRIPTION:
LOCATION:219 Perimeter Rd\, Clemson\, SC 29634\, USA
SUMMARY:Powdersville High School Graduation
END:VEVENT
BEGIN:VEVENT
DTSTAMP:20260425T161505Z
UID:709517cb-6447-4cb4-a3a4-3ea254a701bd
DTSTART;VALUE=DATE:20260520
DTEND;VALUE=DATE:20260521
DESCRIPTION:
LOCATION:
SUMMARY:Early Dismissal Day
END:VEVENT
BEGIN:VEVENT
DTSTAMP:20260425T161505Z
UID:92db5fb9-9e50-44cf-94f2-76aeeaf71b20
DTSTART;VALUE=DATE:20260521
DTEND;VALUE=DATE:20260522
DESCRIPTION:
LOCATION:
SUMMARY:Early Dismissal Day
END:VEVENT
BEGIN:VEVENT
DTSTAMP:20260425T161505Z
UID:64398b19-1df6-4fa7-bf73-e5c29c504fa6
DTSTART;VALUE=DATE:20260521
DTEND;VALUE=DATE:20260522
DESCRIPTION:
LOCATION:
SUMMARY:End of 4th Nine Weeks
END:VEVENT
BEGIN:VEVENT
DTSTAMP:20260425T161505Z
UID:da12b60e-5db7-478a-aabe-c5aef9528299
DTSTART;VALUE=DATE:20260522
DTEND;VALUE=DATE:20260523
DESCRIPTION:
LOCATION:
SUMMARY:Professional Development Day
END:VEVENT
BEGIN:VEVENT
DTSTAMP:20260425T161505Z
UID:39d142c1-b0e3-4cb5-9214-3f1ef73374cd
DTSTART;VALUE=DATE:20260525
DTEND;VALUE=DATE:20260526
DESCRIPTION:
LOCATION:
SUMMARY:Memorial Day Holiday
END:VEVENT
BEGIN:VEVENT
DTSTAMP:20260425T161505Z
UID:d45a4517-a2fb-4f6e-91e5-5b8ab778126a
DTSTART;VALUE=DATE:20260526
DTEND;VALUE=DATE:20260529
DESCRIPTION:
LOCATION:
SUMMARY:Inclement Weather Make-up Day (If needed)
END:VEVENT
BEGIN:VEVENT
DTSTAMP:20260425T161505Z
UID:64b9b59d-064a-463d-b4b8-13c7845f9297
DTSTART:20260526T180000
DTEND:20260526T200000
DESCRIPTION:
LOCATION:801 N Hamilton St\, Williamston\, SC 29697\, USA
SUMMARY:Anderson School District One Board of Trustees Meeting
END:VEVENT
BEGIN:VEVENT
DTSTAMP:20260425T161505Z
UID:25510460-f7c1-4964-80cc-a5c496f252ab
DTSTART:20260630T180000
DTEND:20260630T200000
DESCRIPTION:
LOCATION:
SUMMARY:Anderson School District One Board of Trustees Meeting
END:VEVENT
END:VCALENDAR
