BEGIN:VCALENDAR
VERSION:2.0
PRODID:icalendar-ruby
CALSCALE:GREGORIAN
BEGIN:VTIMEZONE
TZID:America/Denver
BEGIN:DAYLIGHT
DTSTART:20260308T030000
TZOFFSETFROM:-0700
TZOFFSETTO:-0600
RRULE:FREQ=YEARLY;BYDAY=2SU;BYMONTH=3
TZNAME:MDT
END:DAYLIGHT
BEGIN:STANDARD
DTSTART:20261101T010000
TZOFFSETFROM:-0600
TZOFFSETTO:-0700
RRULE:FREQ=YEARLY;BYDAY=1SU;BYMONTH=11
TZNAME:MST
END:STANDARD
END:VTIMEZONE
BEGIN:VEVENT
DTSTAMP:20260425T230214Z
UID:714504f1-ba22-49cc-b317-7600778a355c
DTSTART:20260408T080000
DTEND:20260429T170000
DESCRIPTION:
LOCATION:
SUMMARY:NM-MSSA (DES)
END:VEVENT
BEGIN:VEVENT
DTSTAMP:20260425T230214Z
UID:95f5900a-6d72-423b-a88d-967f951ff0b6
DTSTART:20260416T080000
DTEND:20260429T170000
DESCRIPTION:
LOCATION:
SUMMARY:AMIRA EOY @ DES/DMS
END:VEVENT
BEGIN:VEVENT
DTSTAMP:20260425T230214Z
UID:3f14de95-9425-4383-8ede-e6f0b397ac05
DTSTART:20260420T080000
DTEND:20260430T170000
DESCRIPTION:
LOCATION:
SUMMARY:EOY @ DMS
END:VEVENT
BEGIN:VEVENT
DTSTAMP:20260425T230214Z
UID:99c5bbff-1036-4a19-8d7b-eda9a83c9825
DTSTART:20260421T080000
DTEND:20260429T170000
DESCRIPTION:
LOCATION:
SUMMARY:ASR @ DES
END:VEVENT
BEGIN:VEVENT
DTSTAMP:20260425T230214Z
UID:9974422a-5c23-4e41-9cf2-420d92b5650f
DTSTART:20260427T080000
DTEND:20260429T170000
DESCRIPTION:
LOCATION:
SUMMARY:NWE MAKEUPS
END:VEVENT
BEGIN:VEVENT
DTSTAMP:20260425T230214Z
UID:a935ab58-c6c4-43de-9db1-5facddb1fe46
DTSTART:20260430T163000
DTEND:20260430T193000
DESCRIPTION:
LOCATION:
SUMMARY:Poetry Night @ DHS
END:VEVENT
BEGIN:VEVENT
DTSTAMP:20260425T230214Z
UID:b961234c-a348-4b55-bbee-f4989120536f
DTSTART:20260513T080000
DTEND:20260513T090000
DESCRIPTION:
LOCATION:
SUMMARY:DES Field Day
END:VEVENT
BEGIN:VEVENT
DTSTAMP:20260425T230214Z
UID:5827e510-b64d-415e-bc6e-aacfa3259082
DTSTART:20260516T100000
DTEND:20260516T120000
DESCRIPTION:
LOCATION:
SUMMARY:Graduation
END:VEVENT
BEGIN:VEVENT
DTSTAMP:20260425T230214Z
UID:a2666312-bc85-4e39-8376-d2076f0f2c15
DTSTART:20260520T080000
DTEND:20260520T090000
DESCRIPTION:
LOCATION:
SUMMARY:DES Celebration\, Recognition\, & Awards Assembly
END:VEVENT
BEGIN:VEVENT
DTSTAMP:20260425T230214Z
UID:d5da237d-2981-4ae7-90be-25472dc9ca84
DTSTART:20260522T080000
DTEND:20260522T160000
DESCRIPTION:
LOCATION:
SUMMARY:Last Day of School for all/ End of Qtr 4
END:VEVENT
BEGIN:VEVENT
DTSTAMP:20260425T230214Z
UID:f4b3a1f9-d668-4285-9ab6-a53cb041ce28
DTSTART:20260525T080000
DTEND:20260525T170000
DESCRIPTION:
LOCATION:
SUMMARY:Memorial Day
END:VEVENT
END:VCALENDAR
