BEGIN:VCALENDAR
VERSION:2.0
PRODID:icalendar-ruby
CALSCALE:GREGORIAN
BEGIN:VTIMEZONE
TZID:America/New_York
BEGIN:DAYLIGHT
DTSTART:20260308T030000
TZOFFSETFROM:-0500
TZOFFSETTO:-0400
RRULE:FREQ=YEARLY;BYDAY=2SU;BYMONTH=3
TZNAME:EDT
END:DAYLIGHT
BEGIN:STANDARD
DTSTART:20261101T010000
TZOFFSETFROM:-0400
TZOFFSETTO:-0500
RRULE:FREQ=YEARLY;BYDAY=1SU;BYMONTH=11
TZNAME:EST
END:STANDARD
END:VTIMEZONE
BEGIN:VEVENT
DTSTAMP:20260419T200032Z
UID:e4e15692-38d4-4223-a91c-8b25e88dbb98
DTSTART:20260505T183000
DTEND:20260505T193000
DESCRIPTION:
LOCATION:
SUMMARY:Finance Committee
END:VEVENT
BEGIN:VEVENT
DTSTAMP:20260419T200032Z
UID:d390a8f2-2990-4946-903d-9abe98ce6908
DTSTART:20260511T180000
DTEND:20260511T190000
DESCRIPTION:
LOCATION:
SUMMARY:Academic Committee
END:VEVENT
BEGIN:VEVENT
DTSTAMP:20260419T200032Z
UID:55d289a6-d622-424f-b427-c0044bac5fb0
DTSTART:20260511T190000
DTEND:20260511T200000
DESCRIPTION:
LOCATION:
SUMMARY:Policy Committee
END:VEVENT
BEGIN:VEVENT
DTSTAMP:20260419T200032Z
UID:12779e83-6d81-4b8c-b653-c76874518acf
DTSTART:20260514T180000
DTEND:20260514T190000
DESCRIPTION:
LOCATION:
SUMMARY:Long Range Planning Committee
END:VEVENT
BEGIN:VEVENT
DTSTAMP:20260419T200032Z
UID:6145ad3e-739a-4e76-96f0-10bd3bcf0a7b
DTSTART:20260514T190000
DTEND:20260514T200000
DESCRIPTION:
LOCATION:
SUMMARY:Board of Education Regular Meeting
END:VEVENT
BEGIN:VEVENT
DTSTAMP:20260419T200032Z
UID:70190d56-0e69-4b07-b6c6-14e60b6fcf44
DTSTART:20260602T183000
DTEND:20260602T193000
DESCRIPTION:
LOCATION:
SUMMARY:Finance Committee
END:VEVENT
BEGIN:VEVENT
DTSTAMP:20260419T200032Z
UID:c27f42c8-4c45-4fd9-b2d5-0b1d66afee46
DTSTART:20260608T180000
DTEND:20260608T190000
DESCRIPTION:
LOCATION:
SUMMARY:Academic Committee
END:VEVENT
BEGIN:VEVENT
DTSTAMP:20260419T200032Z
UID:1087fcc4-5273-48f8-9ff4-c32bf7561556
DTSTART:20260608T190000
DTEND:20260608T200000
DESCRIPTION:
LOCATION:
SUMMARY:Policy Committee
END:VEVENT
BEGIN:VEVENT
DTSTAMP:20260419T200032Z
UID:26297a1b-f6c9-46c9-bc73-a4446fe9a311
DTSTART:20260611T180000
DTEND:20260611T190000
DESCRIPTION:
LOCATION:
SUMMARY:Long Range Planning Committee
END:VEVENT
BEGIN:VEVENT
DTSTAMP:20260419T200032Z
UID:728f3746-0cf5-4f96-9e97-6047fd833382
DTSTART:20260611T190000
DTEND:20260611T200000
DESCRIPTION:
LOCATION:
SUMMARY:Board of Education Regular Meeting
END:VEVENT
BEGIN:VEVENT
DTSTAMP:20260419T200032Z
UID:819de4e5-7fcf-4b4c-9977-79f1d70e68cb
DTSTART:20260901T183000
DTEND:20260901T193000
DESCRIPTION:
LOCATION:
SUMMARY:Finance Committee
END:VEVENT
BEGIN:VEVENT
DTSTAMP:20260419T200032Z
UID:306df57f-e1ba-44ad-9dfc-e096355a05b1
DTSTART:20260910T180000
DTEND:20260910T190000
DESCRIPTION:
LOCATION:
SUMMARY:Long Range Planning Committee
END:VEVENT
BEGIN:VEVENT
DTSTAMP:20260419T200032Z
UID:37fa32c6-b67a-4903-9999-4a59989a8fc3
DTSTART:20260910T190000
DTEND:20260910T200000
DESCRIPTION:
LOCATION:
SUMMARY:Board of Education Regular Meeting
END:VEVENT
BEGIN:VEVENT
DTSTAMP:20260419T200032Z
UID:cc151e16-1a5b-451a-9e85-40c16e76c543
DTSTART:20260914T180000
DTEND:20260914T190000
DESCRIPTION:
LOCATION:
SUMMARY:Academic Committee
END:VEVENT
BEGIN:VEVENT
DTSTAMP:20260419T200032Z
UID:5a7b0105-50ca-403b-b40e-3b31fb7e5232
DTSTART:20260914T190000
DTEND:20260914T200000
DESCRIPTION:
LOCATION:
SUMMARY:Policy Committee
END:VEVENT
BEGIN:VEVENT
DTSTAMP:20260419T200032Z
UID:7f59b0e2-f288-45a7-8ed8-ba746b4ed0b1
DTSTART:20261006T183000
DTEND:20261006T193000
DESCRIPTION:
LOCATION:
SUMMARY:Finance Committee
END:VEVENT
BEGIN:VEVENT
DTSTAMP:20260419T200032Z
UID:848f7bd3-30a1-49b8-b6d2-cc9669c69a7b
DTSTART:20261008T180000
DTEND:20261008T190000
DESCRIPTION:
LOCATION:
SUMMARY:Long Range Planning Committee
END:VEVENT
BEGIN:VEVENT
DTSTAMP:20260419T200032Z
UID:a2ef61b1-202b-4f36-92c5-9450a434aaeb
DTSTART:20261008T190000
DTEND:20261008T200000
DESCRIPTION:
LOCATION:
SUMMARY:Board of Education Regular Meeting
END:VEVENT
BEGIN:VEVENT
DTSTAMP:20260419T200032Z
UID:044459be-1c95-4bc4-a864-b8e912be8e57
DTSTART:20261019T180000
DTEND:20261019T190000
DESCRIPTION:
LOCATION:
SUMMARY:Academic Committee
END:VEVENT
BEGIN:VEVENT
DTSTAMP:20260419T200032Z
UID:9ba05dcf-dcd5-4e14-9fa8-d5eb25c5c709
DTSTART:20261019T190000
DTEND:20261019T200000
DESCRIPTION:
LOCATION:
SUMMARY:Policy Committee
END:VEVENT
BEGIN:VEVENT
DTSTAMP:20260419T200032Z
UID:855b5c2c-6c7e-4cea-8428-a7b32fdf97c0
DTSTART:20261109T180000
DTEND:20261109T190000
DESCRIPTION:
LOCATION:
SUMMARY:Academic Committee
END:VEVENT
BEGIN:VEVENT
DTSTAMP:20260419T200032Z
UID:cea96edf-28d4-4659-a4dd-9c9b8b904fa7
DTSTART:20261109T190000
DTEND:20261109T200000
DESCRIPTION:
LOCATION:
SUMMARY:Policy Committee
END:VEVENT
BEGIN:VEVENT
DTSTAMP:20260419T200032Z
UID:deddead6-a9e5-4d2d-a124-487e9cbbc007
DTSTART:20261110T183000
DTEND:20261110T193000
DESCRIPTION:
LOCATION:
SUMMARY:Finance Committee
END:VEVENT
BEGIN:VEVENT
DTSTAMP:20260419T200032Z
UID:639f4f28-44d3-4eb3-aca7-4bd319d71d80
DTSTART:20261112T180000
DTEND:20261112T190000
DESCRIPTION:
LOCATION:
SUMMARY:Long Range Planning Committee
END:VEVENT
BEGIN:VEVENT
DTSTAMP:20260419T200032Z
UID:8dff4877-9ed4-4087-8654-9d262dfe2e38
DTSTART:20261112T190000
DTEND:20261112T200000
DESCRIPTION:
LOCATION:
SUMMARY:Board of Education Regular Meeting
END:VEVENT
BEGIN:VEVENT
DTSTAMP:20260419T200032Z
UID:c59b1ebe-10b4-4774-887c-5d817faf308f
DTSTART:20261207T183000
DTEND:20261207T193000
DESCRIPTION:
LOCATION:
SUMMARY:Finance Committee
END:VEVENT
BEGIN:VEVENT
DTSTAMP:20260419T200032Z
UID:10d3c7a7-0e30-44b8-a58f-5a977f9b7a2d
DTSTART:20261210T180000
DTEND:20261210T190000
DESCRIPTION:
LOCATION:
SUMMARY:Long Range Planning Committee
END:VEVENT
BEGIN:VEVENT
DTSTAMP:20260419T200032Z
UID:051f04b6-fcff-4ad8-aae2-ff64762ae7ee
DTSTART:20261210T190000
DTEND:20261210T200000
DESCRIPTION:
LOCATION:
SUMMARY:Board of Education Regular Meeting
END:VEVENT
BEGIN:VEVENT
DTSTAMP:20260419T200032Z
UID:dd1ceb1f-4aa3-42dd-9933-1595647e91fb
DTSTART:20261214T180000
DTEND:20261214T190000
DESCRIPTION:
LOCATION:
SUMMARY:Academic Committee
END:VEVENT
BEGIN:VEVENT
DTSTAMP:20260419T200032Z
UID:addf0fdc-5592-4e17-970a-35dc0b0403ac
DTSTART:20261214T190000
DTEND:20261214T200000
DESCRIPTION:
LOCATION:
SUMMARY:Policy Committee
END:VEVENT
BEGIN:VEVENT
DTSTAMP:20260419T200032Z
UID:50b304fc-13e1-4a45-987c-e5c703d0fa2a
DTSTART:20270104T183000
DTEND:20270104T193000
DESCRIPTION:
LOCATION:
SUMMARY:Finance Committee
END:VEVENT
BEGIN:VEVENT
DTSTAMP:20260419T200032Z
UID:58ccc7e2-c111-440b-9fa0-6729b962daa3
DTSTART:20270111T180000
DTEND:20270111T190000
DESCRIPTION:
LOCATION:
SUMMARY:Academic Committee
END:VEVENT
BEGIN:VEVENT
DTSTAMP:20260419T200032Z
UID:e63e169d-5ced-4668-b102-ba5647d272ca
DTSTART:20270111T190000
DTEND:20270111T200000
DESCRIPTION:
LOCATION:
SUMMARY:Policy Committee
END:VEVENT
BEGIN:VEVENT
DTSTAMP:20260419T200032Z
UID:542900bc-6f85-46a0-b2c4-cb394d63796b
DTSTART:20270114T180000
DTEND:20270114T190000
DESCRIPTION:
LOCATION:
SUMMARY:Long Range Planning Committee
END:VEVENT
BEGIN:VEVENT
DTSTAMP:20260419T200032Z
UID:6d47c510-528d-46f5-8955-7c2f8893bdff
DTSTART:20270114T190000
DTEND:20270114T200000
DESCRIPTION:
LOCATION:
SUMMARY:Board of Education Regular Meeting
END:VEVENT
END:VCALENDAR
