BEGIN:VCALENDAR
VERSION:2.0
PRODID:icalendar-ruby
CALSCALE:GREGORIAN
BEGIN:VTIMEZONE
TZID:America/Denver
BEGIN:DAYLIGHT
DTSTART:20260308T030000
TZOFFSETFROM:-0700
TZOFFSETTO:-0600
RRULE:FREQ=YEARLY;BYDAY=2SU;BYMONTH=3
TZNAME:MDT
END:DAYLIGHT
BEGIN:STANDARD
DTSTART:20261101T010000
TZOFFSETFROM:-0600
TZOFFSETTO:-0700
RRULE:FREQ=YEARLY;BYDAY=1SU;BYMONTH=11
TZNAME:MST
END:STANDARD
END:VTIMEZONE
BEGIN:VEVENT
DTSTAMP:20260423T132758Z
UID:ba6d3f92-41de-42b8-9fe3-c6942f90cd87
DTSTART:20260428T173000
DTEND:20260428T200000
DESCRIPTION:<p>Regular meetings are held every 4th Tuesday of the month at 
 5:30 pm\, at Clovis Municipal Schools District Board Room\, 1009 Main St.\
 , Clovis\, NM 88101.<br><br> <br>Meeting agendas and associated materials
  can be found online: <a rel="noopener noreferrer nofollow" href="https://
 www.google.com/url?q=https://www.clovis-schools.org/page/board-meetings-cu
 rrent-year&amp\;sa=D&amp\;source=calendar&amp\;ust=1755383125965327&amp\;u
 sg=AOvVaw1FqLdcOD2OPCVOcWFATzyU" target="_blank">CMS Board of Education Me
 etings</a></p>
LOCATION:1009 N Main St\, Clovis\, NM 88101\, USA
SUMMARY:Board of Education Meeting
END:VEVENT
BEGIN:VEVENT
DTSTAMP:20260423T132758Z
UID:9d46c110-824f-41f2-997c-67ef2de19303
DTSTART;VALUE=DATE:20260501
DTEND;VALUE=DATE:20260502
DESCRIPTION:
LOCATION:
SUMMARY:May Holiday - No School / District Offices Open
END:VEVENT
BEGIN:VEVENT
DTSTAMP:20260423T132758Z
UID:6d73a53d-6404-438d-a28c-8c362f1e571b
DTSTART;VALUE=DATE:20260501
DTEND;VALUE=DATE:20260502
DESCRIPTION:
LOCATION:
SUMMARY:May Holiday - No School / District Offices Open
END:VEVENT
BEGIN:VEVENT
DTSTAMP:20260423T132758Z
UID:be77c40d-8fec-4eac-b51d-11762c004a9e
DTSTART;VALUE=DATE:20260521
DTEND;VALUE=DATE:20260522
DESCRIPTION:
LOCATION:
SUMMARY:Last Day of School for Students
END:VEVENT
BEGIN:VEVENT
DTSTAMP:20260423T132758Z
UID:fd1790a3-88dd-43d0-8a7f-dac6c69e03a1
DTSTART;VALUE=DATE:20260521
DTEND;VALUE=DATE:20260522
DESCRIPTION:
LOCATION:
SUMMARY:Last Day of School for Students
END:VEVENT
BEGIN:VEVENT
DTSTAMP:20260423T132758Z
UID:b87b491a-d06c-449f-8cc6-7491bed88be1
DTSTART;VALUE=DATE:20260522
DTEND;VALUE=DATE:20260523
DESCRIPTION:
LOCATION:
SUMMARY:Last Day of School for Staff
END:VEVENT
BEGIN:VEVENT
DTSTAMP:20260423T132758Z
UID:e685d0d1-a998-4b6f-bcdd-3a64a42368df
DTSTART;VALUE=DATE:20260522
DTEND;VALUE=DATE:20260523
DESCRIPTION:
LOCATION:
SUMMARY:CHS Graduation
END:VEVENT
BEGIN:VEVENT
DTSTAMP:20260423T132758Z
UID:45fad37b-df25-498a-87cd-381d7d9e8a82
DTSTART;VALUE=DATE:20260522
DTEND;VALUE=DATE:20260523
DESCRIPTION:
LOCATION:
SUMMARY:Last Day of School for Staff
END:VEVENT
BEGIN:VEVENT
DTSTAMP:20260423T132758Z
UID:e2aac62b-cd5c-4743-b777-c9061aad8389
DTSTART;VALUE=DATE:20260525
DTEND;VALUE=DATE:20260526
DESCRIPTION:
LOCATION:
SUMMARY:Memorial Day - District Offices Closed
END:VEVENT
BEGIN:VEVENT
DTSTAMP:20260423T132758Z
UID:bb43c0eb-824b-4c1e-b056-e7bd04b01dee
DTSTART;VALUE=DATE:20260525
DTEND;VALUE=DATE:20260526
DESCRIPTION:
LOCATION:
SUMMARY:Memorial Day - District Offices Closed
END:VEVENT
BEGIN:VEVENT
DTSTAMP:20260423T132758Z
UID:3fe2bc54-0fce-4bd1-8f1b-cd5a74ecdccd
DTSTART:20260526T173000
DTEND:20260526T200000
DESCRIPTION:<p>Regular meetings are held every 4th Tuesday of the month at 
 5:30 pm\, at Clovis Municipal Schools District Board Room\, 1009 Main St.\
 , Clovis\, NM 88101.<br><br> <br>Meeting agendas and associated materials
  can be found online: <a rel="noopener noreferrer nofollow" href="https://
 www.google.com/url?q=https://www.clovis-schools.org/page/board-meetings-cu
 rrent-year&amp\;sa=D&amp\;source=calendar&amp\;ust=1755383147778142&amp\;u
 sg=AOvVaw0Ci1B2uUrXxV54TUVOcOcM" target="_blank">CMS Board of Education Me
 etings</a></p>
LOCATION:1009 N Main St\, Clovis\, NM 88101\, USA
SUMMARY:Board of Education Meeting
END:VEVENT
BEGIN:VEVENT
DTSTAMP:20260423T132758Z
UID:06ac03c5-a775-42f5-a4f9-03c95671816f
DTSTART:20260623T173000
DTEND:20260623T200000
DESCRIPTION:<p>Regular meetings are held every 4th Tuesday of the month at 
 5:30 pm\, at Clovis Municipal Schools District Board Room\, 1009 Main St.\
 , Clovis\, NM 88101.<br><br> <br>Meeting agendas and associated materials
  can be found online: <a rel="noopener noreferrer nofollow" href="https://
 www.google.com/url?q=https://www.clovis-schools.org/page/board-meetings-cu
 rrent-year&amp\;sa=D&amp\;source=calendar&amp\;ust=1755383163709265&amp\;u
 sg=AOvVaw2sUkXUJtr17CJEXdJVfD42" target="_blank">CMS Board of Education Me
 etings</a></p>
LOCATION:1009 N Main St\, Clovis\, NM 88101\, USA
SUMMARY:Board of Education Meeting
END:VEVENT
END:VCALENDAR
