BEGIN:VCALENDAR
VERSION:2.0
PRODID:icalendar-ruby
CALSCALE:GREGORIAN
BEGIN:VTIMEZONE
TZID:America/Chicago
BEGIN:DAYLIGHT
DTSTART:20260308T030000
TZOFFSETFROM:-0600
TZOFFSETTO:-0500
RRULE:FREQ=YEARLY;BYDAY=2SU;BYMONTH=3
TZNAME:CDT
END:DAYLIGHT
BEGIN:STANDARD
DTSTART:20261101T010000
TZOFFSETFROM:-0500
TZOFFSETTO:-0600
RRULE:FREQ=YEARLY;BYDAY=1SU;BYMONTH=11
TZNAME:CST
END:STANDARD
END:VTIMEZONE
BEGIN:VEVENT
DTSTAMP:20260420T130254Z
UID:a867fe14-b67f-419d-a0e1-cdf095b10313
DTSTART:20260420T080000
DTEND:20260422T133000
DESCRIPTION:
LOCATION:Brookings\, SD 57006\, USA
SUMMARY:State FFA Convention - Brookings\, SD
END:VEVENT
BEGIN:VEVENT
DTSTAMP:20260420T130254Z
UID:bf7b547c-4efc-4c1c-b70d-761fd41857ba
DTSTART:20260420T150000
DTEND:20260420T170000
DESCRIPTION:
LOCATION:C120
SUMMARY:STAR Event Work Time
END:VEVENT
BEGIN:VEVENT
DTSTAMP:20260420T130254Z
UID:1a785b35-3c74-4cb2-82d2-1ccf2d6daec2
DTSTART:20260420T160000
DTEND:20260420T170000
DESCRIPTION:Varsity Softball - Mitchell vs Harrisburg
LOCATION:Harrisburg High School Scheel's Park
SUMMARY:Softball: Mitchell vs Harrisburg (Varsity)
END:VEVENT
BEGIN:VEVENT
DTSTAMP:20260420T130254Z
UID:a001d7a6-d7fb-4ac0-ab0d-9c6c4304e9b8
DTSTART:20260420T173000
DTEND:20260420T183000
DESCRIPTION:Junior Varsity Softball - Mitchell vs Harrisburg
LOCATION:Harrisburg High School Scheel's Park
SUMMARY:Softball: Mitchell vs Harrisburg (Junior Varsity)
END:VEVENT
BEGIN:VEVENT
DTSTAMP:20260420T130254Z
UID:51722ce0-1461-4ba3-baec-95c7e3f756d9
DTSTART:20260421T100000
DTEND:20260421T110000
DESCRIPTION:Varsity Girls Golf - YHS Girls Golf Invite
LOCATION:Fox Run Golf Course
SUMMARY:Girls Golf: YHS Girls Golf Invite (Varsity)
END:VEVENT
BEGIN:VEVENT
DTSTAMP:20260420T130254Z
UID:ab5ddd1a-e078-438a-b8bd-ce9f6e2c4601
DTSTART:20260421T143000
DTEND:20260421T193000
DESCRIPTION:Varsity Boys Track & Field - BHS Alumni Invite
LOCATION:Brookings High School
SUMMARY:Boys Track & Field: BHS Alumni Invite (Varsity)
END:VEVENT
BEGIN:VEVENT
DTSTAMP:20260420T130254Z
UID:4796f5b5-85c9-4aee-b9f1-437ed6a4e6d3
DTSTART:20260421T143000
DTEND:20260421T193000
DESCRIPTION:Varsity Girls Track & Field - BHS Alumni Meet
LOCATION:Brookings High School
SUMMARY:Girls Track & Field: BHS Alumni Meet (Varsity)
END:VEVENT
BEGIN:VEVENT
DTSTAMP:20260420T130254Z
UID:08ab7583-e26f-4598-8083-fea2207d98bc
DTSTART:20260421T160000
DTEND:20260421T170000
DESCRIPTION:Varsity Softball - Brookings vs Harrisburg
LOCATION:Harrisburg High School Scheel's Park
SUMMARY:Softball: Brookings vs Harrisburg (Varsity)
END:VEVENT
BEGIN:VEVENT
DTSTAMP:20260420T130254Z
UID:1419f85b-61ee-4870-aaee-80db8da6b534
DTSTART:20260421T173000
DTEND:20260421T183000
DESCRIPTION:Junior Varsity Softball - Brookings vs Harrisburg
LOCATION:Harrisburg High School Scheel's Park
SUMMARY:Softball: Brookings vs Harrisburg (Junior Varsity)
END:VEVENT
BEGIN:VEVENT
DTSTAMP:20260420T130254Z
UID:ac287b2d-bd1f-4902-847b-71f7f0e72da0
DTSTART;VALUE=DATE:20260422
DTEND;VALUE=DATE:20260423
DESCRIPTION:\n\nUse this link to find more information about being an offic
 er and how to apply\n\n
LOCATION:
SUMMARY:FCCLA Senior Chapter Officer Applications Due
END:VEVENT
BEGIN:VEVENT
DTSTAMP:20260420T130254Z
UID:108251e9-ce6f-4215-9cc7-4e175890f9e1
DTSTART:20260423T100000
DTEND:20260423T110000
DESCRIPTION:Varsity Girls Golf - YHS Girls Golf Invite
LOCATION:Fox Run Golf Course
SUMMARY:Girls Golf: YHS Girls Golf Invite (Varsity)
END:VEVENT
BEGIN:VEVENT
DTSTAMP:20260420T130254Z
UID:54cf893f-dafd-43bc-a340-7c7096ebcdf4
DTSTART:20260423T110000
DTEND:20260423T120000
DESCRIPTION:Varsity Boys Tennis - Yankton vs Harrisburg
LOCATION:Harrisburg High School Tennis Courts
SUMMARY:Boys Tennis: Yankton vs Harrisburg (Varsity)
END:VEVENT
BEGIN:VEVENT
DTSTAMP:20260420T130254Z
UID:43d0d83d-3a36-4fcd-ac9b-8f4966d1068e
DTSTART:20260423T150000
DTEND:20260423T170000
DESCRIPTION:
LOCATION:C120
SUMMARY:STAR Event Work Time
END:VEVENT
BEGIN:VEVENT
DTSTAMP:20260420T130254Z
UID:4c0f899d-3182-4f11-9aac-d9110770e7ea
DTSTART:20260423T160000
DTEND:20260423T170000
DESCRIPTION:Junior Varsity Softball - Harrisburg vs Watertown
LOCATION:Premier Softball Complex
SUMMARY:Softball: Harrisburg vs Watertown (Junior Varsity)
END:VEVENT
BEGIN:VEVENT
DTSTAMP:20260420T130254Z
UID:ebc3c171-63ba-4546-ad42-66fb1c735422
DTSTART:20260423T180000
DTEND:20260423T190000
DESCRIPTION:Varsity Softball - Harrisburg vs Watertown
LOCATION:Premier Softball Complex
SUMMARY:Softball: Harrisburg vs Watertown (Varsity)
END:VEVENT
BEGIN:VEVENT
DTSTAMP:20260420T130254Z
UID:46de7a1e-8a71-4617-93d4-733aa60d2a9c
DTSTART:20260424T070000
DTEND:20260424T160000
DESCRIPTION:
LOCATION:Atlanta\, GA\, USA
SUMMARY:DECA International Career Development Conference
END:VEVENT
BEGIN:VEVENT
DTSTAMP:20260420T130254Z
UID:b8e67040-31b5-4187-8ab6-10e261beb199
DTSTART:20260424T160000
DTEND:20260424T170000
DESCRIPTION:Varsity Softball - West Central vs Harrisburg
LOCATION:Harrisburg High School Scheel's Park
SUMMARY:Softball: West Central vs Harrisburg (Varsity)
END:VEVENT
BEGIN:VEVENT
DTSTAMP:20260420T130254Z
UID:c8185b29-b410-43d8-9171-c02b4808f688
DTSTART:20260424T173000
DTEND:20260424T183000
DESCRIPTION:Junior Varsity Softball - West Central vs Harrisburg
LOCATION:Harrisburg High School Scheel's Park
SUMMARY:Softball: West Central vs Harrisburg (Junior Varsity)
END:VEVENT
BEGIN:VEVENT
DTSTAMP:20260420T130254Z
UID:834dc0e2-0b04-49c0-b53d-70fba2744dbf
DTSTART;VALUE=DATE:20260425
DTEND;VALUE=DATE:20260426
DESCRIPTION:
LOCATION:
SUMMARY:Prom
END:VEVENT
BEGIN:VEVENT
DTSTAMP:20260420T130254Z
UID:bd9eaa26-43d6-42e2-a964-1f7a78523118
DTSTART:20260425T070000
DTEND:20260425T160000
DESCRIPTION:
LOCATION:Atlanta\, GA\, USA
SUMMARY:DECA International Career Development Conference
END:VEVENT
BEGIN:VEVENT
DTSTAMP:20260420T130254Z
UID:7e1f8f06-0623-41dd-91e0-5e09aaa61dc4
DTSTART;VALUE=DATE:20260426
DTEND;VALUE=DATE:20260429
DESCRIPTION:
LOCATION:
SUMMARY:FCCLA State Meeting
END:VEVENT
BEGIN:VEVENT
DTSTAMP:20260420T130254Z
UID:dccb431e-fcf4-4280-acc6-478e59c36920
DTSTART:20260426T070000
DTEND:20260426T160000
DESCRIPTION:
LOCATION:Atlanta\, GA\, USA
SUMMARY:DECA International Career Development Conference
END:VEVENT
BEGIN:VEVENT
DTSTAMP:20260420T130254Z
UID:c2eac887-e7a2-4c9a-b7f7-3cac13c2f111
DTSTART:20260427T070000
DTEND:20260427T160000
DESCRIPTION:
LOCATION:Atlanta\, GA\, USA
SUMMARY:DECA International Career Development Conference
END:VEVENT
BEGIN:VEVENT
DTSTAMP:20260420T130254Z
UID:f4ee5c00-91f9-4b0a-9864-11ffc41576bf
DTSTART:20260427T123000
DTEND:20260427T140000
DESCRIPTION:Junior Varsity Boys Tennis - O'Gorman vs Harrisburg
LOCATION:Belmont Park
SUMMARY:Boys Tennis: O'Gorman vs Harrisburg (Junior Varsity)
END:VEVENT
BEGIN:VEVENT
DTSTAMP:20260420T130254Z
UID:53405dfc-a1a8-443d-b26d-8408e98c70a9
DTSTART:20260427T123000
DTEND:20260427T140000
DESCRIPTION:Varsity Boys Tennis - O'Gorman vs Harrisburg
LOCATION:Highland Park
SUMMARY:Boys Tennis: O'Gorman vs Harrisburg (Varsity)
END:VEVENT
BEGIN:VEVENT
DTSTAMP:20260420T130254Z
UID:e0b38463-780f-4575-b329-8ba4725ba977
DTSTART:20260427T150000
DTEND:20260427T163000
DESCRIPTION:Junior Varsity Boys Tennis - Watertown vs Harrisburg
LOCATION:Belmont Park
SUMMARY:Boys Tennis: Watertown vs Harrisburg (Junior Varsity)
END:VEVENT
BEGIN:VEVENT
DTSTAMP:20260420T130254Z
UID:0510648e-feaa-476d-a44e-2e29b6955daa
DTSTART:20260427T150000
DTEND:20260427T163000
DESCRIPTION:Varsity Boys Tennis - Watertown vs Harrisburg
LOCATION:Highland Park
SUMMARY:Boys Tennis: Watertown vs Harrisburg (Varsity)
END:VEVENT
BEGIN:VEVENT
DTSTAMP:20260420T130254Z
UID:4d36bd9a-a617-441b-a583-f871bfa9efda
DTSTART:20260427T153000
DTEND:20260427T203000
DESCRIPTION:<ul><li><a href="https://docs.google.com/spreadsheets/d/1Y7rT6w
 dxqAWFde3Oh0Gw4A0UftSGwMrEe0oO3SXse18/edit?usp=drive_link" target="_blank"
  class="pastedDriveLink-1"><u><strong><b>Sign-up using this link</b></stro
 ng></u></a></li><li><strong><b>BUT! This is during State FCCLA. If you kno
 w you will not be going to State\, but would still like to help us fundrai
 se\, PLEASE sign-up for concessions.</b></strong></li><br><li><strong><b>A
 t the High School Track</b></strong></li></ul>
LOCATION:Harrisburg High School\, 1300 E Willow St\, Harrisburg\, SD 57032\
 , USA
SUMMARY:FCCLA Concessions
END:VEVENT
BEGIN:VEVENT
DTSTAMP:20260420T130254Z
UID:e2c231b2-9b0f-4088-b329-ef9c0693a59c
DTSTART:20260427T180000
DTEND:20260427T180000
DESCRIPTION:
LOCATION:Heritage Board Room\; 200 E Willow St\; Harrisburg\, SD 57032
SUMMARY:School Board Meeting
END:VEVENT
BEGIN:VEVENT
DTSTAMP:20260420T130254Z
UID:2a5b7e92-54de-44de-a820-4dcd38783b11
DTSTART:20260428T070000
DTEND:20260428T160000
DESCRIPTION:
LOCATION:Atlanta\, GA\, USA
SUMMARY:DECA International Career Development Conference
END:VEVENT
BEGIN:VEVENT
DTSTAMP:20260420T130254Z
UID:7d50d6dc-9729-4d3d-9351-f5cb5409e49d
DTSTART:20260428T160000
DTEND:20260428T170000
DESCRIPTION:Varsity Softball - Tea Area vs Harrisburg
LOCATION:Harrisburg High School Scheel's Park
SUMMARY:Softball: Tea Area vs Harrisburg (Varsity)
END:VEVENT
BEGIN:VEVENT
DTSTAMP:20260420T130254Z
UID:e898371f-04dd-4e33-9a31-aa4276697346
DTSTART:20260428T173000
DTEND:20260428T183000
DESCRIPTION:Junior Varsity Softball - Tea Area vs Harrisburg
LOCATION:Harrisburg High School Scheel's Park
SUMMARY:Softball: Tea Area vs Harrisburg (Junior Varsity)
END:VEVENT
BEGIN:VEVENT
DTSTAMP:20260420T130254Z
UID:ce65f980-8df5-4e7d-ae84-ccf248d93266
DTSTART;VALUE=DATE:20260429
DTEND;VALUE=DATE:20260430
DESCRIPTION:
LOCATION:
SUMMARY:2 Hour Early Release | In-Service
END:VEVENT
BEGIN:VEVENT
DTSTAMP:20260420T130254Z
UID:51977194-1096-41f8-8f4b-0cfdfdae6515
DTSTART:20260501T090000
DTEND:20260501T120000
DESCRIPTION:Varsity Boys Track & Field - Varsity Invitational
LOCATION:O'Gorman High School McEneaney Field
SUMMARY:Boys Track & Field: Varsity Invitational (Varsity)
END:VEVENT
BEGIN:VEVENT
DTSTAMP:20260420T130254Z
UID:3a752420-afe4-439b-91a3-0e6419386860
DTSTART:20260501T090000
DTEND:20260501T120000
DESCRIPTION:Varsity Girls Track & Field - Varsity Invitational
LOCATION:O'Gorman High School McEneaney Field
SUMMARY:Girls Track & Field: Varsity Invitational (Varsity)
END:VEVENT
BEGIN:VEVENT
DTSTAMP:20260420T130254Z
UID:763d53a0-c119-4a20-9831-3b909e911065
DTSTART:20260501T130000
DTEND:20260501T200000
DESCRIPTION:Varsity Boys Track & Field - Howard Wood Dakota Relays
LOCATION:Howard Wood Field
SUMMARY:Boys Track & Field: Howard Wood Dakota Relays (Varsity)
END:VEVENT
BEGIN:VEVENT
DTSTAMP:20260420T130254Z
UID:6de19441-c413-4b83-841b-9dfbb5cfed91
DTSTART:20260501T130000
DTEND:20260501T200000
DESCRIPTION:Varsity Girls Track & Field - Howard Wood Dakota Relays
LOCATION:Howard Wood Field
SUMMARY:Girls Track & Field: Howard Wood Dakota Relays (Varsity)
END:VEVENT
BEGIN:VEVENT
DTSTAMP:20260420T130254Z
UID:ef5f968b-c245-45e4-99cc-364eb2bf1b1e
DTSTART:20260501T180000
DTEND:20260501T203000
DESCRIPTION:H-Wing Commons
LOCATION:Harrisburg High School\, 1300 E Willow St\, Harrisburg\, SD 57032\
 , USA - H-Wing Commons
SUMMARY:FFA Banquet 
END:VEVENT
BEGIN:VEVENT
DTSTAMP:20260420T130254Z
UID:7715c6a7-0129-465e-86a1-566744318e74
DTSTART;VALUE=DATE:20260502
DTEND;VALUE=DATE:20260503
DESCRIPTION:Varsity Softball - Tournament
LOCATION:Sherman Park
SUMMARY:Softball: Tournament (Varsity)
END:VEVENT
BEGIN:VEVENT
DTSTAMP:20260420T130254Z
UID:84ca809e-92f4-4880-a8dd-f035b691fbfa
DTSTART:20260502T090000
DTEND:20260502T170000
DESCRIPTION:Varsity Boys Track & Field - Howard Wood Dakota Relays
LOCATION:Howard Wood Field
SUMMARY:Boys Track & Field: Howard Wood Dakota Relays (Varsity)
END:VEVENT
BEGIN:VEVENT
DTSTAMP:20260420T130254Z
UID:1a5dc90b-70f7-4953-b68e-e61acd5e5f24
DTSTART:20260502T090000
DTEND:20260502T170000
DESCRIPTION:Varsity Girls Track & Field - Howard Wood Dakota Relays
LOCATION:Howard Wood Field
SUMMARY:Girls Track & Field: Howard Wood Dakota Relays (Varsity)
END:VEVENT
BEGIN:VEVENT
DTSTAMP:20260420T130254Z
UID:5a5ef732-004e-4baa-8db4-69cf33cc9f6e
DTSTART:20260504T100000
DTEND:20260504T160000
DESCRIPTION:Junior Varsity Girls Golf - JV ESD Tournament
LOCATION:
SUMMARY:Girls Golf: JV ESD Tournament (Junior Varsity)
END:VEVENT
BEGIN:VEVENT
DTSTAMP:20260420T130254Z
UID:b15648f4-9e8d-4b50-b4b1-406df2728085
DTSTART:20260505T143000
DTEND:20260505T193000
DESCRIPTION:Varsity Boys Track & Field - Varsity Meet
LOCATION:Brookings High School
SUMMARY:Boys Track & Field: Varsity Meet (Varsity)
END:VEVENT
BEGIN:VEVENT
DTSTAMP:20260420T130254Z
UID:dd626c81-1ead-4a6e-a53b-087e98c20b1c
DTSTART:20260505T143000
DTEND:20260505T193000
DESCRIPTION:Varsity Girls Track & Field - Varsity Meet
LOCATION:Brookings High School
SUMMARY:Girls Track & Field: Varsity Meet (Varsity)
END:VEVENT
BEGIN:VEVENT
DTSTAMP:20260420T130254Z
UID:b882a548-1d1e-4d3c-81de-a71d40f05506
DTSTART:20260505T160000
DTEND:20260505T170000
DESCRIPTION:Varsity Softball - Sioux Falls Roosevelt vs Harrisburg
LOCATION:Harrisburg High School Scheel's Park
SUMMARY:Softball: Sioux Falls Roosevelt vs Harrisburg (Varsity)
END:VEVENT
BEGIN:VEVENT
DTSTAMP:20260420T130254Z
UID:e360400a-bf5d-4420-851b-3ed19859764e
DTSTART:20260505T173000
DTEND:20260505T183000
DESCRIPTION:Junior Varsity Softball - Sioux Falls Roosevelt vs Harrisburg
LOCATION:Harrisburg High School Scheel's Park
SUMMARY:Softball: Sioux Falls Roosevelt vs Harrisburg (Junior Varsity)
END:VEVENT
BEGIN:VEVENT
DTSTAMP:20260420T130254Z
UID:2e53eeb5-8652-4347-8227-e92c140c764d
DTSTART;VALUE=DATE:20260507
DTEND;VALUE=DATE:20260508
DESCRIPTION:Varsity Girls Golf - Huron Invite
LOCATION:Broadland Creek Golf Course
SUMMARY:Girls Golf: Huron Invite (Varsity)
END:VEVENT
BEGIN:VEVENT
DTSTAMP:20260420T130254Z
UID:c8ebf4c3-6dcd-440e-820b-4f1ddc079450
DTSTART:20260507T160000
DTEND:20260507T173000
DESCRIPTION:Bring a friend!\nAt HHS\, Room H127
LOCATION:
SUMMARY:FCCLA Banquet
END:VEVENT
BEGIN:VEVENT
DTSTAMP:20260420T130254Z
UID:bc1e623a-6377-49cb-ba81-91f85d1ba028
DTSTART:20260507T160000
DTEND:20260507T200000
DESCRIPTION:Junior Varsity Girls Golf - Brandon Valley JV Quad
LOCATION:Hidden Valley Golf Course
SUMMARY:Girls Golf: Brandon Valley JV Quad (Junior Varsity)
END:VEVENT
BEGIN:VEVENT
DTSTAMP:20260420T130254Z
UID:02986ead-3bf8-4286-b24b-df6dbafe3f13
DTSTART:20260507T160000
DTEND:20260507T190000
DESCRIPTION:Varsity Softball - Harrisburg vs Sioux Falls Washington
LOCATION:Sanford Sports Complex
SUMMARY:Softball: Harrisburg vs Sioux Falls Washington (Varsity)
END:VEVENT
BEGIN:VEVENT
DTSTAMP:20260420T130254Z
UID:9cdeacf8-9959-40c4-9d89-7b88bd222037
DTSTART:20260507T163000
DTEND:20260507T213000
DESCRIPTION:Varsity Boys Track & Field - Metro Conference Track & Field Mee
 t
LOCATION:Sioux Falls Lincoln High School Track & Football Complex
SUMMARY:Boys Track & Field: Metro Conference Track & Field Meet (Varsity)
END:VEVENT
BEGIN:VEVENT
DTSTAMP:20260420T130254Z
UID:c83bc004-08d1-42dc-842f-a9a4a501309e
DTSTART:20260507T163000
DTEND:20260507T213000
DESCRIPTION:Varsity Girls Track & Field - Metro Conference Track & Field Me
 et
LOCATION:Sioux Falls Lincoln High School Track & Football Complex
SUMMARY:Girls Track & Field: Metro Conference Track & Field Meet (Varsity)
END:VEVENT
BEGIN:VEVENT
DTSTAMP:20260420T130254Z
UID:7b7e6c06-ee08-4896-87d0-6b7881b9cee7
DTSTART:20260507T180000
DTEND:20260507T190000
DESCRIPTION:Junior Varsity Softball - Harrisburg vs Sioux Falls Washington
LOCATION:Sanford Sports Complex
SUMMARY:Softball: Harrisburg vs Sioux Falls Washington (Junior Varsity)
END:VEVENT
BEGIN:VEVENT
DTSTAMP:20260420T130254Z
UID:e0d4a540-83b5-449f-b5d6-c7fb4f655ef7
DTSTART:20260508T070000
DTEND:20260508T080000
DESCRIPTION:
LOCATION:
SUMMARY:Future Teacher Signing Day (Educators Rising)
END:VEVENT
BEGIN:VEVENT
DTSTAMP:20260420T130254Z
UID:17b988b3-607a-4554-8a38-d8f5230e8a31
DTSTART:20260508T100000
DTEND:20260508T150000
DESCRIPTION:Varsity Girls Golf - Yankton Invite
LOCATION:Hillcrest Golf & Country Club
SUMMARY:Girls Golf: Yankton Invite (Varsity)
END:VEVENT
BEGIN:VEVENT
DTSTAMP:20260420T130254Z
UID:c5626689-30d5-4d8f-a478-c5216f2187ae
DTSTART:20260511T140000
DTEND:20260511T150000
DESCRIPTION:Varsity Boys Tennis - ESD Tennis
LOCATION:Yankton High School
SUMMARY:Boys Tennis: ESD Tennis (Varsity)
END:VEVENT
BEGIN:VEVENT
DTSTAMP:20260420T130254Z
UID:8d4b00ae-ee3d-4836-af36-963a28e1ae32
DTSTART:20260511T140000
DTEND:20260511T190000
DESCRIPTION:Junior Varsity Girls Golf - JV Invite
LOCATION:Edgebrook Golf Course
SUMMARY:Girls Golf: JV Invite (Junior Varsity)
END:VEVENT
BEGIN:VEVENT
DTSTAMP:20260420T130254Z
UID:22f036ee-91b0-4f2d-adcc-050449a980eb
DTSTART:20260511T180000
DTEND:20260511T180000
DESCRIPTION:
LOCATION:Heritage Board Room\; 200 E Willow St\; Harrisburg\, SD 57032
SUMMARY:School Board Meeting
END:VEVENT
BEGIN:VEVENT
DTSTAMP:20260420T130254Z
UID:36401af2-68c9-4bad-b8fe-6611a7e458a3
DTSTART:20260512T080000
DTEND:20260512T090000
DESCRIPTION:Varsity Boys Tennis - ESD Day 2
LOCATION:Yankton High School
SUMMARY:Boys Tennis: ESD Day 2 (Varsity)
END:VEVENT
BEGIN:VEVENT
DTSTAMP:20260420T130254Z
UID:d602c6e3-f1e1-4c2f-ab6a-882508188c3b
DTSTART:20260514T133000
DTEND:20260514T150000
DESCRIPTION:Junior Varsity Softball - Harrisburg vs Rapid City Stevens
LOCATION:Parkview Softball Complex
SUMMARY:Softball: Harrisburg vs Rapid City Stevens (Junior Varsity)
END:VEVENT
BEGIN:VEVENT
DTSTAMP:20260420T130254Z
UID:fbff7345-0200-49b9-acc6-94a732481f16
DTSTART:20260514T150000
DTEND:20260514T170000
DESCRIPTION:Varsity Softball - Harrisburg vs Rapid City Stevens
LOCATION:Parkview Softball Complex
SUMMARY:Softball: Harrisburg vs Rapid City Stevens (Varsity)
END:VEVENT
BEGIN:VEVENT
DTSTAMP:20260420T130254Z
UID:26d2f47e-dd04-457c-bf74-132ebd162301
DTSTART:20260514T180000
DTEND:20260514T193000
DESCRIPTION:Varsity Softball - Harrisburg vs Rapid City Central
LOCATION:Parkview Softball Complex Parkview Softball Complex
SUMMARY:Softball: Harrisburg vs Rapid City Central (Varsity)
END:VEVENT
BEGIN:VEVENT
DTSTAMP:20260420T130254Z
UID:e1982a8d-6dce-42b7-9793-5c81ccae9de4
DTSTART:20260515T043000
DTEND:20260515T180000
DESCRIPTION:Junior Varsity Softball - Harrisburg vs Sturgis Brown
LOCATION:Harrisburg Central Park
SUMMARY:Softball: Harrisburg vs Sturgis Brown (Junior Varsity)
END:VEVENT
BEGIN:VEVENT
DTSTAMP:20260420T130254Z
UID:f2c6f928-3b0d-4909-83a1-8abbcaa2906f
DTSTART:20260515T090000
DTEND:20260515T103000
DESCRIPTION:Junior Varsity Softball - Harrisburg vs Spearfish
LOCATION:Keating Resources SportsPlex  Softball Fields
SUMMARY:Softball: Harrisburg vs Spearfish (Junior Varsity)
END:VEVENT
BEGIN:VEVENT
DTSTAMP:20260420T130254Z
UID:1df0b0e4-3f31-46cd-8592-f2e22224d121
DTSTART:20260515T103000
DTEND:20260515T123000
DESCRIPTION:Varsity Softball - Harrisburg vs Spearfish
LOCATION:Keating Resources SportsPlex  Softball Fields
SUMMARY:Softball: Harrisburg vs Spearfish (Varsity)
END:VEVENT
BEGIN:VEVENT
DTSTAMP:20260420T130254Z
UID:ce091aee-259c-40a6-a807-c71b4e09462b
DTSTART:20260515T180000
DTEND:20260515T193000
DESCRIPTION:Varsity Softball - Harrisburg vs Sturgis Brown
LOCATION:Sturgis Brown High School
SUMMARY:Softball: Harrisburg vs Sturgis Brown (Varsity)
END:VEVENT
BEGIN:VEVENT
DTSTAMP:20260420T130254Z
UID:190071c8-83e4-4af5-b24c-8f02a8db2328
DTSTART:20260519T160000
DTEND:20260519T170000
DESCRIPTION:Varsity Softball - Aberdeen Central vs Harrisburg
LOCATION:Harrisburg High School Scheel's Park
SUMMARY:Softball: Aberdeen Central vs Harrisburg (Varsity)
END:VEVENT
BEGIN:VEVENT
DTSTAMP:20260420T130254Z
UID:3fcd7192-3495-4405-891a-b57cd45544aa
DTSTART:20260519T173000
DTEND:20260519T183000
DESCRIPTION:Junior Varsity Softball - Aberdeen Central vs Harrisburg
LOCATION:Harrisburg High School Scheel's Park
SUMMARY:Softball: Aberdeen Central vs Harrisburg (Junior Varsity)
END:VEVENT
BEGIN:VEVENT
DTSTAMP:20260420T130254Z
UID:272167ef-87f5-404f-b347-c4c3891dd026
DTSTART:20260520T110000
DTEND:20260520T120000
DESCRIPTION:Junior Varsity Softball - Harrisburg vs Yankton
LOCATION:Yankton Sertoma Park
SUMMARY:Softball: Harrisburg vs Yankton (Junior Varsity)
END:VEVENT
BEGIN:VEVENT
DTSTAMP:20260420T130254Z
UID:60454e96-cf89-406a-a07b-52afe12c6055
DTSTART:20260520T130000
DTEND:20260520T140000
DESCRIPTION:Varsity Softball - Harrisburg vs Yankton
LOCATION:Yankton Sertoma Park
SUMMARY:Softball: Harrisburg vs Yankton (Varsity)
END:VEVENT
BEGIN:VEVENT
DTSTAMP:20260420T130254Z
UID:c9a4f3d0-8726-4d85-a297-252e197515f2
DTSTART;VALUE=DATE:20260521
DTEND;VALUE=DATE:20260522
DESCRIPTION:
LOCATION:
SUMMARY:Last Day of School- 2 Hour Early Release
END:VEVENT
BEGIN:VEVENT
DTSTAMP:20260420T130254Z
UID:561f1d35-473e-49a0-b367-f6dd7e648f60
DTSTART:20260521T090000
DTEND:20260521T180000
DESCRIPTION:Varsity Boys Tennis - Class AA - State Tournament
LOCATION:Black Hills Tennis Center
SUMMARY:Boys Tennis: Class AA - State Tournament (Varsity)
END:VEVENT
BEGIN:VEVENT
DTSTAMP:20260420T130254Z
UID:b7bb5c42-6448-45f7-80b6-e25d011ff769
DTSTART:20260521T100000
DTEND:20260521T150000
DESCRIPTION:Varsity Girls Golf - BHS Scholten Invite
LOCATION:Brookings Country Club
SUMMARY:Girls Golf: BHS Scholten Invite (Varsity)
END:VEVENT
BEGIN:VEVENT
DTSTAMP:20260420T130254Z
UID:fb4e2efa-6f59-46b5-a6b3-5fa92e44aaea
DTSTART:20260521T160000
DTEND:20260521T173000
DESCRIPTION:Varsity Softball - Harrisburg vs Pierre T.F. Riggs
LOCATION:T.F. Riggs High School Riggs Softball Field
SUMMARY:Softball: Harrisburg vs Pierre T.F. Riggs (Varsity)
END:VEVENT
BEGIN:VEVENT
DTSTAMP:20260420T130254Z
UID:e02952c5-09c2-4107-b13c-05ae2a37b45d
DTSTART:20260521T180000
DTEND:20260521T193000
DESCRIPTION:Junior Varsity Softball - Harrisburg vs Pierre T.F. Riggs
LOCATION:T.F. Riggs High School Riggs Softball Field
SUMMARY:Softball: Harrisburg vs Pierre T.F. Riggs (Junior Varsity)
END:VEVENT
BEGIN:VEVENT
DTSTAMP:20260420T130254Z
UID:813f7005-7ea3-4885-b7df-a084226ed885
DTSTART:20260522T090000
DTEND:20260522T170000
DESCRIPTION:Varsity Boys Tennis - Class AA - State Tournament
LOCATION:Black Hills Tennis Center
SUMMARY:Boys Tennis: Class AA - State Tournament (Varsity)
END:VEVENT
BEGIN:VEVENT
DTSTAMP:20260420T130254Z
UID:0b881343-63bf-49ce-8d7b-61754ecad6d5
DTSTART;VALUE=DATE:20260523
DTEND;VALUE=DATE:20260524
DESCRIPTION:
LOCATION:1201 N W Ave\, Sioux Falls\, SD 57104\, USA
SUMMARY:Graduation
END:VEVENT
BEGIN:VEVENT
DTSTAMP:20260420T130254Z
UID:b84d3896-54c9-41b0-b180-48d696300a31
DTSTART:20260526T180000
DTEND:20260526T180000
DESCRIPTION:
LOCATION:Heritage Board Room\; 200 E Willow St\; Harrisburg\, SD 57032
SUMMARY:School Board Meeting
END:VEVENT
BEGIN:VEVENT
DTSTAMP:20260420T130254Z
UID:27070b8f-a1d1-424a-8ba4-42427f061607
DTSTART:20260608T180000
DTEND:20260608T180000
DESCRIPTION:
LOCATION:Heritage Board Room\; 200 E Willow St\; Harrisburg\, SD 57032
SUMMARY:School Board Meeting
END:VEVENT
BEGIN:VEVENT
DTSTAMP:20260420T130254Z
UID:1d1005a6-11fa-4fd2-94d9-9a1cdf66f340
DTSTART;VALUE=DATE:20260620
DTEND;VALUE=DATE:20260624
DESCRIPTION:
LOCATION:Portland\, Oregon
SUMMARY:Educators Rising National Meeting
END:VEVENT
BEGIN:VEVENT
DTSTAMP:20260420T130254Z
UID:1f1b4557-09b8-441f-8886-0d7e12c2f8c0
DTSTART:20260622T180000
DTEND:20260622T180000
DESCRIPTION:
LOCATION:Heritage Board Room\; 200 E Willow St\; Harrisburg\, SD 57032
SUMMARY:School Board Meeting
END:VEVENT
BEGIN:VEVENT
DTSTAMP:20260420T130254Z
UID:f04958a7-b218-41ad-b92f-41c581a3d44f
DTSTART;VALUE=DATE:20260706
DTEND;VALUE=DATE:20260711
DESCRIPTION:
LOCATION:Orlando\, FL\, USA
SUMMARY:FCCLA National Leadership Conference
END:VEVENT
BEGIN:VEVENT
DTSTAMP:20260420T130254Z
UID:f6fd0cbe-9648-41c9-a0b4-3b94ec6156ea
DTSTART:20260713T180000
DTEND:20260713T180000
DESCRIPTION:
LOCATION:Heritage Board Room\; 200 E Willow St\; Harrisburg\, SD 57032
SUMMARY:School Board Meeting
END:VEVENT
BEGIN:VEVENT
DTSTAMP:20260420T130254Z
UID:603193b5-f920-492b-9be2-fa456787d333
DTSTART:20260727T180000
DTEND:20260727T180000
DESCRIPTION:
LOCATION:Heritage Board Room\; 200 E Willow St\; Harrisburg\, SD 57032
SUMMARY:School Board Meeting
END:VEVENT
BEGIN:VEVENT
DTSTAMP:20260420T130254Z
UID:80337ab3-c0c6-4141-81ad-c41320716066
DTSTART;VALUE=DATE:20260806
DTEND;VALUE=DATE:20260810
DESCRIPTION:
LOCATION:
SUMMARY:To MN
END:VEVENT
BEGIN:VEVENT
DTSTAMP:20260420T130254Z
UID:2aed5d67-3313-4dc3-bf43-e916b8a993b5
DTSTART;VALUE=DATE:20260810
DTEND;VALUE=DATE:20260811
DESCRIPTION:
LOCATION:
SUMMARY:Inservice
END:VEVENT
BEGIN:VEVENT
DTSTAMP:20260420T130254Z
UID:5c1ad232-c860-4656-84ad-105fcffff6c5
DTSTART;VALUE=DATE:20261210
DTEND;VALUE=DATE:20261211
DESCRIPTION:
LOCATION:University of Sioux Falls\, 1101 W 22nd St\, Sioux Falls\, SD 5710
 5\, USA
SUMMARY:FCCLA Region Meeting
END:VEVENT
END:VCALENDAR
