BEGIN:VCALENDAR
VERSION:2.0
PRODID:icalendar-ruby
CALSCALE:GREGORIAN
BEGIN:VTIMEZONE
TZID:America/New_York
BEGIN:DAYLIGHT
DTSTART:20260308T030000
TZOFFSETFROM:-0500
TZOFFSETTO:-0400
RRULE:FREQ=YEARLY;BYDAY=2SU;BYMONTH=3
TZNAME:EDT
END:DAYLIGHT
BEGIN:STANDARD
DTSTART:20261101T010000
TZOFFSETFROM:-0400
TZOFFSETTO:-0500
RRULE:FREQ=YEARLY;BYDAY=1SU;BYMONTH=11
TZNAME:EST
END:STANDARD
END:VTIMEZONE
BEGIN:VEVENT
DTSTAMP:20260426T020219Z
UID:8ef9c948-22bb-4d4b-ad4f-86442a7c91c4
DTSTART:20260427T183000
DTEND:20260427T203000
DESCRIPTION:<b><p>Work / Executive Session – 6:30 p.m.</p><p>Regular Meet
 ing – 7:30 p.m.</p></b>
LOCATION:Northern Valley Regional High School at Old Tappan\, 100 Central A
 ve\, Old Tappan\, NJ 07675\, USA
SUMMARY:BOE - Regular Meeting (NVOT Media Center)
END:VEVENT
BEGIN:VEVENT
DTSTAMP:20260426T020219Z
UID:120793da-623d-466d-bc61-8f65e2f56871
DTSTART:20260511T183000
DTEND:20260511T203000
DESCRIPTION:
LOCATION:200 Summit St\, Norwood\, NJ 07648\, USA
SUMMARY:BOE - Regular Meeting (NVC Gym)
END:VEVENT
BEGIN:VEVENT
DTSTAMP:20260426T020219Z
UID:1bd92969-a3c3-430b-a060-262784d0da82
DTSTART;VALUE=DATE:20260622
DTEND;VALUE=DATE:20260623
DESCRIPTION:
LOCATION:
SUMMARY:NVD Graduation
END:VEVENT
BEGIN:VEVENT
DTSTAMP:20260426T020219Z
UID:b4294f20-d6ec-429a-ad15-53ab39441ed0
DTSTART;VALUE=DATE:20260623
DTEND;VALUE=DATE:20260624
DESCRIPTION:<br><b><i>NVOT Graduation day is Tuesday\, June 23\, 2026 6:45p
 m</i></b>
LOCATION:
SUMMARY:NVOT Graduation
END:VEVENT
BEGIN:VEVENT
DTSTAMP:20260426T020219Z
UID:7fb033db-f9d4-432e-9a9d-2e77b48fabeb
DTSTART:20260629T183000
DTEND:20260629T203000
DESCRIPTION:<b><p>Work / Executive Session – 6:30 p.m.</p><p>Regular Meet
 ing – 7:30 p.m.</p></b>
LOCATION:Northern Valley Regional High School at Demarest\, 150 Knickerbock
 er Rd\, Demarest\, NJ 07627\, USA
SUMMARY:BOE - Regular Meeting (NVD Media Center)
END:VEVENT
BEGIN:VEVENT
DTSTAMP:20260426T020219Z
UID:ec036510-ac16-4e22-beb0-d7874c555c71
DTSTART:20260713T183000
DTEND:20260713T203000
DESCRIPTION:<b><p>Work / Executive Session – 6:30 p.m.</p><p>Regular Meet
 ing – 7:30 p.m.</p></b>
LOCATION:Northern Valley Regional High School at Old Tappan\, 100 Central A
 ve\, Old Tappan\, NJ 07675\, USA
SUMMARY:BOE - Regular Meeting (NVOT Media Center)
END:VEVENT
BEGIN:VEVENT
DTSTAMP:20260426T020219Z
UID:07714658-b23f-4653-a093-a7e00db846d1
DTSTART:20260824T183000
DTEND:20260824T203000
DESCRIPTION:
LOCATION:Northern Valley Regional High School at Demarest\, 150 Knickerbock
 er Rd\, Demarest\, NJ 07627\, USA
SUMMARY:BOE - Regular Meeting (NVD Media Center)
END:VEVENT
BEGIN:VEVENT
DTSTAMP:20260426T020219Z
UID:41cffa6c-fe99-458c-9c70-63e22033de37
DTSTART;VALUE=DATE:20260907
DTEND;VALUE=DATE:20260908
DESCRIPTION:
LOCATION:
SUMMARY:Labor Day - School Closed
END:VEVENT
BEGIN:VEVENT
DTSTAMP:20260426T020219Z
UID:5ed8a2b0-47b9-4d51-aae4-d91e2874d218
DTSTART:20260914T183000
DTEND:20260914T203000
DESCRIPTION:<b><p>Work / Executive Session – 6:30 p.m.</p><p>Regular Meet
 ing – 7:30 p.m.</p></b>
LOCATION:200 Summit St\, Norwood\, NJ 07648\, USA
SUMMARY:BOE - Regular Meeting (NVC Gym)
END:VEVENT
BEGIN:VEVENT
DTSTAMP:20260426T020219Z
UID:3a6a057a-67b4-45c9-a99f-0cfaaba98ec3
DTSTART:20261012T183000
DTEND:20261012T203000
DESCRIPTION:<b><p>Work / Executive Session – 6:30 p.m.</p><p>Regular Meet
 ing – 7:30 p.m.</p></b>
LOCATION:Northern Valley Regional High School at Demarest\, 150 Knickerbock
 er Rd\, Demarest\, NJ 07627\, USA
SUMMARY:BOE - Regular Meeting (NVD Media Center)
END:VEVENT
BEGIN:VEVENT
DTSTAMP:20260426T020219Z
UID:ca0f69cb-9b33-4a86-90ef-13f988063ec7
DTSTART:20261116T183000
DTEND:20261116T203000
DESCRIPTION:<b><p>Work / Executive Session – 6:30 p.m.</p><p>Regular Meet
 ing – 7:30 p.m.</p></b>
LOCATION:Northern Valley Regional High School at Old Tappan\, 100 Central A
 ve\, Old Tappan\, NJ 07675\, USA
SUMMARY:BOE - Regular Meeting (NVOT Media Center)
END:VEVENT
BEGIN:VEVENT
DTSTAMP:20260426T020219Z
UID:25c520bd-3916-488a-891a-4f5a28fc1147
DTSTART:20261214T183000
DTEND:20261214T203000
DESCRIPTION:<b><p>Work / Executive Session – 6:30 p.m.</p><p>Regular Meet
 ing – 7:30 p.m.</p></b>
LOCATION:Northern Valley Regional High School at Demarest\, 150 Knickerbock
 er Rd\, Demarest\, NJ 07627\, USA
SUMMARY:BOE - Regular Meeting (NVD Media Center)
END:VEVENT
END:VCALENDAR
