BEGIN:VCALENDAR
VERSION:2.0
PRODID:icalendar-ruby
CALSCALE:GREGORIAN
BEGIN:VTIMEZONE
TZID:America/Chicago
BEGIN:DAYLIGHT
DTSTART:20260308T030000
TZOFFSETFROM:-0600
TZOFFSETTO:-0500
RRULE:FREQ=YEARLY;BYDAY=2SU;BYMONTH=3
TZNAME:CDT
END:DAYLIGHT
BEGIN:STANDARD
DTSTART:20261101T010000
TZOFFSETFROM:-0500
TZOFFSETTO:-0600
RRULE:FREQ=YEARLY;BYDAY=1SU;BYMONTH=11
TZNAME:CST
END:STANDARD
END:VTIMEZONE
BEGIN:VEVENT
DTSTAMP:20260423T133616Z
UID:287088e9-2da0-4302-a237-639ea63ebcd0
DTSTART;VALUE=DATE:20260424
DTEND;VALUE=DATE:20260425
DESCRIPTION:
LOCATION:
SUMMARY:MISD Special Olympics Track Meet
END:VEVENT
BEGIN:VEVENT
DTSTAMP:20260423T133616Z
UID:0037b30d-3c69-4fad-a87e-56382445b5c0
DTSTART;VALUE=DATE:20260501
DTEND;VALUE=DATE:20260502
DESCRIPTION:
LOCATION:
SUMMARY:Mental Health Month
END:VEVENT
BEGIN:VEVENT
DTSTAMP:20260423T133616Z
UID:019d44c9-eff4-475e-8713-79d4436ce190
DTSTART;VALUE=DATE:20260501
DTEND;VALUE=DATE:20260502
DESCRIPTION:
LOCATION:
SUMMARY:School Lunch Hero Day
END:VEVENT
BEGIN:VEVENT
DTSTAMP:20260423T133616Z
UID:9c6296ab-e5bc-4501-8790-9c9ecd751387
DTSTART;VALUE=DATE:20260501
DTEND;VALUE=DATE:20260502
DESCRIPTION:
LOCATION:
SUMMARY:School Principal Day
END:VEVENT
BEGIN:VEVENT
DTSTAMP:20260423T133616Z
UID:20eda7a4-0e4c-4544-9baa-3f46ffda29ef
DTSTART;VALUE=DATE:20260504
DTEND;VALUE=DATE:20260509
DESCRIPTION:
LOCATION:
SUMMARY:Teacher Appreciation Week
END:VEVENT
BEGIN:VEVENT
DTSTAMP:20260423T133616Z
UID:628d5175-980e-4552-80df-bb8f261b1cf5
DTSTART;VALUE=DATE:20260506
DTEND;VALUE=DATE:20260507
DESCRIPTION:
LOCATION:
SUMMARY:National School Nurse Day
END:VEVENT
BEGIN:VEVENT
DTSTAMP:20260423T133616Z
UID:d2ad1e42-ea95-412b-a2f5-bd3eda7ae965
DTSTART;VALUE=DATE:20260522
DTEND;VALUE=DATE:20260523
DESCRIPTION:
LOCATION:
SUMMARY:End of Fourth Nine Weeks
END:VEVENT
BEGIN:VEVENT
DTSTAMP:20260423T133616Z
UID:4a38d209-24e1-4afb-b52f-9d9b8436b74f
DTSTART;VALUE=DATE:20260522
DTEND;VALUE=DATE:20260523
DESCRIPTION:
LOCATION:
SUMMARY:Last Day of School - Early Release Day
END:VEVENT
BEGIN:VEVENT
DTSTAMP:20260423T133616Z
UID:e3e1bbca-12ce-475e-a5f1-3897df1e6cad
DTSTART;VALUE=DATE:20260525
DTEND;VALUE=DATE:20260526
DESCRIPTION:
LOCATION:
SUMMARY:Memorial Day - District Closed
END:VEVENT
BEGIN:VEVENT
DTSTAMP:20260423T133616Z
UID:53600057-19f2-4400-8e51-b838181966ee
DTSTART;VALUE=DATE:20260526
DTEND;VALUE=DATE:20260529
DESCRIPTION:
LOCATION:
SUMMARY:Staff Development Day
END:VEVENT
BEGIN:VEVENT
DTSTAMP:20260423T133616Z
UID:8453eebf-61ad-40b5-8348-7d12f53766e0
DTSTART;VALUE=DATE:20260619
DTEND;VALUE=DATE:20260620
DESCRIPTION:
LOCATION:
SUMMARY:Juneteenth - District Closed
END:VEVENT
END:VCALENDAR
