BEGIN:VCALENDAR
VERSION:2.0
PRODID:icalendar-ruby
CALSCALE:GREGORIAN
BEGIN:VTIMEZONE
TZID:America/New_York
BEGIN:DAYLIGHT
DTSTART:20260308T030000
TZOFFSETFROM:-0500
TZOFFSETTO:-0400
RRULE:FREQ=YEARLY;BYDAY=2SU;BYMONTH=3
TZNAME:EDT
END:DAYLIGHT
BEGIN:STANDARD
DTSTART:20261101T010000
TZOFFSETFROM:-0400
TZOFFSETTO:-0500
RRULE:FREQ=YEARLY;BYDAY=1SU;BYMONTH=11
TZNAME:EST
END:STANDARD
END:VTIMEZONE
BEGIN:VEVENT
DTSTAMP:20260425T142432Z
UID:a9092004-c381-4421-a8cf-053187a278fb
DTSTART:20260427T150000
DTEND:20260427T160000
DESCRIPTION:
LOCATION:
SUMMARY:Garden Club
END:VEVENT
BEGIN:VEVENT
DTSTAMP:20260425T142432Z
UID:dd898f57-13ae-405a-a446-2030fda1c838
DTSTART:20260427T150000
DTEND:20260427T160000
DESCRIPTION:
LOCATION:
SUMMARY:Math Club (Group 2)
END:VEVENT
BEGIN:VEVENT
DTSTAMP:20260425T142432Z
UID:e7557f80-2568-4cd3-b535-a53515c0a9dd
DTSTART:20260427T180000
DTEND:20260427T190000
DESCRIPTION:
LOCATION:
SUMMARY:PTO/SIC Meeting
END:VEVENT
BEGIN:VEVENT
DTSTAMP:20260425T142432Z
UID:a154c29b-a1c4-45b0-b8c6-570e2525fa37
DTSTART;VALUE=DATE:20260504
DTEND;VALUE=DATE:20260509
DESCRIPTION:
LOCATION:
SUMMARY:Staff Appreciation Week
END:VEVENT
BEGIN:VEVENT
DTSTAMP:20260425T142432Z
UID:438fc8a9-a7aa-4ae5-b3b7-55deb3a96c9c
DTSTART:20260504T150000
DTEND:20260504T160000
DESCRIPTION:
LOCATION:
SUMMARY:Math Club (Group 2)
END:VEVENT
BEGIN:VEVENT
DTSTAMP:20260425T142432Z
UID:5ddf3460-75e8-415d-93ae-685fcaeb7d19
DTSTART;VALUE=DATE:20260505
DTEND;VALUE=DATE:20260506
DESCRIPTION:
LOCATION:
SUMMARY:SCREADY Reading Day 1 (3rd-6th Grade)
END:VEVENT
BEGIN:VEVENT
DTSTAMP:20260425T142432Z
UID:226bd51c-4869-4abb-a376-c5db72936524
DTSTART:20260505T180000
DTEND:20260505T200000
DESCRIPTION:
LOCATION:
SUMMARY:PTO Skate Night
END:VEVENT
BEGIN:VEVENT
DTSTAMP:20260425T142432Z
UID:40b07df6-312b-4ab0-addd-7883bf09ab61
DTSTART;VALUE=DATE:20260506
DTEND;VALUE=DATE:20260507
DESCRIPTION:
LOCATION:
SUMMARY:SCREADY Reading Day 2 (3rd-5th Grade)
END:VEVENT
BEGIN:VEVENT
DTSTAMP:20260425T142432Z
UID:df6f4067-524a-4d21-981c-398c96034a53
DTSTART;VALUE=DATE:20260507
DTEND;VALUE=DATE:20260508
DESCRIPTION:
LOCATION:
SUMMARY:SCREADY Writing (3rd-6th Grade)
END:VEVENT
BEGIN:VEVENT
DTSTAMP:20260425T142432Z
UID:b6e7b9d2-3571-46f7-a8c5-08ffc8f864b8
DTSTART:20260511T150000
DTEND:20260511T160000
DESCRIPTION:
LOCATION:
SUMMARY:Math Club (Group 2)
END:VEVENT
BEGIN:VEVENT
DTSTAMP:20260425T142432Z
UID:f8349d5d-7333-4d73-9544-edcca8abf528
DTSTART;VALUE=DATE:20260512
DTEND;VALUE=DATE:20260513
DESCRIPTION:
LOCATION:
SUMMARY:SCREADY Math Day 1 (3rd-6th Grade)
END:VEVENT
BEGIN:VEVENT
DTSTAMP:20260425T142432Z
UID:bfae60fb-686d-43e7-9e86-4fe9dd58a089
DTSTART;VALUE=DATE:20260513
DTEND;VALUE=DATE:20260514
DESCRIPTION:
LOCATION:
SUMMARY:SCREADY Math Day 2 (3rd-5th Grade)
END:VEVENT
BEGIN:VEVENT
DTSTAMP:20260425T142432Z
UID:faeecfc5-de3a-4515-8bb0-a3058f9d942d
DTSTART;VALUE=DATE:20260514
DTEND;VALUE=DATE:20260515
DESCRIPTION:
LOCATION:
SUMMARY:SCREADY Science (4th and 6th Grade)
END:VEVENT
BEGIN:VEVENT
DTSTAMP:20260425T142432Z
UID:5da5f4ff-38af-45e3-b8d0-c572b9be5b6a
DTSTART:20260518T081500
DTEND:20260518T084500
DESCRIPTION:
LOCATION:
SUMMARY:K4 Awards Day
END:VEVENT
BEGIN:VEVENT
DTSTAMP:20260425T142432Z
UID:a9542225-f83b-4c0c-a1f8-bcab074f5da2
DTSTART:20260518T093000
DTEND:20260518T103000
DESCRIPTION:
LOCATION:
SUMMARY:K5 Awards Day
END:VEVENT
BEGIN:VEVENT
DTSTAMP:20260425T142432Z
UID:4d5aa0a6-5162-421c-9d29-c08d2cd73b85
DTSTART:20260518T150000
DTEND:20260518T160000
DESCRIPTION:
LOCATION:
SUMMARY:Math Club (Group 2)
END:VEVENT
BEGIN:VEVENT
DTSTAMP:20260425T142432Z
UID:1e83e718-f8ab-428e-936b-14b01ee32830
DTSTART:20260519T090000
DTEND:20260519T100000
DESCRIPTION:
LOCATION:
SUMMARY:1st Grade Awards Day
END:VEVENT
BEGIN:VEVENT
DTSTAMP:20260425T142432Z
UID:157b838c-77f1-468a-a565-da5a48bb37ce
DTSTART:20260519T103000
DTEND:20260519T113000
DESCRIPTION:
LOCATION:
SUMMARY:2nd Grade Awards Day
END:VEVENT
BEGIN:VEVENT
DTSTAMP:20260425T142432Z
UID:0f4c1ab3-e0f1-4888-a2f5-6cea63f0da71
DTSTART:20260520T113000
DTEND:20260520T113000
DESCRIPTION:
LOCATION:
SUMMARY:Early Dismissal (11:30)
END:VEVENT
BEGIN:VEVENT
DTSTAMP:20260425T142432Z
UID:6bf5b11f-2d17-49fc-bbf6-f6350e4a8c24
DTSTART:20260520T180000
DTEND:20260520T183000
DESCRIPTION:
LOCATION:
SUMMARY:3rd Grade Awards Night (By Invitation)
END:VEVENT
BEGIN:VEVENT
DTSTAMP:20260425T142432Z
UID:75303008-0c9a-44f8-97d9-60c24a112db4
DTSTART:20260520T184500
DTEND:20260520T191500
DESCRIPTION:
LOCATION:
SUMMARY:4th Grade Awards Night (By Invitation)
END:VEVENT
BEGIN:VEVENT
DTSTAMP:20260425T142432Z
UID:47e784c1-3211-4461-8870-adb177155b54
DTSTART:20260520T193000
DTEND:20260520T200000
DESCRIPTION:
LOCATION:
SUMMARY:5th Grade Awards Night (By Invitation)
END:VEVENT
BEGIN:VEVENT
DTSTAMP:20260425T142432Z
UID:62863730-03b1-4c30-bdeb-5a3fcfb80b7a
DTSTART:20260520T201500
DTEND:20260520T204500
DESCRIPTION:
LOCATION:
SUMMARY:6th Grade Awards Night (By Invitation)
END:VEVENT
BEGIN:VEVENT
DTSTAMP:20260425T142432Z
UID:b730e587-7809-4cca-a5a3-df7b8e9ee0e0
DTSTART;VALUE=DATE:20260521
DTEND;VALUE=DATE:20260522
DESCRIPTION:
LOCATION:
SUMMARY:End of Quarter 4
END:VEVENT
BEGIN:VEVENT
DTSTAMP:20260425T142432Z
UID:d4fcf5ba-21ed-4634-b72d-6700bf63974c
DTSTART;VALUE=DATE:20260521
DTEND;VALUE=DATE:20260522
DESCRIPTION:
LOCATION:
SUMMARY:Last Day for Students
END:VEVENT
BEGIN:VEVENT
DTSTAMP:20260425T142432Z
UID:1ea4880e-a20f-41f1-b8ec-5f3ea02e788f
DTSTART;VALUE=DATE:20260521
DTEND;VALUE=DATE:20260522
DESCRIPTION:
LOCATION:
SUMMARY:Report Cards
END:VEVENT
BEGIN:VEVENT
DTSTAMP:20260425T142432Z
UID:91f1fa5e-455c-4644-b7ff-702ce40d6185
DTSTART:20260521T113000
DTEND:20260521T113000
DESCRIPTION:
LOCATION:
SUMMARY:Early Dismissal (11:30)
END:VEVENT
BEGIN:VEVENT
DTSTAMP:20260425T142432Z
UID:558d3c2d-b683-406a-b428-2800bd7112ab
DTSTART;VALUE=DATE:20260522
DTEND;VALUE=DATE:20260523
DESCRIPTION:
LOCATION:
SUMMARY:In-Service Day (No School for Students)/Inclement Weather Day
END:VEVENT
BEGIN:VEVENT
DTSTAMP:20260425T142432Z
UID:b2b473f8-3566-43ec-93f9-6758fce935c4
DTSTART;VALUE=DATE:20260526
DTEND;VALUE=DATE:20260529
DESCRIPTION:
LOCATION:
SUMMARY:Inclement Weather Day
END:VEVENT
BEGIN:VEVENT
DTSTAMP:20260425T142432Z
UID:e34f2aaf-71a2-43e3-8bf5-8ab4ea403bbd
DTSTART;VALUE=DATE:20270407
DTEND;VALUE=DATE:20270410
DESCRIPTION:
LOCATION:
SUMMARY:5th Grade Field Trip to Tybee Island
END:VEVENT
END:VCALENDAR
