BEGIN:VCALENDAR
VERSION:2.0
PRODID:icalendar-ruby
CALSCALE:GREGORIAN
BEGIN:VTIMEZONE
TZID:America/New_York
BEGIN:DAYLIGHT
DTSTART:20260308T030000
TZOFFSETFROM:-0500
TZOFFSETTO:-0400
RRULE:FREQ=YEARLY;BYDAY=2SU;BYMONTH=3
TZNAME:EDT
END:DAYLIGHT
BEGIN:STANDARD
DTSTART:20261101T010000
TZOFFSETFROM:-0400
TZOFFSETTO:-0500
RRULE:FREQ=YEARLY;BYDAY=1SU;BYMONTH=11
TZNAME:EST
END:STANDARD
END:VTIMEZONE
BEGIN:VEVENT
DTSTAMP:20260421T002839Z
UID:1ecdd91b-6ced-4ad5-99de-77b1988ed5cc
DTSTART;VALUE=DATE:20260420
DTEND;VALUE=DATE:20260425
DESCRIPTION:
LOCATION:
SUMMARY:Family Related Arts Week (4k - 2nd)
END:VEVENT
BEGIN:VEVENT
DTSTAMP:20260421T002839Z
UID:c8e94e88-a481-46a7-9c2c-47521a872782
DTSTART:20260421T180000
DTEND:20260421T200000
DESCRIPTION:
LOCATION:
SUMMARY:LES Skate Night
END:VEVENT
BEGIN:VEVENT
DTSTAMP:20260421T002839Z
UID:28b45089-867a-4d20-ba28-c4d6a74e0625
DTSTART;VALUE=DATE:20260423
DTEND;VALUE=DATE:20260424
DESCRIPTION:
LOCATION:
SUMMARY:Progress Reports
END:VEVENT
BEGIN:VEVENT
DTSTAMP:20260421T002839Z
UID:0d98d9d0-fae7-4968-9fc7-05e114c593e9
DTSTART:20260423T173000
DTEND:20260423T183000
DESCRIPTION:
LOCATION:La France Elementary School\, 550 Williams St\, Pendleton\, SC 296
 70\, USA
SUMMARY:Moving up to Middle - RMS Parent Session
END:VEVENT
BEGIN:VEVENT
DTSTAMP:20260421T002839Z
UID:50f1c31b-11b6-45de-99d4-2362af2c64bb
DTSTART;VALUE=DATE:20260427
DTEND;VALUE=DATE:20260502
DESCRIPTION:
LOCATION:
SUMMARY:Family Related Arts Week (3rd - 6th)
END:VEVENT
BEGIN:VEVENT
DTSTAMP:20260421T002839Z
UID:5d3c44da-b704-4a64-9bba-137ac36aeb48
DTSTART:20260430T160000
DTEND:20260430T163000
DESCRIPTION:District Annual Federal Programs Meeting : Google Meet Link <br
 >Thursday\, April 30 · 4:00 – 4:30pm<br>Time zone: America/New_York<br>
 Google Meet joining info<br>Video call link: <a href="https://www.google.c
 om/url?q=https://meet.google.com/qxi-fbrk-vgh&amp\;sa=D&amp\;source=calend
 ar&amp\;ust=1774098678740055&amp\;usg=AOvVaw3Ili1py0WzgCaTQGrpj4YP" target
 ="_blank">https://meet.google.com/qxi-fbrk-vgh</a><br>Or dial: ‪(US) +1 
 402-867-1201‬ PIN: ‪319 701 173‬#
LOCATION:
SUMMARY:District Annual Federal Programs Meeting : Google Meet Link 
END:VEVENT
BEGIN:VEVENT
DTSTAMP:20260421T002839Z
UID:46760d65-c859-40bc-9e47-c089571f83a4
DTSTART;VALUE=DATE:20260501
DTEND;VALUE=DATE:20260502
DESCRIPTION:
LOCATION:
SUMMARY:All Library Books Due
END:VEVENT
BEGIN:VEVENT
DTSTAMP:20260421T002839Z
UID:32fe37cc-fba7-4d55-ab14-994a32a3499c
DTSTART;VALUE=DATE:20260504
DTEND;VALUE=DATE:20260505
DESCRIPTION:
LOCATION:
SUMMARY:5K Field Trip
END:VEVENT
BEGIN:VEVENT
DTSTAMP:20260421T002839Z
UID:bfb0f8d9-8b41-4b0b-ac21-15b4237430e0
DTSTART;VALUE=DATE:20260504
DTEND;VALUE=DATE:20260505
DESCRIPTION:
LOCATION:
SUMMARY:5K Registration Day
END:VEVENT
BEGIN:VEVENT
DTSTAMP:20260421T002839Z
UID:ac0f69ce-322f-40a3-b884-cd8b592218b7
DTSTART;VALUE=DATE:20260505
DTEND;VALUE=DATE:20260506
DESCRIPTION:
LOCATION:
SUMMARY:SCReady ELA Day 1
END:VEVENT
BEGIN:VEVENT
DTSTAMP:20260421T002839Z
UID:aacfa27e-6c2e-401a-9259-5c2916ec17fb
DTSTART;VALUE=DATE:20260506
DTEND;VALUE=DATE:20260507
DESCRIPTION:
LOCATION:
SUMMARY:SCReady ELA Day 2
END:VEVENT
BEGIN:VEVENT
DTSTAMP:20260421T002839Z
UID:709cb5dc-93c7-4107-92cb-83d0c9c02f46
DTSTART;VALUE=DATE:20260507
DTEND;VALUE=DATE:20260508
DESCRIPTION:
LOCATION:
SUMMARY:SCReady Writing
END:VEVENT
BEGIN:VEVENT
DTSTAMP:20260421T002839Z
UID:cbca3afb-d664-4316-b332-fa2aebffbbdc
DTSTART:20260511T190000
DTEND:20260511T200000
DESCRIPTION:
LOCATION:
SUMMARY:Board Meeting
END:VEVENT
BEGIN:VEVENT
DTSTAMP:20260421T002839Z
UID:e2147a3e-07e4-42e4-8edb-9b2eda29a6f8
DTSTART;VALUE=DATE:20260512
DTEND;VALUE=DATE:20260513
DESCRIPTION:
LOCATION:
SUMMARY:SCReady Math Day 1
END:VEVENT
BEGIN:VEVENT
DTSTAMP:20260421T002839Z
UID:c8ae1106-3ea0-49a6-bf1a-2f0541dc061f
DTSTART;VALUE=DATE:20260513
DTEND;VALUE=DATE:20260514
DESCRIPTION:
LOCATION:
SUMMARY:SCReady Math Day 2
END:VEVENT
BEGIN:VEVENT
DTSTAMP:20260421T002839Z
UID:2f1e3fb4-635a-4661-880a-65cf0074e008
DTSTART;VALUE=DATE:20260514
DTEND;VALUE=DATE:20260515
DESCRIPTION:
LOCATION:
SUMMARY:SCReady Science
END:VEVENT
BEGIN:VEVENT
DTSTAMP:20260421T002839Z
UID:265be44b-9a24-4a14-87db-19e2b8a665ec
DTSTART;VALUE=DATE:20260515
DTEND;VALUE=DATE:20260516
DESCRIPTION:10 or 10:30
LOCATION:
SUMMARY:PHS Grad Walk
END:VEVENT
BEGIN:VEVENT
DTSTAMP:20260421T002839Z
UID:55ff8628-9658-4c4b-856e-a237047c56cb
DTSTART;VALUE=DATE:20260518
DTEND;VALUE=DATE:20260519
DESCRIPTION:8:00 - 8:25 - 4K  \n8:30 - 9:30 - 5K  \n9:40 - 11:00 - 1st
  \n11:30 - 12:30 - 2nd  \n12:40- 1:40 - 5th grade\n1:45 - 5th grade gra
 d walk - start in the new wing
LOCATION:
SUMMARY:Awards Day
END:VEVENT
BEGIN:VEVENT
DTSTAMP:20260421T002839Z
UID:cfc3cdab-bf31-4c1d-b3ee-a894af70a363
DTSTART;VALUE=DATE:20260519
DTEND;VALUE=DATE:20260520
DESCRIPTION:10:15 - 11:15 - 3rd Grade\n11:30 - 12:30 - 4th Grade\n12:45 - 1
 :45 - 6th Grade \n1:55 - 2:15 -  6th Grade Graduation Walk - start at 
 4th grade classes
LOCATION:
SUMMARY:Awards Day and 6th Grade Grad Walk
END:VEVENT
BEGIN:VEVENT
DTSTAMP:20260421T002839Z
UID:af21bf9c-122e-4d14-adb4-2c9450fc3ab9
DTSTART;VALUE=DATE:20260520
DTEND;VALUE=DATE:20260521
DESCRIPTION:10:00 - 11:00 - Be packed up before going to lunch.  Grab lunc
 hes\, eat outside\, and enjoy water day.
LOCATION:
SUMMARY:5th and 6th Grade Water Day
END:VEVENT
BEGIN:VEVENT
DTSTAMP:20260421T002839Z
UID:31bf3f87-a7a2-4466-9d60-60f17ac32f79
DTSTART:20260520T113000
DTEND:20260520T114500
DESCRIPTION:
LOCATION:
SUMMARY:Half Day Dismissal
END:VEVENT
BEGIN:VEVENT
DTSTAMP:20260421T002839Z
UID:5ec2939f-5209-41b2-a549-b9b4e4a16bd6
DTSTART;VALUE=DATE:20260521
DTEND;VALUE=DATE:20260522
DESCRIPTION:
LOCATION:
SUMMARY:End of Nine Weeks
END:VEVENT
BEGIN:VEVENT
DTSTAMP:20260421T002839Z
UID:40623bb3-2c67-41b0-90cd-95db56b04d60
DTSTART;VALUE=DATE:20260521
DTEND;VALUE=DATE:20260522
DESCRIPTION:
LOCATION:
SUMMARY:Last Day for Students
END:VEVENT
BEGIN:VEVENT
DTSTAMP:20260421T002839Z
UID:c0deca09-3f27-4f5d-beb4-2e2d853ac909
DTSTART;VALUE=DATE:20260521
DTEND;VALUE=DATE:20260522
DESCRIPTION:
LOCATION:
SUMMARY:Report Cards Emailed to Families
END:VEVENT
BEGIN:VEVENT
DTSTAMP:20260421T002839Z
UID:d1f3ec31-a59e-4b5d-ae8a-95fe4fe9b7bb
DTSTART:20260521T113000
DTEND:20260521T114500
DESCRIPTION:
LOCATION:
SUMMARY:Half Day Dismissal
END:VEVENT
BEGIN:VEVENT
DTSTAMP:20260421T002839Z
UID:d13bbdf8-35f6-4d38-b122-31435b2e31f3
DTSTART:20260521T180000
DTEND:20260521T190000
DESCRIPTION:
LOCATION:
SUMMARY:PHS Graduation 
END:VEVENT
BEGIN:VEVENT
DTSTAMP:20260421T002839Z
UID:ae211aba-f07c-40b3-8e85-e052713cd963
DTSTART;VALUE=DATE:20260522
DTEND;VALUE=DATE:20260523
DESCRIPTION:
LOCATION:
SUMMARY:Inclement Weather Make-up Day
END:VEVENT
BEGIN:VEVENT
DTSTAMP:20260421T002839Z
UID:2acd4251-eabc-4b11-904e-3f75e040583e
DTSTART:20260601T190000
DTEND:20260601T200000
DESCRIPTION:
LOCATION:
SUMMARY:Board Meeting
END:VEVENT
BEGIN:VEVENT
DTSTAMP:20260421T002839Z
UID:4afac04c-077d-42ba-90ce-4a0c18dc879e
DTSTART:20270211T173000
DTEND:20270211T190000
DESCRIPTION:
LOCATION:
SUMMARY:LES Family Dance
END:VEVENT
END:VCALENDAR
