BEGIN:VCALENDAR
VERSION:2.0
PRODID:icalendar-ruby
CALSCALE:GREGORIAN
BEGIN:VTIMEZONE
TZID:America/New_York
BEGIN:DAYLIGHT
DTSTART:20260308T030000
TZOFFSETFROM:-0500
TZOFFSETTO:-0400
RRULE:FREQ=YEARLY;BYDAY=2SU;BYMONTH=3
TZNAME:EDT
END:DAYLIGHT
BEGIN:STANDARD
DTSTART:20261101T010000
TZOFFSETFROM:-0400
TZOFFSETTO:-0500
RRULE:FREQ=YEARLY;BYDAY=1SU;BYMONTH=11
TZNAME:EST
END:STANDARD
END:VTIMEZONE
BEGIN:VEVENT
DTSTAMP:20260426T021741Z
UID:ae4cc594-066d-4364-b4a4-428b781038ed
DTSTART:20260426T101500
DTEND:20260426T114500
DESCRIPTION:<em>Purified by Love: Pathway to Paradis</em><em>e</em><br>Sund
 ays or Mondays at 10:15 AM (same content)<br>St. Mary’s Parish Center<b
 r><a href="https://docs.google.com/forms/d/e/1FAIpQLSdc6UTTyqOV9UlgyW5jFmn
 h8Y59m4d8YONNWIxfEsuT4ZEbIA/viewform" target="_blank"><u>Purified by Love 
 Sign-up Here</u></a> <br>Discover how death becomes a gentle gateway to G
 od's embrace\, judgment a merciful encounter with divine justice\, purgato
 ry a loving refinement that prepares our souls for perfect union\, and hea
 ven an endless symphony of joy in the Father's house.
LOCATION:6919 Transit Rd\, East Amherst\, NY 14051\, USA
SUMMARY:Purified by Love Study
END:VEVENT
BEGIN:VEVENT
DTSTAMP:20260426T021741Z
UID:285d4a0b-9907-4c9a-a2a7-6dea521849da
DTSTART:20260427T101500
DTEND:20260427T114500
DESCRIPTION:<em>Purified by Love: Pathway to Paradis</em><em>e</em><br>Sund
 ays or Mondays at 10:15 AM (same content)<br>St. Mary’s Parish Center<b
 r><a href="https://docs.google.com/forms/d/e/1FAIpQLSdc6UTTyqOV9UlgyW5jFmn
 h8Y59m4d8YONNWIxfEsuT4ZEbIA/viewform" target="_blank"><u>Purified by Love 
 Sign-up Here</u></a> <br>Discover how death becomes a gentle gateway to G
 od's embrace\, judgment a merciful encounter with divine justice\, purgato
 ry a loving refinement that prepares our souls for perfect union\, and hea
 ven an endless symphony of joy in the Father's house.
LOCATION:6919 Transit Rd\, East Amherst\, NY 14051\, USA
SUMMARY:Purified by Love Study
END:VEVENT
BEGIN:VEVENT
DTSTAMP:20260426T021741Z
UID:83a6aae3-0c55-45af-aeb6-9cfa6e23419d
DTSTART:20260503T101500
DTEND:20260503T114500
DESCRIPTION:<em>Purified by Love: Pathway to Paradis</em><em>e</em><br>Sund
 ays or Mondays at 10:15 AM (same content)<br>St. Mary’s Parish Center<b
 r><a href="https://docs.google.com/forms/d/e/1FAIpQLSdc6UTTyqOV9UlgyW5jFmn
 h8Y59m4d8YONNWIxfEsuT4ZEbIA/viewform" target="_blank"><u>Purified by Love 
 Sign-up Here</u></a> <br>Discover how death becomes a gentle gateway to G
 od's embrace\, judgment a merciful encounter with divine justice\, purgato
 ry a loving refinement that prepares our souls for perfect union\, and hea
 ven an endless symphony of joy in the Father's house.
LOCATION:6919 Transit Rd\, East Amherst\, NY 14051\, USA
SUMMARY:Purified by Love Study
END:VEVENT
BEGIN:VEVENT
DTSTAMP:20260426T021741Z
UID:974714e5-4c96-4e20-8b02-e69696c116e9
DTSTART:20260504T101500
DTEND:20260504T114500
DESCRIPTION:<em>Purified by Love: Pathway to Paradis</em><em>e</em><br>Sund
 ays or Mondays at 10:15 AM (same content)<br>St. Mary’s Parish Center<b
 r><a href="https://docs.google.com/forms/d/e/1FAIpQLSdc6UTTyqOV9UlgyW5jFmn
 h8Y59m4d8YONNWIxfEsuT4ZEbIA/viewform" target="_blank"><u>Purified by Love 
 Sign-up Here</u></a> <br>Discover how death becomes a gentle gateway to G
 od's embrace\, judgment a merciful encounter with divine justice\, purgato
 ry a loving refinement that prepares our souls for perfect union\, and hea
 ven an endless symphony of joy in the Father's house.
LOCATION:6919 Transit Rd\, East Amherst\, NY 14051\, USA
SUMMARY:Purified by Love Study
END:VEVENT
BEGIN:VEVENT
DTSTAMP:20260426T021741Z
UID:afc4ba9b-ad0e-4e42-9caf-07fd04ac954d
DTSTART:20260510T084500
DTEND:20260510T090000
DESCRIPTION:<p>Before 9 AM Mass begins\, we will crown our statue of the Bl
 essed Mother located at the traffic circle in the back parking lot of St. 
 Mary's church. </p>
LOCATION:6919 Transit Rd\, East Amherst\, NY 14051\, USA
SUMMARY:May Crowning
END:VEVENT
BEGIN:VEVENT
DTSTAMP:20260426T021741Z
UID:1c8c85cb-b3a2-4e6e-8017-c31683a05699
DTSTART:20260510T101500
DTEND:20260510T114500
DESCRIPTION:<em>Purified by Love: Pathway to Paradis</em><em>e</em><br>Sund
 ays or Mondays at 10:15 AM (same content)<br>St. Mary’s Parish Center<b
 r><a href="https://docs.google.com/forms/d/e/1FAIpQLSdc6UTTyqOV9UlgyW5jFmn
 h8Y59m4d8YONNWIxfEsuT4ZEbIA/viewform" target="_blank"><u>Purified by Love 
 Sign-up Here</u></a> <br>Discover how death becomes a gentle gateway to G
 od's embrace\, judgment a merciful encounter with divine justice\, purgato
 ry a loving refinement that prepares our souls for perfect union\, and hea
 ven an endless symphony of joy in the Father's house.
LOCATION:6919 Transit Rd\, East Amherst\, NY 14051\, USA
SUMMARY:Purified by Love Study
END:VEVENT
BEGIN:VEVENT
DTSTAMP:20260426T021741Z
UID:6759e9e4-e14f-4ec8-987a-6b3192b5d41e
DTSTART:20260511T101500
DTEND:20260511T114500
DESCRIPTION:<em>Purified by Love: Pathway to Paradis</em><em>e</em><br>Sund
 ays or Mondays at 10:15 AM (same content)<br>St. Mary’s Parish Center<b
 r><a href="https://docs.google.com/forms/d/e/1FAIpQLSdc6UTTyqOV9UlgyW5jFmn
 h8Y59m4d8YONNWIxfEsuT4ZEbIA/viewform" target="_blank"><u>Purified by Love 
 Sign-up Here</u></a> <br>Discover how death becomes a gentle gateway to G
 od's embrace\, judgment a merciful encounter with divine justice\, purgato
 ry a loving refinement that prepares our souls for perfect union\, and hea
 ven an endless symphony of joy in the Father's house.
LOCATION:6919 Transit Rd\, East Amherst\, NY 14051\, USA
SUMMARY:Purified by Love Study
END:VEVENT
BEGIN:VEVENT
DTSTAMP:20260426T021741Z
UID:db661f17-36cd-438b-945b-76ae544d536d
DTSTART:20260511T180000
DTEND:20260511T193000
DESCRIPTION:<p><b>HOPE &amp\; HEALING CONNECTIONS </b>(grief support group)
  Experiencing loss? Death of a spouse\, child\, or other loved one? Divorc
 e. Miscarriage. Adoption/foster care loss. Monthly support group for anyon
 e experiencing grief. You are welcome to share\, or just listen and make c
 onnections. Led by Heidi Rotella (licensed therapist). Second Monday of th
 e month. <b> St. Mary’s Parish Center\, Room 109.</b></p>
LOCATION:
SUMMARY:Hope & Healing Connections Grief Support
END:VEVENT
BEGIN:VEVENT
DTSTAMP:20260426T021741Z
UID:c779549b-9ccb-4e0b-b7c4-eddebc38a063
DTSTART:20260511T190000
DTEND:20260511T203000
DESCRIPTION:We will welcome local author\, Kathleen Montesanti\, for a read
 ing of her book\, &quot\;Hey! It&#39\;s my Birthaversary\,&quot\; and a di
 scussion on making meaningful family connections.
LOCATION:St Mary's Church\, 6919 Transit Rd\, East Amherst\, NY 14051\, USA
SUMMARY:Daughters of Mary
END:VEVENT
BEGIN:VEVENT
DTSTAMP:20260426T021741Z
UID:f4951211-2589-459f-b93a-1057efee3298
DTSTART:20260517T101500
DTEND:20260517T114500
DESCRIPTION:<em>Purified by Love: Pathway to Paradis</em><em>e</em><br>Sund
 ays or Mondays at 10:15 AM (same content)<br>St. Mary’s Parish Center<b
 r><a href="https://docs.google.com/forms/d/e/1FAIpQLSdc6UTTyqOV9UlgyW5jFmn
 h8Y59m4d8YONNWIxfEsuT4ZEbIA/viewform" target="_blank"><u>Purified by Love 
 Sign-up Here</u></a> <br>Discover how death becomes a gentle gateway to G
 od's embrace\, judgment a merciful encounter with divine justice\, purgato
 ry a loving refinement that prepares our souls for perfect union\, and hea
 ven an endless symphony of joy in the Father's house.
LOCATION:6919 Transit Rd\, East Amherst\, NY 14051\, USA
SUMMARY:Purified by Love Study
END:VEVENT
BEGIN:VEVENT
DTSTAMP:20260426T021741Z
UID:92f986e2-f189-490f-8ca6-4c9cd5539d8f
DTSTART:20260518T101500
DTEND:20260518T114500
DESCRIPTION:<em>Purified by Love: Pathway to Paradis</em><em>e</em><br>Sund
 ays or Mondays at 10:15 AM (same content)<br>St. Mary’s Parish Center<b
 r><a href="https://docs.google.com/forms/d/e/1FAIpQLSdc6UTTyqOV9UlgyW5jFmn
 h8Y59m4d8YONNWIxfEsuT4ZEbIA/viewform" target="_blank"><u>Purified by Love 
 Sign-up Here</u></a> <br>Discover how death becomes a gentle gateway to G
 od's embrace\, judgment a merciful encounter with divine justice\, purgato
 ry a loving refinement that prepares our souls for perfect union\, and hea
 ven an endless symphony of joy in the Father's house.
LOCATION:6919 Transit Rd\, East Amherst\, NY 14051\, USA
SUMMARY:Purified by Love Study
END:VEVENT
BEGIN:VEVENT
DTSTAMP:20260426T021741Z
UID:9f8958a5-5287-42fb-9795-d40c53c3f6f0
DTSTART:20260518T183000
DTEND:20260518T200000
DESCRIPTION:We will create a Living Rosary! <br>Meet in St. Mary&#39\;s gy
 m\, enter through Door B-1.<br><a href="https://www.google.com/url?q=https
 ://www.signupgenius.com/go/20F054CABA72FA7FD0-breakthrough1%23/&amp\;sa=D&
 amp\;source=calendar&amp\;ust=1774796590542952&amp\;usg=AOvVaw1kADpZQIORC8
 StiKtNQ2yK" target="_blank">Click here to sign-up</a>
LOCATION:St. Mary School Swormville\, 6919 Transit Rd\, East Amherst\, NY 1
 4051\, USA
SUMMARY:Breakthrough Youth Group
END:VEVENT
BEGIN:VEVENT
DTSTAMP:20260426T021741Z
UID:3218c2e8-28d1-4c2f-af9e-5ac3b83ff047
DTSTART:20260525T093000
DTEND:20260525T103000
DESCRIPTION:Bring a chair. Cemetery is located on County Rd.\, just East of
  the Stahley Rd./County Rd. intersection.
LOCATION:
SUMMARY:Mass in St. Mary's Cemetery
END:VEVENT
BEGIN:VEVENT
DTSTAMP:20260426T021741Z
UID:3e9724fd-a70d-4e3a-97aa-2df8ea993ffd
DTSTART:20260531T101500
DTEND:20260531T114500
DESCRIPTION:<h5><span style="font-weight: normal\;"><em>Purified by Love: P
 athway to Paradis</em><em>e</em><br>Sundays or <span>Mondays at 10:15 AM 
 (same content)</span><br><span>St. Mary’s Parish Center</span></span></h
 5><h5><span style="font-weight: normal\;">Embrace life's trials with renew
 ed confidence and anticipation for the paradise awaiting all who say yes t
 o God's infinite love.</span></h5>
LOCATION:6919 Transit Rd\, East Amherst\, NY 14051\, USA
SUMMARY:Purified by Love Study
END:VEVENT
BEGIN:VEVENT
DTSTAMP:20260426T021741Z
UID:dc2e363d-2866-458d-ab86-4b81c03e2b29
DTSTART:20260601T101500
DTEND:20260601T114500
DESCRIPTION:<h5><strong><b><em>Purified by Love: Pathway to Paradis</em></b
 ></strong><strong><b><em>e</em></b></strong><br>Sundays or <span>Mondays 
 at 10:15 AM (same content)</span><br><span>St. Mary’s Parish Center</spa
 n></h5><h5><span>Embrace life's trials with renewed confidence and anticip
 ation for the paradise awaiting all who say yes to God's infinite love.</s
 pan></h5>
LOCATION:6919 Transit Rd\, East Amherst\, NY 14051\, USA
SUMMARY:Purified by Love Study
END:VEVENT
BEGIN:VEVENT
DTSTAMP:20260426T021741Z
UID:07058a09-22a3-4b49-aa48-5c21d82799c4
DTSTART:20260607T101500
DTEND:20260607T114500
DESCRIPTION:<h5><span style="font-weight: normal\;"><em>Purified by Love: P
 athway to Paradis</em><em>e</em><br>Sundays or <span>Mondays at 10:15 AM 
 (same content)</span><br><span>St. Mary’s Parish Center</span></span></h
 5><h5><span style="font-weight: normal\;">Embrace life's trials with renew
 ed confidence and anticipation for the paradise awaiting all who say yes t
 o God's infinite love.</span></h5>
LOCATION:6919 Transit Rd\, East Amherst\, NY 14051\, USA
SUMMARY:Purified by Love Study
END:VEVENT
BEGIN:VEVENT
DTSTAMP:20260426T021741Z
UID:760a2cf7-a437-4201-8c42-7362b809161d
DTSTART:20260608T101500
DTEND:20260608T114500
DESCRIPTION:<h5><strong><b><em>Purified by Love: Pathway to Paradis</em></b
 ></strong><strong><b><em>e</em></b></strong><br>Sundays or <span>Mondays 
 at 10:15 AM (same content)</span><br><span>St. Mary’s Parish Center</spa
 n></h5><h5><span>Embrace life's trials with renewed confidence and anticip
 ation for the paradise awaiting all who say yes to God's infinite love.</s
 pan></h5>
LOCATION:6919 Transit Rd\, East Amherst\, NY 14051\, USA
SUMMARY:Purified by Love Study
END:VEVENT
BEGIN:VEVENT
DTSTAMP:20260426T021741Z
UID:2035f475-4bc8-4756-a7c1-32ef9d17b57c
DTSTART:20260608T180000
DTEND:20260608T193000
DESCRIPTION:<p><b>HOPE &amp\; HEALING CONNECTIONS </b>(grief support group)
  Experiencing loss? Death of a spouse\, child\, or other loved one? Divorc
 e. Miscarriage. Adoption/foster care loss. Monthly support group for anyon
 e experiencing grief. You are welcome to share\, or just listen and make c
 onnections. Led by Heidi Rotella (licensed therapist). Second Monday of th
 e month. <b> St. Mary’s Parish Center\, Room 109.</b></p>
LOCATION:
SUMMARY:Hope & Healing Connections Grief Support
END:VEVENT
BEGIN:VEVENT
DTSTAMP:20260426T021741Z
UID:1dee53ee-3d7f-488c-8343-3b9b2f4ad8c7
DTSTART:20260614T101500
DTEND:20260614T114500
DESCRIPTION:<h5><span style="font-weight: normal\;"><em>Purified by Love: P
 athway to Paradis</em><em>e</em><br>Sundays or <span>Mondays at 10:15 AM 
 (same content)</span><br><span>St. Mary’s Parish Center</span></span></h
 5><h5><span style="font-weight: normal\;">Embrace life's trials with renew
 ed confidence and anticipation for the paradise awaiting all who say yes t
 o God's infinite love.</span></h5>
LOCATION:6919 Transit Rd\, East Amherst\, NY 14051\, USA
SUMMARY:Purified by Love Study
END:VEVENT
BEGIN:VEVENT
DTSTAMP:20260426T021741Z
UID:c97183b3-0512-494f-9265-2b226316b43a
DTSTART:20260615T101500
DTEND:20260615T114500
DESCRIPTION:<h5><strong><b><em>Purified by Love: Pathway to Paradis</em></b
 ></strong><strong><b><em>e</em></b></strong><br>Sundays or <span>Mondays 
 at 10:15 AM (same content)</span><br><span>St. Mary’s Parish Center</spa
 n></h5><h5><span>Embrace life's trials with renewed confidence and anticip
 ation for the paradise awaiting all who say yes to God's infinite love.</s
 pan></h5>
LOCATION:6919 Transit Rd\, East Amherst\, NY 14051\, USA
SUMMARY:Purified by Love Study
END:VEVENT
BEGIN:VEVENT
DTSTAMP:20260426T021741Z
UID:81e66160-0a8f-4fbc-8cd0-0e8b8125b704
DTSTART:20260727T190000
DTEND:20260727T203000
DESCRIPTION:Book discussion: &quot\; You Are Never Too Busy: Seeing Your Ti
 me the Way God Sees your time&quot\; by Conor Gallagher
LOCATION:St Mary's Church\, 6919 Transit Rd\, East Amherst\, NY 14051\, USA
SUMMARY:Daughters of Mary Book Discussion
END:VEVENT
END:VCALENDAR
