BEGIN:VCALENDAR
VERSION:2.0
PRODID:icalendar-ruby
CALSCALE:GREGORIAN
BEGIN:VTIMEZONE
TZID:America/Chicago
BEGIN:DAYLIGHT
DTSTART:20260308T030000
TZOFFSETFROM:-0600
TZOFFSETTO:-0500
RRULE:FREQ=YEARLY;BYDAY=2SU;BYMONTH=3
TZNAME:CDT
END:DAYLIGHT
BEGIN:STANDARD
DTSTART:20261101T010000
TZOFFSETFROM:-0500
TZOFFSETTO:-0600
RRULE:FREQ=YEARLY;BYDAY=1SU;BYMONTH=11
TZNAME:CST
END:STANDARD
END:VTIMEZONE
BEGIN:VEVENT
DTSTAMP:20260425T021354Z
UID:d540559e-a578-4371-afd2-1d5746528661
DTSTART:20260520T160000
DTEND:20260520T170000
DESCRIPTION:Chambers County School District monthly board meeting.  4:00 Ce
 ntral/5:00 Eastern
LOCATION:Chambers County Board of Education\, 1298 Vocational Dr\, La Fayet
 te\, AL 36862\, USA
SUMMARY:Board Meeting
END:VEVENT
BEGIN:VEVENT
DTSTAMP:20260425T021354Z
UID:7533bdfe-38ae-49e5-92bb-a7190d7681c1
DTSTART:20260617T160000
DTEND:20260617T170000
DESCRIPTION:Chambers County School District monthly board meeting.  4:00 Ce
 ntral/5:00 Eastern
LOCATION:Chambers County Board of Education\, 1298 Vocational Dr\, La Fayet
 te\, AL 36862\, USA
SUMMARY:Board Meeting
END:VEVENT
BEGIN:VEVENT
DTSTAMP:20260425T021354Z
UID:588b28b4-fd08-407d-89ff-df98cb4bb552
DTSTART:20260715T160000
DTEND:20260715T170000
DESCRIPTION:Chambers County School District monthly board meeting.  4:00 Ce
 ntral/5:00 Eastern
LOCATION:Chambers County Board of Education\, 1298 Vocational Dr\, La Fayet
 te\, AL 36862\, USA
SUMMARY:Board Meeting
END:VEVENT
BEGIN:VEVENT
DTSTAMP:20260425T021354Z
UID:70a8029e-70cd-4357-9f58-56579c3c9bef
DTSTART:20260819T160000
DTEND:20260819T170000
DESCRIPTION:Chambers County School District monthly board meeting.  4:00 Ce
 ntral/5:00 Eastern
LOCATION:Chambers County Board of Education\, 1298 Vocational Dr\, La Fayet
 te\, AL 36862\, USA
SUMMARY:Board Meeting
END:VEVENT
BEGIN:VEVENT
DTSTAMP:20260425T021354Z
UID:e0cfafd0-7dbc-4d0a-add5-1b4c2decdd5e
DTSTART:20260916T160000
DTEND:20260916T170000
DESCRIPTION:Chambers County School District monthly board meeting.  4:00 Ce
 ntral/5:00 Eastern
LOCATION:Chambers County Board of Education\, 1298 Vocational Dr\, La Fayet
 te\, AL 36862\, USA
SUMMARY:Board Meeting
END:VEVENT
BEGIN:VEVENT
DTSTAMP:20260425T021354Z
UID:fb3e2f49-72ca-492f-a70c-fa86d4156b47
DTSTART:20261021T160000
DTEND:20261021T170000
DESCRIPTION:Chambers County School District monthly board meeting.  4:00 Ce
 ntral/5:00 Eastern
LOCATION:Chambers County Board of Education\, 1298 Vocational Dr\, La Fayet
 te\, AL 36862\, USA
SUMMARY:Board Meeting
END:VEVENT
BEGIN:VEVENT
DTSTAMP:20260425T021354Z
UID:4dc90685-0ce1-47ae-86d3-bfb7e053eb3c
DTSTART:20261118T160000
DTEND:20261118T170000
DESCRIPTION:Chambers County School District monthly board meeting.  4:00 Ce
 ntral/5:00 Eastern
LOCATION:Chambers County Board of Education\, 1298 Vocational Dr\, La Fayet
 te\, AL 36862\, USA
SUMMARY:Board Meeting
END:VEVENT
BEGIN:VEVENT
DTSTAMP:20260425T021354Z
UID:108400a3-5900-4a8a-8ed3-a1190ca2aaed
DTSTART:20261216T160000
DTEND:20261216T170000
DESCRIPTION:Chambers County School District monthly board meeting.  4:00 Ce
 ntral/5:00 Eastern
LOCATION:Chambers County Board of Education\, 1298 Vocational Dr\, La Fayet
 te\, AL 36862\, USA
SUMMARY:Board Meeting
END:VEVENT
BEGIN:VEVENT
DTSTAMP:20260425T021354Z
UID:da549bcb-bf08-4eb5-a396-f0606e83db17
DTSTART:20270120T160000
DTEND:20270120T170000
DESCRIPTION:Chambers County School District monthly board meeting.  4:00 Ce
 ntral/5:00 Eastern
LOCATION:Chambers County Board of Education\, 1298 Vocational Dr\, La Fayet
 te\, AL 36862\, USA
SUMMARY:Board Meeting
END:VEVENT
BEGIN:VEVENT
DTSTAMP:20260425T021354Z
UID:3bd57cec-1601-4806-9ac3-06fc5f717601
DTSTART:20270217T160000
DTEND:20270217T170000
DESCRIPTION:Chambers County School District monthly board meeting.  4:00 Ce
 ntral/5:00 Eastern
LOCATION:Chambers County Board of Education\, 1298 Vocational Dr\, La Fayet
 te\, AL 36862\, USA
SUMMARY:Board Meeting
END:VEVENT
BEGIN:VEVENT
DTSTAMP:20260425T021354Z
UID:a16b73d6-8fcb-41da-a6c9-052adedb44b7
DTSTART:20270317T160000
DTEND:20270317T170000
DESCRIPTION:Chambers County School District monthly board meeting.  4:00 Ce
 ntral/5:00 Eastern
LOCATION:Chambers County Board of Education\, 1298 Vocational Dr\, La Fayet
 te\, AL 36862\, USA
SUMMARY:Board Meeting
END:VEVENT
END:VCALENDAR
