BEGIN:VCALENDAR
VERSION:2.0
PRODID:icalendar-ruby
CALSCALE:GREGORIAN
BEGIN:VTIMEZONE
TZID:America/New_York
BEGIN:DAYLIGHT
DTSTART:20260308T030000
TZOFFSETFROM:-0500
TZOFFSETTO:-0400
RRULE:FREQ=YEARLY;BYDAY=2SU;BYMONTH=3
TZNAME:EDT
END:DAYLIGHT
BEGIN:STANDARD
DTSTART:20261101T010000
TZOFFSETFROM:-0400
TZOFFSETTO:-0500
RRULE:FREQ=YEARLY;BYDAY=1SU;BYMONTH=11
TZNAME:EST
END:STANDARD
END:VTIMEZONE
BEGIN:VEVENT
DTSTAMP:20260423T184927Z
UID:ca099848-4411-4df7-92d1-9f01f3e35352
DTSTART;VALUE=DATE:20260422
DTEND;VALUE=DATE:20260425
DESCRIPTION:
LOCATION:
SUMMARY:HES - 5th Grade 4H Field Trip 
END:VEVENT
BEGIN:VEVENT
DTSTAMP:20260423T184927Z
UID:3f41583c-cd7d-4a1b-9693-2a234a430dc4
DTSTART;VALUE=DATE:20260424
DTEND;VALUE=DATE:20260425
DESCRIPTION:
LOCATION:
SUMMARY:HES Earth Day 
END:VEVENT
BEGIN:VEVENT
DTSTAMP:20260423T184927Z
UID:d48aa4fa-1fea-4261-b675-a84622e14dfb
DTSTART;VALUE=DATE:20260424
DTEND;VALUE=DATE:20260425
DESCRIPTION:
LOCATION:
SUMMARY:HES - Field Day Shirt Money DUe
END:VEVENT
BEGIN:VEVENT
DTSTAMP:20260423T184927Z
UID:f0a38d70-513e-4981-850e-e171d29ab62e
DTSTART;VALUE=DATE:20260428
DTEND;VALUE=DATE:20260429
DESCRIPTION:
LOCATION:
SUMMARY:HES - 4th grade field trip: State Capital  
END:VEVENT
BEGIN:VEVENT
DTSTAMP:20260423T184927Z
UID:ff96461d-089a-4f4a-9704-39c8dfcafc0b
DTSTART;VALUE=DATE:20260429
DTEND;VALUE=DATE:20260430
DESCRIPTION:
LOCATION:
SUMMARY:HES- 4th Grade Field Trip Ground Water
END:VEVENT
BEGIN:VEVENT
DTSTAMP:20260423T184927Z
UID:12698180-6a4a-45d7-9732-60e1ea8534bf
DTSTART:20260429T160000
DTEND:20260429T180000
DESCRIPTION:Calling all future Huguley Kindergarten Hurricanes.  Come visi
 t your teachers and make your choice.  Choose to be a Hurricane.
LOCATION:
SUMMARY:26-27 Kindergarten Signing Day
END:VEVENT
BEGIN:VEVENT
DTSTAMP:20260423T184927Z
UID:a020f5d3-943b-41d9-a4de-57a8ff29f0cb
DTSTART:20260429T170000
DTEND:20260429T180000
DESCRIPTION:
LOCATION:
SUMMARY:HES- LIttle Caesar Spirit Day
END:VEVENT
BEGIN:VEVENT
DTSTAMP:20260423T184927Z
UID:ad7bb6ec-d17f-4065-a0d9-4c75df6e5f94
DTSTART;VALUE=DATE:20260430
DTEND;VALUE=DATE:20260501
DESCRIPTION:
LOCATION:
SUMMARY:HES- 1st Grade Field Trip Little White House
END:VEVENT
BEGIN:VEVENT
DTSTAMP:20260423T184927Z
UID:aff604b5-acee-44cd-9b1e-bd42c8de1be9
DTSTART:20260501T103000
DTEND:20260501T133000
DESCRIPTION:
LOCATION:
SUMMARY:HES- Cookie Dough Game Truck
END:VEVENT
BEGIN:VEVENT
DTSTAMP:20260423T184927Z
UID:d5e1ad1a-ec4a-4602-8308-c8df823f7fb1
DTSTART:20260501T180000
DTEND:20260501T200000
DESCRIPTION:
LOCATION:
SUMMARY:SGA  Spring Dance
END:VEVENT
BEGIN:VEVENT
DTSTAMP:20260423T184927Z
UID:0ac2b7ad-7835-4a91-a9d5-ae10ee40d66c
DTSTART:20260505T123000
DTEND:20260505T140000
DESCRIPTION:
LOCATION:
SUMMARY:5th Graders visit W.F Burns
END:VEVENT
BEGIN:VEVENT
DTSTAMP:20260423T184927Z
UID:a21dbf4d-27d1-4b71-b5ed-c6aa94637188
DTSTART;VALUE=DATE:20260507
DTEND;VALUE=DATE:20260508
DESCRIPTION:
LOCATION:
SUMMARY:K- Red Carpet Event
END:VEVENT
BEGIN:VEVENT
DTSTAMP:20260423T184927Z
UID:2a9cc03d-2372-4205-8c8a-acd9fde8ffd4
DTSTART;VALUE=DATE:20260508
DTEND;VALUE=DATE:20260509
DESCRIPTION:
LOCATION:
SUMMARY:HES iReady 100lesson Field Trip
END:VEVENT
BEGIN:VEVENT
DTSTAMP:20260423T184927Z
UID:9ee788cc-2665-482e-860c-d5b9c2842955
DTSTART:20260508T093000
DTEND:20260508T103000
DESCRIPTION:
LOCATION:
SUMMARY:Pre K End of Year Celebration
END:VEVENT
BEGIN:VEVENT
DTSTAMP:20260423T184927Z
UID:57c6de8e-8543-493b-a510-0bc8e9a5a2dd
DTSTART;VALUE=DATE:20260513
DTEND;VALUE=DATE:20260514
DESCRIPTION:
LOCATION:
SUMMARY:AR 100 point  Trip
END:VEVENT
BEGIN:VEVENT
DTSTAMP:20260423T184927Z
UID:4317d513-5d11-49da-a35b-fce5af5faa38
DTSTART;VALUE=DATE:20260515
DTEND;VALUE=DATE:20260516
DESCRIPTION:
LOCATION:
SUMMARY:HES - Field Day 
END:VEVENT
BEGIN:VEVENT
DTSTAMP:20260423T184927Z
UID:e610f61f-92b0-45a0-bc45-7d58741e8fa6
DTSTART:20260519T103000
DTEND:20260519T120000
DESCRIPTION:
LOCATION:
SUMMARY:Kindergarten Celebration
END:VEVENT
BEGIN:VEVENT
DTSTAMP:20260423T184927Z
UID:ae3ab4f5-2914-4ec8-a657-a2cc9d82980f
DTSTART;VALUE=DATE:20260520
DTEND;VALUE=DATE:20260521
DESCRIPTION:
LOCATION:
SUMMARY:HES AWARDS DAY -1st-4th
END:VEVENT
BEGIN:VEVENT
DTSTAMP:20260423T184927Z
UID:9c70261b-cc23-4470-9ffa-99f39c927d8e
DTSTART:20260520T180000
DTEND:20260520T190000
DESCRIPTION:
LOCATION:
SUMMARY:HES 5th Grade Awards Day 
END:VEVENT
END:VCALENDAR
