BEGIN:VCALENDAR
VERSION:2.0
PRODID:icalendar-ruby
CALSCALE:GREGORIAN
BEGIN:VTIMEZONE
TZID:America/Chicago
BEGIN:DAYLIGHT
DTSTART:20260308T030000
TZOFFSETFROM:-0600
TZOFFSETTO:-0500
RRULE:FREQ=YEARLY;BYDAY=2SU;BYMONTH=3
TZNAME:CDT
END:DAYLIGHT
BEGIN:STANDARD
DTSTART:20261101T010000
TZOFFSETFROM:-0500
TZOFFSETTO:-0600
RRULE:FREQ=YEARLY;BYDAY=1SU;BYMONTH=11
TZNAME:CST
END:STANDARD
END:VTIMEZONE
BEGIN:VEVENT
DTSTAMP:20260421T145056Z
UID:ab14d3bf-7383-4e21-b15c-f0be8074d0cc
DTSTART:20260421T150000
DTEND:20260421T190000
DESCRIPTION:
LOCATION:801 S Franklin St\, Dwight\, IL 60420\, USA
SUMMARY:HS Track  - @ Dwight Invite
END:VEVENT
BEGIN:VEVENT
DTSTAMP:20260421T145056Z
UID:87e977f0-1969-47ec-a4c9-983c2567f4cf
DTSTART:20260424T160000
DTEND:20260424T190000
DESCRIPTION:
LOCATION:443 N Maple St\, Manteno\, IL 60950\, USA
SUMMARY:HS Track  - @  Manteno Invite
END:VEVENT
BEGIN:VEVENT
DTSTAMP:20260421T145056Z
UID:a12850bb-043a-437a-8ca2-6754df3f7fbd
DTSTART:20260427T160000
DTEND:20260427T190000
DESCRIPTION:
LOCATION:1134 3100 N\, Clifton\, IL 60927\, USA
SUMMARY:HS Track - @ Central
END:VEVENT
BEGIN:VEVENT
DTSTAMP:20260421T145056Z
UID:94b9c9b3-f16a-4a4e-bdad-ca387c8e038c
DTSTART:20260428T160000
DTEND:20260428T190000
DESCRIPTION:
LOCATION:138 S Belmont Ave\, Watseka\, IL 60970\, USA
SUMMARY:HS Track - F/S Invite @ Watseka
END:VEVENT
BEGIN:VEVENT
DTSTAMP:20260421T145056Z
UID:7c3e2889-9c87-4980-921d-2da88830a3be
DTSTART:20260501T154500
DTEND:20260501T194500
DESCRIPTION:
LOCATION:220 IL-115\, Herscher\, IL 60941\, USA
SUMMARY:HS Track - @ Herscher Invite
END:VEVENT
BEGIN:VEVENT
DTSTAMP:20260421T145056Z
UID:f84492c2-03a0-496f-9edc-fd6233936315
DTSTART:20260504T163000
DTEND:20260504T203000
DESCRIPTION:
LOCATION:801 W 2nd St\, Momence\, IL 60954\, USA
SUMMARY:HS Track - RVC Conference Meet @ Home
END:VEVENT
BEGIN:VEVENT
DTSTAMP:20260421T145056Z
UID:039e9d29-4579-41f6-9396-661690bc31d1
DTSTART:20260508T180000
DTEND:20260508T220000
DESCRIPTION:
LOCATION:1134 3100 N\, Clifton\, IL 60927\, USA
SUMMARY:HS Track - @ Central (Under the Lights)
END:VEVENT
BEGIN:VEVENT
DTSTAMP:20260421T145056Z
UID:28ce0517-2f02-420e-814f-bcf87d9a776c
DTSTART:20260511T163000
DTEND:20260511T193000
DESCRIPTION:
LOCATION:St. Anne Community High School District 302\, IL\, USA
SUMMARY:HS Track  - Girls Last Chance Meet @ St. Anne
END:VEVENT
BEGIN:VEVENT
DTSTAMP:20260421T145056Z
UID:d82c4382-7328-4740-809a-617e7c99d73a
DTSTART:20260518T163000
DTEND:20260518T193000
DESCRIPTION:
LOCATION:St. Anne Community High School District 302\, IL\, USA
SUMMARY:HS Track - Boys Last Chance Meet @ St. Anne
END:VEVENT
BEGIN:VEVENT
DTSTAMP:20260421T145056Z
UID:29d61e7a-4480-4755-95c3-ce5c968046cf
DTSTART:20260518T183000
DTEND:20260518T200000
DESCRIPTION:
LOCATION:MCUSD#1 District Office - 400 N Pine St\, Momence\, IL 60954\, USA
SUMMARY:Board of Education Meeting 
END:VEVENT
BEGIN:VEVENT
DTSTAMP:20260421T145056Z
UID:6318596b-b6cd-4ec6-9d43-e1347b1525cc
DTSTART;VALUE=DATE:20260525
DTEND;VALUE=DATE:20260526
DESCRIPTION:
LOCATION:
SUMMARY:No School - Memorial Day
END:VEVENT
BEGIN:VEVENT
DTSTAMP:20260421T145056Z
UID:60ef6ea3-c774-4c6c-ad53-dbfea54411d1
DTSTART:20260526T113000
DTEND:20260526T113000
DESCRIPTION:
LOCATION:
SUMMARY:Early Dismissal - 11:30 am 
END:VEVENT
BEGIN:VEVENT
DTSTAMP:20260421T145056Z
UID:7e98cb41-8ee9-4188-b006-0ec99bb30f6a
DTSTART:20260622T183000
DTEND:20260622T200000
DESCRIPTION:
LOCATION:MCUSD#1 District Office - 400 N Pine St\, Momence\, IL 60954\, USA
SUMMARY:Board of Education Meeting 
END:VEVENT
END:VCALENDAR
