BEGIN:VCALENDAR
VERSION:2.0
PRODID:icalendar-ruby
CALSCALE:GREGORIAN
BEGIN:VTIMEZONE
TZID:America/New_York
BEGIN:DAYLIGHT
DTSTART:20260308T030000
TZOFFSETFROM:-0500
TZOFFSETTO:-0400
RRULE:FREQ=YEARLY;BYDAY=2SU;BYMONTH=3
TZNAME:EDT
END:DAYLIGHT
BEGIN:STANDARD
DTSTART:20261101T010000
TZOFFSETFROM:-0400
TZOFFSETTO:-0500
RRULE:FREQ=YEARLY;BYDAY=1SU;BYMONTH=11
TZNAME:EST
END:STANDARD
END:VTIMEZONE
BEGIN:VEVENT
DTSTAMP:20260426T014531Z
UID:0b4fc757-99fb-4d8e-9068-2021ca0d3327
DTSTART;VALUE=DATE:20260518
DTEND;VALUE=DATE:20260521
DESCRIPTION:
LOCATION:
SUMMARY:LVS Senior Exams (In Person)
END:VEVENT
BEGIN:VEVENT
DTSTAMP:20260426T014531Z
UID:1a6f5f6e-1001-4d83-a1cf-2597bed468a4
DTSTART;VALUE=DATE:20260525
DTEND;VALUE=DATE:20260526
DESCRIPTION:
LOCATION:
SUMMARY:No School - Memorial Day
END:VEVENT
BEGIN:VEVENT
DTSTAMP:20260426T014531Z
UID:e9e87d86-3aaf-4653-b5a7-7e691ccb688b
DTSTART;VALUE=DATE:20260608
DTEND;VALUE=DATE:20260611
DESCRIPTION:
LOCATION:
SUMMARY:LVS In-Person Final Exams
END:VEVENT
BEGIN:VEVENT
DTSTAMP:20260426T014531Z
UID:b5b314d1-7392-4bb1-8c47-c05795320f06
DTSTART:20260608T190000
DTEND:20260608T210000
DESCRIPTION:
LOCATION:
SUMMARY:LVS Graduation Ceremony
END:VEVENT
BEGIN:VEVENT
DTSTAMP:20260426T014531Z
UID:a60b9114-5b77-4e6b-a1e1-91589fb4a6c7
DTSTART;VALUE=DATE:20260611
DTEND;VALUE=DATE:20260612
DESCRIPTION:
LOCATION:
SUMMARY:1/2 Day Students\; Last Day of School
END:VEVENT
BEGIN:VEVENT
DTSTAMP:20260426T014531Z
UID:a9a2aaf0-40d3-4c09-b2bf-c2c8f0a3f069
DTSTART;VALUE=DATE:20260611
DTEND;VALUE=DATE:20260612
DESCRIPTION:
LOCATION:
SUMMARY:End of Semester 2
END:VEVENT
END:VCALENDAR
