BEGIN:VCALENDAR
VERSION:2.0
PRODID:icalendar-ruby
CALSCALE:GREGORIAN
BEGIN:VTIMEZONE
TZID:America/New_York
BEGIN:DAYLIGHT
DTSTART:20260308T030000
TZOFFSETFROM:-0500
TZOFFSETTO:-0400
RRULE:FREQ=YEARLY;BYDAY=2SU;BYMONTH=3
TZNAME:EDT
END:DAYLIGHT
BEGIN:STANDARD
DTSTART:20261101T010000
TZOFFSETFROM:-0400
TZOFFSETTO:-0500
RRULE:FREQ=YEARLY;BYDAY=1SU;BYMONTH=11
TZNAME:EST
END:STANDARD
END:VTIMEZONE
BEGIN:VEVENT
DTSTAMP:20260422T085607Z
UID:e054f42b-ec58-4dcc-8331-078455440b53
DTSTART;VALUE=DATE:20260422
DTEND;VALUE=DATE:20260423
DESCRIPTION:
LOCATION:
SUMMARY:1/2 Day of School for Students
END:VEVENT
BEGIN:VEVENT
DTSTAMP:20260422T085607Z
UID:906cb382-9e2a-4db0-a5bc-d8176c88daed
DTSTART;VALUE=DATE:20260525
DTEND;VALUE=DATE:20260526
DESCRIPTION:
LOCATION:
SUMMARY:No School - Memorial Day
END:VEVENT
BEGIN:VEVENT
DTSTAMP:20260422T085607Z
UID:af046bae-c5e6-4229-9493-e91f5cd74833
DTSTART;VALUE=DATE:20260611
DTEND;VALUE=DATE:20260612
DESCRIPTION:
LOCATION:
SUMMARY:1/2 Day of School for Students - Last Day of School
END:VEVENT
END:VCALENDAR
