BEGIN:VCALENDAR
VERSION:2.0
PRODID:icalendar-ruby
CALSCALE:GREGORIAN
BEGIN:VTIMEZONE
TZID:America/New_York
BEGIN:DAYLIGHT
DTSTART:20260308T030000
TZOFFSETFROM:-0500
TZOFFSETTO:-0400
RRULE:FREQ=YEARLY;BYDAY=2SU;BYMONTH=3
TZNAME:EDT
END:DAYLIGHT
BEGIN:STANDARD
DTSTART:20261101T010000
TZOFFSETFROM:-0400
TZOFFSETTO:-0500
RRULE:FREQ=YEARLY;BYDAY=1SU;BYMONTH=11
TZNAME:EST
END:STANDARD
END:VTIMEZONE
BEGIN:VEVENT
DTSTAMP:20260421T131636Z
UID:ce5a145a-dc3f-4a61-8558-d4ffa37259e1
DTSTART:20260421T153000
DTEND:20260421T180000
DESCRIPTION:
LOCATION:
SUMMARY:Varsity Track and Field vs. Southgate
END:VEVENT
BEGIN:VEVENT
DTSTAMP:20260421T131636Z
UID:f25da983-9913-4d4b-97f5-636e96684dca
DTSTART;VALUE=DATE:20260422
DTEND;VALUE=DATE:20260423
DESCRIPTION:
LOCATION:
SUMMARY:Half-day of school for students - PD for staff
END:VEVENT
BEGIN:VEVENT
DTSTAMP:20260421T131636Z
UID:3d8b69b8-2447-4468-8dea-f73b5d861ed2
DTSTART:20260422T160000
DTEND:20260422T180000
DESCRIPTION:
LOCATION:
SUMMARY:Varsity Tennis vs. Gabriel Richard
END:VEVENT
BEGIN:VEVENT
DTSTAMP:20260421T131636Z
UID:24945442-1499-469b-99d1-b20922226240
DTSTART:20260422T163000
DTEND:20260422T183000
DESCRIPTION:
LOCATION:
SUMMARY:JV Baseball vs. Wyandotte
END:VEVENT
BEGIN:VEVENT
DTSTAMP:20260421T131636Z
UID:ecc112da-3173-4083-9596-51a098d4cc2b
DTSTART:20260422T163000
DTEND:20260422T183000
DESCRIPTION:
LOCATION:
SUMMARY:JV Softball vs. Wyandotte
END:VEVENT
BEGIN:VEVENT
DTSTAMP:20260421T131636Z
UID:9854209d-85f9-4277-8ce0-9adae0a22b6d
DTSTART:20260423T163000
DTEND:20260423T183000
DESCRIPTION:
LOCATION:
SUMMARY:Varsity Baseball vs. Taylor
END:VEVENT
BEGIN:VEVENT
DTSTAMP:20260421T131636Z
UID:541a783d-8ba6-4ee2-a77d-0f956e3843bc
DTSTART:20260423T163000
DTEND:20260423T183000
DESCRIPTION:
LOCATION:
SUMMARY:Varsity Softball vs. Taylor
END:VEVENT
BEGIN:VEVENT
DTSTAMP:20260421T131636Z
UID:b560877c-6045-4fe1-8770-d3f54cba29ff
DTSTART:20260424T150000
DTEND:20260424T200000
DESCRIPTION:
LOCATION:
SUMMARY:Varsity Track and Field - Marauder Invite
END:VEVENT
BEGIN:VEVENT
DTSTAMP:20260421T131636Z
UID:0b83e37a-ca06-42f6-93c5-15da0f4579fa
DTSTART:20260425T100000
DTEND:20260425T140000
DESCRIPTION:
LOCATION:
SUMMARY:Varsity Baseball Bob Kreszyn Classic
END:VEVENT
BEGIN:VEVENT
DTSTAMP:20260421T131636Z
UID:4fcde475-efe8-4091-9727-49c702660ea9
DTSTART:20260427T163000
DTEND:20260427T200000
DESCRIPTION:
LOCATION:
SUMMARY:JV & Varsity Soccer vs. Taylor
END:VEVENT
BEGIN:VEVENT
DTSTAMP:20260421T131636Z
UID:bfbf02de-1320-4401-8e1d-203e07dd5138
DTSTART:20260428T153000
DTEND:20260428T180000
DESCRIPTION:
LOCATION:
SUMMARY:Varsity Track and Field vs. Lincoln Park
END:VEVENT
BEGIN:VEVENT
DTSTAMP:20260421T131636Z
UID:28b09c0d-e112-4bab-b020-0434b1301a0c
DTSTART:20260429T160000
DTEND:20260429T180000
DESCRIPTION:
LOCATION:
SUMMARY:Varsity Tennis vs. Riverview
END:VEVENT
BEGIN:VEVENT
DTSTAMP:20260421T131636Z
UID:ec7f6358-5faa-4d12-9645-bf18188affda
DTSTART:20260429T163000
DTEND:20260429T183000
DESCRIPTION:
LOCATION:
SUMMARY:JV Baseball vs. Allen Park
END:VEVENT
BEGIN:VEVENT
DTSTAMP:20260421T131636Z
UID:ed5d9a9a-b1f3-402c-abb1-cff3aa0edfca
DTSTART:20260429T163000
DTEND:20260429T183000
DESCRIPTION:
LOCATION:
SUMMARY:JV Softball vs. Allen Park
END:VEVENT
BEGIN:VEVENT
DTSTAMP:20260421T131636Z
UID:df49b180-5bfc-4573-9536-12e6f6a4abee
DTSTART:20260430T160000
DTEND:20260430T180000
DESCRIPTION:
LOCATION:
SUMMARY:Varsity Tennis vs. Lincoln Park
END:VEVENT
BEGIN:VEVENT
DTSTAMP:20260421T131636Z
UID:bf0d6be8-1652-4ee0-b7a4-de2448132337
DTSTART:20260430T163000
DTEND:20260430T183000
DESCRIPTION:
LOCATION:
SUMMARY:Varsity Baseball vs. Woodhaven
END:VEVENT
BEGIN:VEVENT
DTSTAMP:20260421T131636Z
UID:711e072d-1ad3-4c64-b6f7-41c9a66a680c
DTSTART:20260430T163000
DTEND:20260430T183000
DESCRIPTION:
LOCATION:
SUMMARY:Varsity Softball vs. Woodhaven
END:VEVENT
BEGIN:VEVENT
DTSTAMP:20260421T131636Z
UID:7b1fd9f1-477f-4924-86ca-231641dfd27a
DTSTART:20260501T163000
DTEND:20260501T183000
DESCRIPTION:
LOCATION:
SUMMARY:JV Softball vs. Churchill DH
END:VEVENT
BEGIN:VEVENT
DTSTAMP:20260421T131636Z
UID:2201c63e-53b6-4716-a20a-e1e1a6d3fe24
DTSTART:20260502T100000
DTEND:20260502T140000
DESCRIPTION:
LOCATION:
SUMMARY:JV Baseball Bob Kloss JV Invitational
END:VEVENT
BEGIN:VEVENT
DTSTAMP:20260421T131636Z
UID:ace03355-7283-4d77-b2e6-644850373a38
DTSTART:20260504T163000
DTEND:20260504T183000
DESCRIPTION:
LOCATION:
SUMMARY:JV Baseball vs. Lincoln Park
END:VEVENT
BEGIN:VEVENT
DTSTAMP:20260421T131636Z
UID:11acc1ac-a08a-4f9b-9ff7-35d07de8851c
DTSTART:20260504T163000
DTEND:20260504T183000
DESCRIPTION:
LOCATION:
SUMMARY:JV Softball vs. Lincoln Park
END:VEVENT
BEGIN:VEVENT
DTSTAMP:20260421T131636Z
UID:067c9ba9-48eb-4966-a36f-193df1191fed
DTSTART:20260505T153000
DTEND:20260505T180000
DESCRIPTION:
LOCATION:
SUMMARY:Varsity Track and Field vs. Woodhaven
END:VEVENT
BEGIN:VEVENT
DTSTAMP:20260421T131636Z
UID:3b04f4dd-fd20-4ceb-a9c9-11b6234d5bb2
DTSTART:20260506T163000
DTEND:20260506T200000
DESCRIPTION:
LOCATION:
SUMMARY:JV & Varsity Soccer vs. Southgate
END:VEVENT
BEGIN:VEVENT
DTSTAMP:20260421T131636Z
UID:ebc45dba-1043-4656-b973-5d51433290e3
DTSTART:20260506T163000
DTEND:20260506T183000
DESCRIPTION:
LOCATION:
SUMMARY:Varsity Baseball vs. Wyandotte
END:VEVENT
BEGIN:VEVENT
DTSTAMP:20260421T131636Z
UID:1846ac80-20c7-4943-af09-5490166374a9
DTSTART:20260506T163000
DTEND:20260506T183000
DESCRIPTION:
LOCATION:
SUMMARY:Varsity Softball vs. Wyandotte
END:VEVENT
BEGIN:VEVENT
DTSTAMP:20260421T131636Z
UID:9a20330d-22bd-413f-bcbc-c4e86ee38222
DTSTART:20260507T160000
DTEND:20260507T180000
DESCRIPTION:
LOCATION:
SUMMARY:Varsity Tennis vs. Allen Park
END:VEVENT
BEGIN:VEVENT
DTSTAMP:20260421T131636Z
UID:433c877f-cd4f-4dc0-9c33-a964ee2a5d06
DTSTART:20260507T163000
DTEND:20260507T183000
DESCRIPTION:
LOCATION:
SUMMARY:JV Baseball vs. Southgate
END:VEVENT
BEGIN:VEVENT
DTSTAMP:20260421T131636Z
UID:88a974ff-093d-43a0-8423-2a44a05a20d3
DTSTART:20260507T163000
DTEND:20260507T183000
DESCRIPTION:
LOCATION:
SUMMARY:JV Softball vs. Southgate
END:VEVENT
BEGIN:VEVENT
DTSTAMP:20260421T131636Z
UID:c815ee3a-631a-467a-8491-db9664ab818a
DTSTART:20260508T163000
DTEND:20260508T200000
DESCRIPTION:
LOCATION:
SUMMARY:JV & Varsity Soccer vs. Grosse Ile
END:VEVENT
BEGIN:VEVENT
DTSTAMP:20260421T131636Z
UID:798699af-c1ab-4c98-9630-112095e0c574
DTSTART:20260509T080000
DTEND:20260509T150000
DESCRIPTION:
LOCATION:
SUMMARY:Track and Field Metro Classic 
END:VEVENT
BEGIN:VEVENT
DTSTAMP:20260421T131636Z
UID:04d851b0-c4d4-4bcb-9510-2b740ee5eee1
DTSTART:20260511T163000
DTEND:20260511T183000
DESCRIPTION:
LOCATION:
SUMMARY:Varsity Baseball vs. Edsel Ford
END:VEVENT
BEGIN:VEVENT
DTSTAMP:20260421T131636Z
UID:679a781a-a4f1-4678-b4c9-08738ff0adb3
DTSTART:20260511T163000
DTEND:20260511T183000
DESCRIPTION:
LOCATION:
SUMMARY:Varsity Softball vs. Edsel Ford
END:VEVENT
BEGIN:VEVENT
DTSTAMP:20260421T131636Z
UID:fa04eaa0-0d3a-4ce1-8f7f-07cccbef6b42
DTSTART:20260514T163000
DTEND:20260514T183000
DESCRIPTION:
LOCATION:
SUMMARY:Varsity Baseball vs. Trenton
END:VEVENT
BEGIN:VEVENT
DTSTAMP:20260421T131636Z
UID:529f4224-84f4-4dda-8295-669be48221c1
DTSTART:20260514T163000
DTEND:20260514T183000
DESCRIPTION:
LOCATION:
SUMMARY:Varsity Softball vs. Trenton
END:VEVENT
BEGIN:VEVENT
DTSTAMP:20260421T131636Z
UID:1445d5df-a476-4ba5-bf29-681de9b9b422
DTSTART:20260515T163000
DTEND:20260515T183000
DESCRIPTION:
LOCATION:
SUMMARY:JV Softball vs. Riverview DH
END:VEVENT
BEGIN:VEVENT
DTSTAMP:20260421T131636Z
UID:76e9fb0c-7e5e-465c-8539-069a2719581a
DTSTART:20260516T110000
DTEND:20260516T140000
DESCRIPTION:
LOCATION:
SUMMARY:JV Baseball  vs. Flat Rock DH
END:VEVENT
BEGIN:VEVENT
DTSTAMP:20260421T131636Z
UID:06f52f70-b27a-481a-bce1-025ea56515ee
DTSTART:20260518T163000
DTEND:20260518T183000
DESCRIPTION:
LOCATION:
SUMMARY:JV Baseball vs. Taylor
END:VEVENT
BEGIN:VEVENT
DTSTAMP:20260421T131636Z
UID:787b0d88-fcf3-4d2e-8c02-2f3cc23ba022
DTSTART:20260518T163000
DTEND:20260518T183000
DESCRIPTION:
LOCATION:
SUMMARY:JV Softball vs. Taylor
END:VEVENT
BEGIN:VEVENT
DTSTAMP:20260421T131636Z
UID:25aad3c0-737d-4173-a946-a0a8bf44a736
DTSTART:20260519T163000
DTEND:20260519T183000
DESCRIPTION:
LOCATION:
SUMMARY:Varsity Softball vs. Flat Rock
END:VEVENT
BEGIN:VEVENT
DTSTAMP:20260421T131636Z
UID:c9966bc2-0161-4f7b-8464-1c1402144654
DTSTART:20260520T163000
DTEND:20260520T183000
DESCRIPTION:
LOCATION:
SUMMARY:Varsity Baseball vs. Cabrini
END:VEVENT
BEGIN:VEVENT
DTSTAMP:20260421T131636Z
UID:ec3b4c31-833d-444c-bd8c-1ceed00a044c
DTSTART;VALUE=DATE:20260525
DTEND;VALUE=DATE:20260526
DESCRIPTION:
LOCATION:
SUMMARY:No School Memorial Day
END:VEVENT
BEGIN:VEVENT
DTSTAMP:20260421T131636Z
UID:5384eabb-00e5-45ae-85d7-c61d4401d3c0
DTSTART:20260603T083000
DTEND:20260603T113000
DESCRIPTION:
LOCATION:
SUMMARY:Senior Breakfast/Graduation Rehearsal
END:VEVENT
BEGIN:VEVENT
DTSTAMP:20260421T131636Z
UID:4703535c-38e8-4e1d-a72e-3067c4bb5b9f
DTSTART:20260605T183000
DTEND:20260605T193000
DESCRIPTION:
LOCATION:
SUMMARY:Class of 2026 Graduation
END:VEVENT
BEGIN:VEVENT
DTSTAMP:20260421T131636Z
UID:b37a70a9-face-40f9-ae62-48c9850182dc
DTSTART;VALUE=DATE:20260609
DTEND;VALUE=DATE:20260610
DESCRIPTION:
LOCATION:
SUMMARY:Semester Two Exams - Full Day of School
END:VEVENT
BEGIN:VEVENT
DTSTAMP:20260421T131636Z
UID:b78acd44-2a52-4e89-b8b6-62b7123faa3e
DTSTART;VALUE=DATE:20260610
DTEND;VALUE=DATE:20260611
DESCRIPTION:
LOCATION:
SUMMARY:Semester Two Exams - Half-day for students - End of Semester Two - 
 Last Day of School
END:VEVENT
BEGIN:VEVENT
DTSTAMP:20260421T131636Z
UID:339f072e-aa85-43c2-aaa5-3998c24a5203
DTSTART;VALUE=DATE:20260611
DTEND;VALUE=DATE:20260612
DESCRIPTION:
LOCATION:
SUMMARY:Semester Two Exams - Half-day for students - End of Semester Two - 
 Last Day of School
END:VEVENT
END:VCALENDAR
