BEGIN:VCALENDAR
VERSION:2.0
PRODID:icalendar-ruby
CALSCALE:GREGORIAN
BEGIN:VTIMEZONE
TZID:America/New_York
BEGIN:DAYLIGHT
DTSTART:20260308T030000
TZOFFSETFROM:-0500
TZOFFSETTO:-0400
RRULE:FREQ=YEARLY;BYDAY=2SU;BYMONTH=3
TZNAME:EDT
END:DAYLIGHT
BEGIN:STANDARD
DTSTART:20261101T010000
TZOFFSETFROM:-0400
TZOFFSETTO:-0500
RRULE:FREQ=YEARLY;BYDAY=1SU;BYMONTH=11
TZNAME:EST
END:STANDARD
END:VTIMEZONE
BEGIN:VEVENT
DTSTAMP:20260419T131601Z
UID:10c3f253-6b32-4e94-87a7-5c9d286b3022
DTSTART:20260420T084500
DTEND:20260424T140000
DESCRIPTION:
LOCATION:Cartmell Library
SUMMARY:BOGO Scholastic Book Fair
END:VEVENT
BEGIN:VEVENT
DTSTAMP:20260419T131601Z
UID:24ad1cbb-08be-4fcc-bd06-3dfcdfdda2be
DTSTART:20260421T070000
DTEND:20260421T080000
DESCRIPTION:
LOCATION:
SUMMARY:All Pro Dad
END:VEVENT
BEGIN:VEVENT
DTSTAMP:20260419T131601Z
UID:d338a985-a615-47ea-b16f-ff75565fe3bc
DTSTART:20260423T150000
DTEND:20260423T180000
DESCRIPTION:Shop the Scholastic BOGO (Buy One Get One Free) Book Fair--the 
 most popular fair of the school year!  Everything is included in the BOGO
  sale---purchase any book (or item) and get another of equal or lesser val
 ue for FREE!  Stock up on summer reading!  Families and community member
 s welcome!  Enter Cartmell Library Door 5!
LOCATION:Cartmell Elementary School\, 1708 Highland Ave\, Carrollton\, KY 4
 1008\, USA
SUMMARY:After Hours Book Fair Shopping
END:VEVENT
BEGIN:VEVENT
DTSTAMP:20260419T131601Z
UID:a5dba080-1169-4aa2-bae8-540980a3151e
DTSTART:20260512T070000
DTEND:20260512T080000
DESCRIPTION:
LOCATION:
SUMMARY:All Pro Dad
END:VEVENT
END:VCALENDAR
