BEGIN:VCALENDAR
VERSION:2.0
PRODID:icalendar-ruby
CALSCALE:GREGORIAN
BEGIN:VTIMEZONE
TZID:America/Chicago
BEGIN:DAYLIGHT
DTSTART:20260308T030000
TZOFFSETFROM:-0600
TZOFFSETTO:-0500
RRULE:FREQ=YEARLY;BYDAY=2SU;BYMONTH=3
TZNAME:CDT
END:DAYLIGHT
BEGIN:STANDARD
DTSTART:20261101T010000
TZOFFSETFROM:-0500
TZOFFSETTO:-0600
RRULE:FREQ=YEARLY;BYDAY=1SU;BYMONTH=11
TZNAME:CST
END:STANDARD
END:VTIMEZONE
BEGIN:VEVENT
DTSTAMP:20260425T144122Z
UID:0b0303f3-4b00-42df-a5b8-06431f07cf8b
DTSTART;VALUE=DATE:20260520
DTEND;VALUE=DATE:20260521
DESCRIPTION:
LOCATION:
SUMMARY:End of the Fourth Nine Weeks
END:VEVENT
BEGIN:VEVENT
DTSTAMP:20260425T144122Z
UID:f57869a2-fa58-48d7-8163-6540f391561d
DTSTART;VALUE=DATE:20260520
DTEND;VALUE=DATE:20260521
DESCRIPTION:
LOCATION:
SUMMARY:Last Day of School
END:VEVENT
BEGIN:VEVENT
DTSTAMP:20260425T144122Z
UID:ee7f6fdd-57c1-4733-a379-6934e38b4a89
DTSTART:20260520T130000
DTEND:20260520T130000
DESCRIPTION:
LOCATION:
SUMMARY:Early Release
END:VEVENT
END:VCALENDAR
