BEGIN:VCALENDAR
VERSION:2.0
PRODID:icalendar-ruby
CALSCALE:GREGORIAN
BEGIN:VTIMEZONE
TZID:America/Denver
BEGIN:DAYLIGHT
DTSTART:20260308T030000
TZOFFSETFROM:-0700
TZOFFSETTO:-0600
RRULE:FREQ=YEARLY;BYDAY=2SU;BYMONTH=3
TZNAME:MDT
END:DAYLIGHT
BEGIN:STANDARD
DTSTART:20261101T010000
TZOFFSETFROM:-0600
TZOFFSETTO:-0700
RRULE:FREQ=YEARLY;BYDAY=1SU;BYMONTH=11
TZNAME:MST
END:STANDARD
END:VTIMEZONE
BEGIN:VEVENT
DTSTAMP:20260423T170928Z
UID:fd2be41b-52d8-4443-8f91-4217ffa61d14
DTSTART:20260427T080000
DTEND:20260427T083000
DESCRIPTION:
LOCATION:
SUMMARY:Convocation Meeting - Russ
END:VEVENT
BEGIN:VEVENT
DTSTAMP:20260423T170928Z
UID:12348ed1-f20d-485a-ae8c-5247d99032d0
DTSTART:20260428T173000
DTEND:20260428T200000
DESCRIPTION:<p>Regular meetings are held every 4th Tuesday of the month at 
 5:30 pm\, at Clovis Municipal Schools District Board Room\, 1009 Main St.\
 , Clovis\, NM 88101.<br><br> <br>Meeting agendas and associated materials
  can be found online: <a rel="noopener noreferrer nofollow" href="https://
 www.google.com/url?q=https://www.clovis-schools.org/page/board-meetings-cu
 rrent-year&amp\;sa=D&amp\;source=calendar&amp\;ust=1755383125965327&amp\;u
 sg=AOvVaw1FqLdcOD2OPCVOcWFATzyU" target="_blank">CMS Board of Education Me
 etings</a></p>
LOCATION:1009 N Main St\, Clovis\, NM 88101\, USA
SUMMARY:Board of Education Meeting
END:VEVENT
BEGIN:VEVENT
DTSTAMP:20260423T170928Z
UID:9b88f7a6-6668-4eab-8ab4-3b5dfc057229
DTSTART;VALUE=DATE:20260501
DTEND;VALUE=DATE:20260502
DESCRIPTION:
LOCATION:
SUMMARY:May Holiday - No School / District Offices Open
END:VEVENT
BEGIN:VEVENT
DTSTAMP:20260423T170928Z
UID:970a9f7d-5a94-4778-8c34-ace9fe903796
DTSTART;VALUE=DATE:20260521
DTEND;VALUE=DATE:20260522
DESCRIPTION:
LOCATION:
SUMMARY:Last Day of School for Students
END:VEVENT
BEGIN:VEVENT
DTSTAMP:20260423T170928Z
UID:f99ed919-7694-48e1-b007-55f865f4359e
DTSTART;VALUE=DATE:20260522
DTEND;VALUE=DATE:20260523
DESCRIPTION:
LOCATION:
SUMMARY:CHS Graduation
END:VEVENT
BEGIN:VEVENT
DTSTAMP:20260423T170928Z
UID:26cbe81c-d6bd-429e-ba47-97d67a99a964
DTSTART;VALUE=DATE:20260522
DTEND;VALUE=DATE:20260523
DESCRIPTION:
LOCATION:
SUMMARY:Last Day of School for Staff
END:VEVENT
BEGIN:VEVENT
DTSTAMP:20260423T170928Z
UID:b3dd23dd-74d1-4752-b119-bfdd4d761493
DTSTART;VALUE=DATE:20260525
DTEND;VALUE=DATE:20260526
DESCRIPTION:
LOCATION:
SUMMARY:Memorial Day - District Offices Closed
END:VEVENT
BEGIN:VEVENT
DTSTAMP:20260423T170928Z
UID:73869346-7fa2-4074-b911-17d4b048d7eb
DTSTART:20260526T173000
DTEND:20260526T200000
DESCRIPTION:<p>Regular meetings are held every 4th Tuesday of the month at 
 5:30 pm\, at Clovis Municipal Schools District Board Room\, 1009 Main St.\
 , Clovis\, NM 88101.<br><br> <br>Meeting agendas and associated materials
  can be found online: <a rel="noopener noreferrer nofollow" href="https://
 www.google.com/url?q=https://www.clovis-schools.org/page/board-meetings-cu
 rrent-year&amp\;sa=D&amp\;source=calendar&amp\;ust=1755383147778142&amp\;u
 sg=AOvVaw0Ci1B2uUrXxV54TUVOcOcM" target="_blank">CMS Board of Education Me
 etings</a></p>
LOCATION:1009 N Main St\, Clovis\, NM 88101\, USA
SUMMARY:Board of Education Meeting
END:VEVENT
BEGIN:VEVENT
DTSTAMP:20260423T170928Z
UID:6f27e987-b695-4c54-b46e-13edb8eea7ad
DTSTART:20260623T173000
DTEND:20260623T200000
DESCRIPTION:<p>Regular meetings are held every 4th Tuesday of the month at 
 5:30 pm\, at Clovis Municipal Schools District Board Room\, 1009 Main St.\
 , Clovis\, NM 88101.<br><br> <br>Meeting agendas and associated materials
  can be found online: <a rel="noopener noreferrer nofollow" href="https://
 www.google.com/url?q=https://www.clovis-schools.org/page/board-meetings-cu
 rrent-year&amp\;sa=D&amp\;source=calendar&amp\;ust=1755383163709265&amp\;u
 sg=AOvVaw2sUkXUJtr17CJEXdJVfD42" target="_blank">CMS Board of Education Me
 etings</a></p>
LOCATION:1009 N Main St\, Clovis\, NM 88101\, USA
SUMMARY:Board of Education Meeting
END:VEVENT
BEGIN:VEVENT
DTSTAMP:20260423T170928Z
UID:75a86ab7-e31e-483c-b6b6-fb6de0146d98
DTSTART;VALUE=DATE:20260704
DTEND;VALUE=DATE:20260705
DESCRIPTION:All District Offices Closed
LOCATION:
SUMMARY:Holiday – Independence Day (District Offices Closed)
END:VEVENT
BEGIN:VEVENT
DTSTAMP:20260423T170928Z
UID:addd9e94-5237-4688-92fb-62b9a8b5a80f
DTSTART;VALUE=DATE:20260730
DTEND;VALUE=DATE:20260731
DESCRIPTION:
LOCATION:
SUMMARY:New Teacher Orientation
END:VEVENT
BEGIN:VEVENT
DTSTAMP:20260423T170928Z
UID:64edb966-6237-42b1-a32c-0fd64a380685
DTSTART;VALUE=DATE:20260803
DTEND;VALUE=DATE:20260804
DESCRIPTION:
LOCATION:
SUMMARY:Staff Training Day
END:VEVENT
BEGIN:VEVENT
DTSTAMP:20260423T170928Z
UID:37000dd0-036a-4b30-9382-bccd75a4c341
DTSTART;VALUE=DATE:20260804
DTEND;VALUE=DATE:20260807
DESCRIPTION:
LOCATION:
SUMMARY:Staff Development
END:VEVENT
BEGIN:VEVENT
DTSTAMP:20260423T170928Z
UID:76da8123-c2c1-44f7-8143-fe1bdc65f6f9
DTSTART;VALUE=DATE:20260810
DTEND;VALUE=DATE:20260811
DESCRIPTION:
LOCATION:
SUMMARY:First Day of School (Grades 1–12)
END:VEVENT
BEGIN:VEVENT
DTSTAMP:20260423T170928Z
UID:43c29f60-52b3-48fd-8d3f-0efbea784313
DTSTART;VALUE=DATE:20260812
DTEND;VALUE=DATE:20260813
DESCRIPTION:
LOCATION:
SUMMARY:First Day of School (Pre-K & Kindergarten)
END:VEVENT
BEGIN:VEVENT
DTSTAMP:20260423T170928Z
UID:910cf4d5-19dc-49ca-870c-20a5b7767f42
DTSTART;VALUE=DATE:20260907
DTEND;VALUE=DATE:20260908
DESCRIPTION:
LOCATION:
SUMMARY:Holiday – Labor Day (No School)
END:VEVENT
BEGIN:VEVENT
DTSTAMP:20260423T170928Z
UID:c0812899-5de1-4bdb-9997-7163f0e9ad37
DTSTART;VALUE=DATE:20260925
DTEND;VALUE=DATE:20260926
DESCRIPTION:
LOCATION:
SUMMARY:No School – Parent/Teacher Conferences
END:VEVENT
BEGIN:VEVENT
DTSTAMP:20260423T170928Z
UID:3a8aadda-bdaf-442d-b062-8e62548fefe8
DTSTART;VALUE=DATE:20261009
DTEND;VALUE=DATE:20261010
DESCRIPTION:
LOCATION:
SUMMARY:No School – Data Day / Staff Development
END:VEVENT
BEGIN:VEVENT
DTSTAMP:20260423T170928Z
UID:3fe2afbe-fcbb-4ad7-8497-6a2b8983f04b
DTSTART;VALUE=DATE:20261012
DTEND;VALUE=DATE:20261013
DESCRIPTION:
LOCATION:
SUMMARY:Holiday – Fall Break (No School)
END:VEVENT
BEGIN:VEVENT
DTSTAMP:20260423T170928Z
UID:0608528f-ca80-4e93-99d4-5cba38708e01
DTSTART;VALUE=DATE:20261103
DTEND;VALUE=DATE:20261104
DESCRIPTION:
LOCATION:
SUMMARY:No School – Election Day
END:VEVENT
BEGIN:VEVENT
DTSTAMP:20260423T170928Z
UID:c58d8d5e-5c0a-40f5-9bd3-5ad97e5271b4
DTSTART;VALUE=DATE:20261123
DTEND;VALUE=DATE:20261127
DESCRIPTION:
LOCATION:
SUMMARY:No School – Thanksgiving Break
END:VEVENT
BEGIN:VEVENT
DTSTAMP:20260423T170928Z
UID:58496a07-9c21-4731-b129-df2c6bbc08aa
DTSTART;VALUE=DATE:20261221
DTEND;VALUE=DATE:20270101
DESCRIPTION:
LOCATION:
SUMMARY:No School – Winter Break
END:VEVENT
BEGIN:VEVENT
DTSTAMP:20260423T170928Z
UID:9d489129-b01b-4c17-b532-b01817d72d87
DTSTART;VALUE=DATE:20270104
DTEND;VALUE=DATE:20270105
DESCRIPTION:
LOCATION:
SUMMARY:No School – Staff Work Days
END:VEVENT
BEGIN:VEVENT
DTSTAMP:20260423T170928Z
UID:7752d6cb-6562-4c0f-9a0c-3af7d28a1c5e
DTSTART;VALUE=DATE:20270106
DTEND;VALUE=DATE:20270107
DESCRIPTION:
LOCATION:
SUMMARY:Students Return to School
END:VEVENT
BEGIN:VEVENT
DTSTAMP:20260423T170928Z
UID:39411872-508b-4d66-af05-d4d4753a6525
DTSTART;VALUE=DATE:20270118
DTEND;VALUE=DATE:20270119
DESCRIPTION:
LOCATION:
SUMMARY:Holiday – Martin Luther King Jr. Day (No School)
END:VEVENT
BEGIN:VEVENT
DTSTAMP:20260423T170928Z
UID:2f1ed90e-99f0-4cdc-aafe-d66457623284
DTSTART;VALUE=DATE:20270215
DTEND;VALUE=DATE:20270216
DESCRIPTION:
LOCATION:
SUMMARY:Holiday – Presidents Day (No School)
END:VEVENT
BEGIN:VEVENT
DTSTAMP:20260423T170928Z
UID:01a909cf-cecc-47cd-ae78-874f8b216aef
DTSTART;VALUE=DATE:20270319
DTEND;VALUE=DATE:20270320
DESCRIPTION:
LOCATION:
SUMMARY:No School – Data Day / Staff Development
END:VEVENT
BEGIN:VEVENT
DTSTAMP:20260423T170928Z
UID:914ae3dc-38e3-4c0c-b036-04a5f1ec3fd8
DTSTART;VALUE=DATE:20270322
DTEND;VALUE=DATE:20270326
DESCRIPTION:
LOCATION:
SUMMARY:No School – Spring Break
END:VEVENT
BEGIN:VEVENT
DTSTAMP:20260423T170928Z
UID:a1d733af-cb24-48ff-a726-7ce90e53ac4d
DTSTART;VALUE=DATE:20270329
DTEND;VALUE=DATE:20270330
DESCRIPTION:
LOCATION:
SUMMARY:No School – Spring Holiday
END:VEVENT
BEGIN:VEVENT
DTSTAMP:20260423T170928Z
UID:da73c2cf-10f7-45f1-a37f-112919e4693d
DTSTART;VALUE=DATE:20270423
DTEND;VALUE=DATE:20270424
DESCRIPTION:
LOCATION:
SUMMARY:No School
END:VEVENT
BEGIN:VEVENT
DTSTAMP:20260423T170928Z
UID:411490e5-39af-4b6c-b291-be765b54a2e3
DTSTART;VALUE=DATE:20270520
DTEND;VALUE=DATE:20270521
DESCRIPTION:
LOCATION:
SUMMARY:Last Day of School for Students
END:VEVENT
BEGIN:VEVENT
DTSTAMP:20260423T170928Z
UID:f5ea3e47-efae-4b5b-a457-183bdf7229d0
DTSTART;VALUE=DATE:20270521
DTEND;VALUE=DATE:20270522
DESCRIPTION:
LOCATION:
SUMMARY:Clovis High School Graduation
END:VEVENT
BEGIN:VEVENT
DTSTAMP:20260423T170928Z
UID:33db09f8-1e36-4072-9993-48f8f102cb65
DTSTART;VALUE=DATE:20270521
DTEND;VALUE=DATE:20270522
DESCRIPTION:
LOCATION:
SUMMARY:Last Day for Staff
END:VEVENT
BEGIN:VEVENT
DTSTAMP:20260423T170928Z
UID:df0f927d-39b2-4fb0-b0b1-5bd6991f0d7b
DTSTART;VALUE=DATE:20270531
DTEND;VALUE=DATE:20270601
DESCRIPTION:
LOCATION:
SUMMARY:Holiday – Memorial Day
END:VEVENT
END:VCALENDAR
