BEGIN:VCALENDAR
VERSION:2.0
PRODID:icalendar-ruby
CALSCALE:GREGORIAN
BEGIN:VTIMEZONE
TZID:America/Chicago
BEGIN:DAYLIGHT
DTSTART:20260308T030000
TZOFFSETFROM:-0600
TZOFFSETTO:-0500
RRULE:FREQ=YEARLY;BYDAY=2SU;BYMONTH=3
TZNAME:CDT
END:DAYLIGHT
BEGIN:STANDARD
DTSTART:20261101T010000
TZOFFSETFROM:-0500
TZOFFSETTO:-0600
RRULE:FREQ=YEARLY;BYDAY=1SU;BYMONTH=11
TZNAME:CST
END:STANDARD
END:VTIMEZONE
BEGIN:VEVENT
DTSTAMP:20260422T111703Z
UID:cf6d2ef2-0f38-4109-bee3-5ce3136c64c0
DTSTART;VALUE=DATE:20260525
DTEND;VALUE=DATE:20260526
DESCRIPTION:
LOCATION:
SUMMARY:No School (Memorial Day Holiday)
END:VEVENT
BEGIN:VEVENT
DTSTAMP:20260422T111703Z
UID:65d18d9e-363c-4c57-ad56-6c77f0077047
DTSTART;VALUE=DATE:20260529
DTEND;VALUE=DATE:20260530
DESCRIPTION:
LOCATION:
SUMMARY:Last Day of School (K-11) 2 Hour Early-Out
END:VEVENT
BEGIN:VEVENT
DTSTAMP:20260422T111703Z
UID:b7be64d4-da4c-4765-8b23-f413a4dee0a9
DTSTART:20260818T170000
DTEND:20260818T190000
DESCRIPTION:<p>Students can tour the building\, meet their teachers\, and d
 rop off school supplies during  Back to School Night.</p>
LOCATION:901 Floyd Blvd\, Sioux City\, IA 51105\, USA
SUMMARY:Back to School Night 
END:VEVENT
END:VCALENDAR
