BEGIN:VCALENDAR
VERSION:2.0
PRODID:icalendar-ruby
CALSCALE:GREGORIAN
BEGIN:VTIMEZONE
TZID:America/New_York
BEGIN:DAYLIGHT
DTSTART:20260308T030000
TZOFFSETFROM:-0500
TZOFFSETTO:-0400
RRULE:FREQ=YEARLY;BYDAY=2SU;BYMONTH=3
TZNAME:EDT
END:DAYLIGHT
BEGIN:STANDARD
DTSTART:20261101T010000
TZOFFSETFROM:-0400
TZOFFSETTO:-0500
RRULE:FREQ=YEARLY;BYDAY=1SU;BYMONTH=11
TZNAME:EST
END:STANDARD
END:VTIMEZONE
BEGIN:VEVENT
DTSTAMP:20260425T170135Z
UID:4de87afb-07b9-42ce-9ec9-1fab84680742
DTSTART;VALUE=DATE:20260429
DTEND;VALUE=DATE:20260430
DESCRIPTION:
LOCATION:
SUMMARY:Last Day of School for Students 
END:VEVENT
BEGIN:VEVENT
DTSTAMP:20260425T170135Z
UID:d068a3f4-e0fc-4171-9c9a-427b06378ccc
DTSTART;VALUE=DATE:20260504
DTEND;VALUE=DATE:20260509
DESCRIPTION:
LOCATION:
SUMMARY:Teacher Appreciation Week
END:VEVENT
BEGIN:VEVENT
DTSTAMP:20260425T170135Z
UID:a13f132d-c82f-48fa-9544-0c7c154ad4e7
DTSTART:20260521T180000
DTEND:20260521T190000
DESCRIPTION:
LOCATION:
SUMMARY: Regular Monthly ACS Board of Education Meeting
END:VEVENT
BEGIN:VEVENT
DTSTAMP:20260425T170135Z
UID:396aa217-cee0-4341-a711-ddce32820c18
DTSTART:20260530T110000
DTEND:20260530T120000
DESCRIPTION:
LOCATION:Avery County High School
SUMMARY:Avery High School Graduation
END:VEVENT
BEGIN:VEVENT
DTSTAMP:20260425T170135Z
UID:30db0df3-4de7-4163-9586-47241339370e
DTSTART:20260609T180000
DTEND:20260609T190000
DESCRIPTION:
LOCATION:
SUMMARY: Regular Monthly ACS Board of Education Meeting
END:VEVENT
END:VCALENDAR
