BEGIN:VCALENDAR
VERSION:2.0
PRODID:icalendar-ruby
CALSCALE:GREGORIAN
BEGIN:VTIMEZONE
TZID:America/Chicago
BEGIN:DAYLIGHT
DTSTART:20260308T030000
TZOFFSETFROM:-0600
TZOFFSETTO:-0500
RRULE:FREQ=YEARLY;BYDAY=2SU;BYMONTH=3
TZNAME:CDT
END:DAYLIGHT
BEGIN:STANDARD
DTSTART:20261101T010000
TZOFFSETFROM:-0500
TZOFFSETTO:-0600
RRULE:FREQ=YEARLY;BYDAY=1SU;BYMONTH=11
TZNAME:CST
END:STANDARD
END:VTIMEZONE
BEGIN:VEVENT
DTSTAMP:20260425T234703Z
UID:9f2a7ed2-fae2-4d50-96d9-c2fb31035cc8
DTSTART;VALUE=DATE:20260430
DTEND;VALUE=DATE:20260501
DESCRIPTION:
LOCATION:
SUMMARY:Author Visit
END:VEVENT
BEGIN:VEVENT
DTSTAMP:20260425T234703Z
UID:d17db275-b68a-4076-8e08-1a581e56f34b
DTSTART;VALUE=DATE:20260430
DTEND;VALUE=DATE:20260501
DESCRIPTION:
LOCATION:
SUMMARY:Kindergarten Round Up
END:VEVENT
BEGIN:VEVENT
DTSTAMP:20260425T234703Z
UID:61afdccf-ed41-46ce-bd0b-43282319c9d3
DTSTART;VALUE=DATE:20260508
DTEND;VALUE=DATE:20260509
DESCRIPTION:
LOCATION:
SUMMARY:Reading Restaurant
END:VEVENT
BEGIN:VEVENT
DTSTAMP:20260425T234703Z
UID:af793ae4-2fef-4782-820c-981851fbd2df
DTSTART;VALUE=DATE:20260513
DTEND;VALUE=DATE:20260514
DESCRIPTION:
LOCATION:
SUMMARY:Volunteer Appreciation Breakfast
END:VEVENT
BEGIN:VEVENT
DTSTAMP:20260425T234703Z
UID:6bdb92a2-58f9-4398-9e41-adc6e6ca08e4
DTSTART;VALUE=DATE:20260515
DTEND;VALUE=DATE:20260516
DESCRIPTION:
LOCATION:
SUMMARY:Field Day
END:VEVENT
BEGIN:VEVENT
DTSTAMP:20260425T234703Z
UID:3e116ab1-80f0-4ce8-867c-f2aecdc9a292
DTSTART;VALUE=DATE:20260518
DTEND;VALUE=DATE:20260519
DESCRIPTION:
LOCATION:
SUMMARY:Frozen Figures
END:VEVENT
BEGIN:VEVENT
DTSTAMP:20260425T234703Z
UID:f97e4cdf-b918-4f28-8f58-8e760248f989
DTSTART;VALUE=DATE:20260521
DTEND;VALUE=DATE:20260522
DESCRIPTION:
LOCATION:
SUMMARY:Fifth Grade Reconition
END:VEVENT
BEGIN:VEVENT
DTSTAMP:20260425T234703Z
UID:ae881a33-8ef8-4499-8f47-c9701488ee49
DTSTART;VALUE=DATE:20260521
DTEND;VALUE=DATE:20260522
DESCRIPTION:
LOCATION:
SUMMARY:Fourth Grading Period Ends
END:VEVENT
BEGIN:VEVENT
DTSTAMP:20260425T234703Z
UID:1ed13824-b6f0-4e64-a74d-b3fa95a6fa8b
DTSTART;VALUE=DATE:20260521
DTEND;VALUE=DATE:20260522
DESCRIPTION:
LOCATION:
SUMMARY:Last Day of School
END:VEVENT
BEGIN:VEVENT
DTSTAMP:20260425T234703Z
UID:07bed86d-b329-415d-bd87-a1450067e6af
DTSTART;VALUE=DATE:20260525
DTEND;VALUE=DATE:20260526
DESCRIPTION:
LOCATION:
SUMMARY:District Holiday
END:VEVENT
END:VCALENDAR
