BEGIN:VCALENDAR
VERSION:2.0
PRODID:icalendar-ruby
CALSCALE:GREGORIAN
BEGIN:VTIMEZONE
TZID:America/Chicago
BEGIN:DAYLIGHT
DTSTART:20260308T030000
TZOFFSETFROM:-0600
TZOFFSETTO:-0500
RRULE:FREQ=YEARLY;BYDAY=2SU;BYMONTH=3
TZNAME:CDT
END:DAYLIGHT
BEGIN:STANDARD
DTSTART:20261101T010000
TZOFFSETFROM:-0500
TZOFFSETTO:-0600
RRULE:FREQ=YEARLY;BYDAY=1SU;BYMONTH=11
TZNAME:CST
END:STANDARD
END:VTIMEZONE
BEGIN:VEVENT
DTSTAMP:20260423T005009Z
UID:02c1a810-42e2-4302-86f2-bf221a59b429
DTSTART;VALUE=DATE:20260424
DTEND;VALUE=DATE:20260425
DESCRIPTION:
LOCATION:
SUMMARY:Volunteer Appreciation Breakfast
END:VEVENT
BEGIN:VEVENT
DTSTAMP:20260423T005009Z
UID:b75b25f0-80c3-4e06-89f1-1bc95938f33a
DTSTART:20260427T173000
DTEND:20260427T173000
DESCRIPTION:
LOCATION:
SUMMARY:PTO Meeting
END:VEVENT
BEGIN:VEVENT
DTSTAMP:20260423T005009Z
UID:326c13a8-fcbc-464b-ba11-af2186cc3db9
DTSTART;VALUE=DATE:20260428
DTEND;VALUE=DATE:20260429
DESCRIPTION:
LOCATION:
SUMMARY:STAAR (Math) - No Visitors on Campus
END:VEVENT
BEGIN:VEVENT
DTSTAMP:20260423T005009Z
UID:0fe1ed88-7ed9-43c1-8f85-aa0bde07bbe5
DTSTART;VALUE=DATE:20260429
DTEND;VALUE=DATE:20260430
DESCRIPTION:
LOCATION:
SUMMARY:Author Visit with Kari Lavelle & Lindsay Leslie
END:VEVENT
BEGIN:VEVENT
DTSTAMP:20260423T005009Z
UID:82135b75-19d8-4e74-8c76-3505c52709e8
DTSTART:20260430T170000
DTEND:20260430T183000
DESCRIPTION:
LOCATION:
SUMMARY:Kindergarten Roundup
END:VEVENT
BEGIN:VEVENT
DTSTAMP:20260423T005009Z
UID:6c5cd18f-bfc9-4129-94ff-cf99002d594f
DTSTART:20260501T170000
DTEND:20260501T190000
DESCRIPTION:
LOCATION:
SUMMARY:Lakeside Stampede
END:VEVENT
BEGIN:VEVENT
DTSTAMP:20260423T005009Z
UID:e8717110-b22b-4354-ad4d-c380e20ab986
DTSTART:20260512T153000
DTEND:20260512T170000
DESCRIPTION:
LOCATION:
SUMMARY:Lakeside's Senior (Class of 2026) Reception
END:VEVENT
BEGIN:VEVENT
DTSTAMP:20260423T005009Z
UID:e0cf59bc-683d-41da-8880-2680a0d10a5b
DTSTART;VALUE=DATE:20260515
DTEND;VALUE=DATE:20260516
DESCRIPTION:
LOCATION:
SUMMARY:Field Day and Talent Show
END:VEVENT
BEGIN:VEVENT
DTSTAMP:20260423T005009Z
UID:94aff994-1c3e-46af-996f-5b5050e170cc
DTSTART;VALUE=DATE:20260520
DTEND;VALUE=DATE:20260521
DESCRIPTION:
LOCATION:
SUMMARY:Fifth Grade Graduation
END:VEVENT
BEGIN:VEVENT
DTSTAMP:20260423T005009Z
UID:ceb7c6ae-2856-40bb-b6d3-02be7a024c37
DTSTART;VALUE=DATE:20260521
DTEND;VALUE=DATE:20260522
DESCRIPTION:
LOCATION:
SUMMARY:Fourth Grading Period Ends
END:VEVENT
BEGIN:VEVENT
DTSTAMP:20260423T005009Z
UID:9391ad09-c7f5-429c-8d5b-537617d856df
DTSTART;VALUE=DATE:20260521
DTEND;VALUE=DATE:20260522
DESCRIPTION:
LOCATION:
SUMMARY:Last Day of School
END:VEVENT
BEGIN:VEVENT
DTSTAMP:20260423T005009Z
UID:24b59bb2-4d34-476f-9f25-5ff76474482c
DTSTART;VALUE=DATE:20260521
DTEND;VALUE=DATE:20260522
DESCRIPTION:
LOCATION:
SUMMARY:Spirit Rally
END:VEVENT
BEGIN:VEVENT
DTSTAMP:20260423T005009Z
UID:1935d9cd-6b80-4205-8121-7327b82725b0
DTSTART:20260521T144500
DTEND:20260521T150000
DESCRIPTION:
LOCATION:
SUMMARY:5th grade's final walk
END:VEVENT
BEGIN:VEVENT
DTSTAMP:20260423T005009Z
UID:d92fd039-be8d-475b-93f2-df919279cf0a
DTSTART;VALUE=DATE:20260525
DTEND;VALUE=DATE:20260526
DESCRIPTION:
LOCATION:
SUMMARY:District Holiday
END:VEVENT
BEGIN:VEVENT
DTSTAMP:20260423T005009Z
UID:2f33a9b8-60e2-444e-b4c2-0a9d469a5ca0
DTSTART:20260527T173000
DTEND:20260527T183000
DESCRIPTION:
LOCATION:
SUMMARY:PTO Meeting
END:VEVENT
END:VCALENDAR
