BEGIN:VCALENDAR
VERSION:2.0
PRODID:icalendar-ruby
CALSCALE:GREGORIAN
BEGIN:VTIMEZONE
TZID:America/Chicago
BEGIN:DAYLIGHT
DTSTART:20260308T030000
TZOFFSETFROM:-0600
TZOFFSETTO:-0500
RRULE:FREQ=YEARLY;BYDAY=2SU;BYMONTH=3
TZNAME:CDT
END:DAYLIGHT
BEGIN:STANDARD
DTSTART:20261101T010000
TZOFFSETFROM:-0500
TZOFFSETTO:-0600
RRULE:FREQ=YEARLY;BYDAY=1SU;BYMONTH=11
TZNAME:CST
END:STANDARD
END:VTIMEZONE
BEGIN:VEVENT
DTSTAMP:20260420T034834Z
UID:403937ef-0cf4-4d9b-ae0f-a03c21d8b7b4
DTSTART:20260421T180000
DTEND:20260421T200000
DESCRIPTION:
LOCATION:
SUMMARY:Athletic Banquet
END:VEVENT
BEGIN:VEVENT
DTSTAMP:20260420T034834Z
UID:b177e2ae-1431-4463-a1fb-e1505f8bc208
DTSTART:20260423T183000
DTEND:20260423T200000
DESCRIPTION:
LOCATION:
SUMMARY:Honor Society CV Tech
END:VEVENT
BEGIN:VEVENT
DTSTAMP:20260420T034834Z
UID:8d4a2045-5f7d-4788-84f4-8300d0561050
DTSTART;VALUE=DATE:20260425
DTEND;VALUE=DATE:20260426
DESCRIPTION:
LOCATION:
SUMMARY:ORES State Track @ North Rock Creek
END:VEVENT
BEGIN:VEVENT
DTSTAMP:20260420T034834Z
UID:35b6050e-c409-40b0-94ec-fc38dc0782d1
DTSTART;VALUE=DATE:20260427
DTEND;VALUE=DATE:20260428
DESCRIPTION:
LOCATION:
SUMMARY:4th Grade Field Trip
END:VEVENT
BEGIN:VEVENT
DTSTAMP:20260420T034834Z
UID:2424cc92-144c-42e2-a747-da44017def30
DTSTART;VALUE=DATE:20260429
DTEND;VALUE=DATE:20260430
DESCRIPTION:
LOCATION:
SUMMARY:Chisholm Golf Enid
END:VEVENT
BEGIN:VEVENT
DTSTAMP:20260420T034834Z
UID:baf7e5d6-9b1e-4582-bbb8-d11035959b1b
DTSTART:20260430T080000
DTEND:20260430T090000
DESCRIPTION:
LOCATION:
SUMMARY:Chisholm Enid Golf
END:VEVENT
BEGIN:VEVENT
DTSTAMP:20260420T034834Z
UID:608ed6b6-5b7f-4dec-87da-c1cb10b58fa1
DTSTART;VALUE=DATE:20260501
DTEND;VALUE=DATE:20260502
DESCRIPTION:
LOCATION:
SUMMARY:8th Grade Field Trip
END:VEVENT
BEGIN:VEVENT
DTSTAMP:20260420T034834Z
UID:fdb85d0e-e259-4f19-9723-5bd202369b96
DTSTART:20260505T170000
DTEND:20260505T180000
DESCRIPTION:
LOCATION:
SUMMARY:Kindergarten Graduation 
END:VEVENT
BEGIN:VEVENT
DTSTAMP:20260420T034834Z
UID:b629e89e-3d16-436c-b6ab-403ff50d9091
DTSTART:20260505T180000
DTEND:20260505T190000
DESCRIPTION:
LOCATION:
SUMMARY:8th Grade Graduation
END:VEVENT
BEGIN:VEVENT
DTSTAMP:20260420T034834Z
UID:d9dd35b4-3924-4e66-b3b2-48886f6d5c39
DTSTART:20260506T080000
DTEND:20260506T090000
DESCRIPTION:
LOCATION:
SUMMARY:AR Field Trip 
END:VEVENT
BEGIN:VEVENT
DTSTAMP:20260420T034834Z
UID:a684f539-ec0e-4131-a026-ebde18f9671a
DTSTART;VALUE=DATE:20260507
DTEND;VALUE=DATE:20260508
DESCRIPTION:
LOCATION:
SUMMARY:LAST DAY OF SCHOOL
END:VEVENT
BEGIN:VEVENT
DTSTAMP:20260420T034834Z
UID:fffb5f2a-d844-438e-a418-36d75c51dbd4
DTSTART;VALUE=DATE:20260507
DTEND;VALUE=DATE:20260508
DESCRIPTION:
LOCATION:
SUMMARY:PreK-4th Grade Field Day
END:VEVENT
BEGIN:VEVENT
DTSTAMP:20260420T034834Z
UID:432f0b32-7936-409d-b4bd-7165e4343101
DTSTART:20260601T080000
DTEND:20260626T123000
DESCRIPTION:
LOCATION:
SUMMARY:Summer School
END:VEVENT
BEGIN:VEVENT
DTSTAMP:20260420T034834Z
UID:5ab8938f-f8d7-4249-8d8e-a7c9a4be1005
DTSTART;VALUE=DATE:20260608
DTEND;VALUE=DATE:20260612
DESCRIPTION:
LOCATION:
SUMMARY:Ball Camp
END:VEVENT
END:VCALENDAR
