BEGIN:VCALENDAR
VERSION:2.0
PRODID:icalendar-ruby
CALSCALE:GREGORIAN
BEGIN:VTIMEZONE
TZID:America/New_York
BEGIN:DAYLIGHT
DTSTART:20260308T030000
TZOFFSETFROM:-0500
TZOFFSETTO:-0400
RRULE:FREQ=YEARLY;BYDAY=2SU;BYMONTH=3
TZNAME:EDT
END:DAYLIGHT
BEGIN:STANDARD
DTSTART:20261101T010000
TZOFFSETFROM:-0400
TZOFFSETTO:-0500
RRULE:FREQ=YEARLY;BYDAY=1SU;BYMONTH=11
TZNAME:EST
END:STANDARD
END:VTIMEZONE
BEGIN:VEVENT
DTSTAMP:20260420T080335Z
UID:5361f94f-1748-4315-8004-75adbf081065
DTSTART;VALUE=DATE:20260514
DTEND;VALUE=DATE:20260515
DESCRIPTION:
LOCATION:
SUMMARY:Senior Exams (full day school)
END:VEVENT
BEGIN:VEVENT
DTSTAMP:20260420T080335Z
UID:db2fbe14-a490-4179-8c47-f71c60155909
DTSTART;VALUE=DATE:20260515
DTEND;VALUE=DATE:20260516
DESCRIPTION:
LOCATION:
SUMMARY:Class of 2026 LAST DAY of SCHOOL!
END:VEVENT
BEGIN:VEVENT
DTSTAMP:20260420T080335Z
UID:ec6f00cf-f239-455f-9a08-abf7b54bca35
DTSTART;VALUE=DATE:20260515
DTEND;VALUE=DATE:20260516
DESCRIPTION:
LOCATION:
SUMMARY:Senior Exams (full day school)
END:VEVENT
BEGIN:VEVENT
DTSTAMP:20260420T080335Z
UID:0c7cbe21-b689-4de7-abaf-3439bcc61b71
DTSTART;VALUE=DATE:20260516
DTEND;VALUE=DATE:20260517
DESCRIPTION:
LOCATION:
SUMMARY:Prom-Irish Hills Wedding Barn
END:VEVENT
BEGIN:VEVENT
DTSTAMP:20260420T080335Z
UID:907e42f0-641a-40c6-930b-7f819c2ead69
DTSTART:20260522T073500
DTEND:20260522T105900
DESCRIPTION:
LOCATION:
SUMMARY:1/2 Day
END:VEVENT
BEGIN:VEVENT
DTSTAMP:20260420T080335Z
UID:c93d72e0-7ba4-405b-ae5a-7590da613372
DTSTART;VALUE=DATE:20260525
DTEND;VALUE=DATE:20260526
DESCRIPTION:
LOCATION:
SUMMARY:NO SCHOOL\, Memorial Day
END:VEVENT
BEGIN:VEVENT
DTSTAMP:20260420T080335Z
UID:4c987c51-85e7-42ff-9efc-fb2c4778508c
DTSTART:20260526T190000
DTEND:20260526T210000
DESCRIPTION:
LOCATION:
SUMMARY:Seniors Honors Reception @ HS
END:VEVENT
BEGIN:VEVENT
DTSTAMP:20260420T080335Z
UID:7aafa4dc-3276-41e2-a624-67121406601b
DTSTART:20260527T083000
DTEND:20260527T093000
DESCRIPTION:
LOCATION:
SUMMARY:9th-11th Academic Awards Assembly
END:VEVENT
BEGIN:VEVENT
DTSTAMP:20260420T080335Z
UID:dd6b988a-8977-4a98-b214-b8c85b120ae5
DTSTART:20260528T123000
DTEND:20260528T133000
DESCRIPTION:
LOCATION:
SUMMARY:Class of 2026-Walk thru District
END:VEVENT
BEGIN:VEVENT
DTSTAMP:20260420T080335Z
UID:0c8918fb-11fe-4a15-8308-e096157a9a08
DTSTART:20260531T110000
DTEND:20260531T130000
DESCRIPTION:
LOCATION:
SUMMARY:Class of 2026 GRADUATION
END:VEVENT
BEGIN:VEVENT
DTSTAMP:20260420T080335Z
UID:085bfd7f-d104-42a2-b56f-1e4d74a26c78
DTSTART;VALUE=DATE:20260603
DTEND;VALUE=DATE:20260604
DESCRIPTION:
LOCATION:
SUMMARY:HS Exams (full day)
END:VEVENT
BEGIN:VEVENT
DTSTAMP:20260420T080335Z
UID:1457f68b-6ca7-499b-a844-e8bfc9c090e2
DTSTART;VALUE=DATE:20260603
DTEND;VALUE=DATE:20260604
DESCRIPTION:
LOCATION:
SUMMARY:Last Day Career Center
END:VEVENT
BEGIN:VEVENT
DTSTAMP:20260420T080335Z
UID:bc9ef6c8-0487-4a94-8388-990657029c47
DTSTART;VALUE=DATE:20260604
DTEND;VALUE=DATE:20260605
DESCRIPTION:
LOCATION:
SUMMARY:HS Exams
END:VEVENT
BEGIN:VEVENT
DTSTAMP:20260420T080335Z
UID:e037763e-110f-4bbf-82fa-47bc0fcee089
DTSTART:20260604T073500
DTEND:20260604T105900
DESCRIPTION:
LOCATION:
SUMMARY:LAST DAY OF SCHOOL!
END:VEVENT
END:VCALENDAR
