BEGIN:VCALENDAR
VERSION:2.0
PRODID:icalendar-ruby
CALSCALE:GREGORIAN
BEGIN:VTIMEZONE
TZID:America/Chicago
BEGIN:DAYLIGHT
DTSTART:20260308T030000
TZOFFSETFROM:-0600
TZOFFSETTO:-0500
RRULE:FREQ=YEARLY;BYDAY=2SU;BYMONTH=3
TZNAME:CDT
END:DAYLIGHT
BEGIN:STANDARD
DTSTART:20261101T010000
TZOFFSETFROM:-0500
TZOFFSETTO:-0600
RRULE:FREQ=YEARLY;BYDAY=1SU;BYMONTH=11
TZNAME:CST
END:STANDARD
END:VTIMEZONE
BEGIN:VEVENT
DTSTAMP:20260425T103015Z
UID:1c42c84c-dc47-46ab-b98c-6b53ff5e6f07
DTSTART;VALUE=DATE:20260424
DTEND;VALUE=DATE:20260426
DESCRIPTION:
LOCATION:
SUMMARY:UIL Academic Region @ A&M Commerce
END:VEVENT
BEGIN:VEVENT
DTSTAMP:20260425T103015Z
UID:b47f7eea-3453-4dc2-8e64-6e528e56895e
DTSTART;VALUE=DATE:20260427
DTEND;VALUE=DATE:20260502
DESCRIPTION:
LOCATION:
SUMMARY:Middle School World’s Competition to St. Louis
END:VEVENT
BEGIN:VEVENT
DTSTAMP:20260425T103015Z
UID:c64d0c0e-57d9-4941-a890-f487201fa96c
DTSTART:20260427T170000
DTEND:20260427T180000
DESCRIPTION:
LOCATION:
SUMMARY:Soccer JH boys vs Texas Middle - Home (PTHS lower field)
END:VEVENT
BEGIN:VEVENT
DTSTAMP:20260425T103015Z
UID:c5c0c506-7e7b-42b8-8d0e-28ae25352eca
DTSTART:20260427T180000
DTEND:20260427T190000
DESCRIPTION:
LOCATION:
SUMMARY:Softball JH softball vs Spring Hill - Home (double header)
END:VEVENT
BEGIN:VEVENT
DTSTAMP:20260425T103015Z
UID:526ffd11-cac1-4f42-9226-70ca271c2444
DTSTART:20260428T170000
DTEND:20260428T183000
DESCRIPTION:
LOCATION:1808 Silver Falls Rd\, Longview\, TX 75604\, USA
SUMMARY:Primary Information Fair
END:VEVENT
BEGIN:VEVENT
DTSTAMP:20260425T103015Z
UID:f5db5464-1329-4882-b849-1a408b11f545
DTSTART:20260428T170000
DTEND:20260428T180000
DESCRIPTION:
LOCATION:
SUMMARY:Soccer JH girls vs Tyler Heat - Home (PTHS lower field)
END:VEVENT
BEGIN:VEVENT
DTSTAMP:20260425T103015Z
UID:816db188-2a1d-4e69-9852-f00a394a8eb2
DTSTART:20260428T183000
DTEND:20260428T193000
DESCRIPTION:
LOCATION:
SUMMARY:Percussion Concert
END:VEVENT
BEGIN:VEVENT
DTSTAMP:20260425T103015Z
UID:a978a59a-066a-41a7-b377-a60ec4701845
DTSTART;VALUE=DATE:20260429
DTEND;VALUE=DATE:20260430
DESCRIPTION:
LOCATION:
SUMMARY:STAAR Math 3rd and 4th Grade
END:VEVENT
BEGIN:VEVENT
DTSTAMP:20260425T103015Z
UID:5ad6caaf-f6d8-46d5-8c06-36f429133959
DTSTART;VALUE=DATE:20260430
DTEND;VALUE=DATE:20260501
DESCRIPTION:
LOCATION:
SUMMARY:Precision Officer Tryouts
END:VEVENT
BEGIN:VEVENT
DTSTAMP:20260425T103015Z
UID:c993267b-2fab-44e9-8e4c-095f6087fd11
DTSTART:20260430T083000
DTEND:20260430T120000
DESCRIPTION:
LOCATION:
SUMMARY: 6th Grade Solo & Ensemble
END:VEVENT
BEGIN:VEVENT
DTSTAMP:20260425T103015Z
UID:99af4b49-ebbe-4ad4-8431-72359c1cdc48
DTSTART:20260430T090000
DTEND:20260430T100000
DESCRIPTION:
LOCATION:
SUMMARY: Parkway 1st Grade Music Show - 2nd and 1st Grade
END:VEVENT
BEGIN:VEVENT
DTSTAMP:20260425T103015Z
UID:30932502-b633-45c6-b859-18f69191bb73
DTSTART:20260430T134500
DTEND:20260430T141500
DESCRIPTION:
LOCATION:
SUMMARY:Parkway 1st Grade Music Show - Parents Show
END:VEVENT
BEGIN:VEVENT
DTSTAMP:20260425T103015Z
UID:89c786fb-9043-429c-a3b0-ab971e130dd3
DTSTART:20260430T180000
DTEND:20260430T193000
DESCRIPTION:
LOCATION:
SUMMARY: Speech\, Debate & Interp Showcase
END:VEVENT
BEGIN:VEVENT
DTSTAMP:20260425T103015Z
UID:7efb5806-c505-4a8e-97c5-7e42f11c9dda
DTSTART:20260430T190000
DTEND:20260430T200000
DESCRIPTION:
LOCATION:
SUMMARY:Baseball BI-DISTRICT playoff - Varsity @ Lindale - Away (game 1 of 
 best of 3) 
END:VEVENT
BEGIN:VEVENT
DTSTAMP:20260425T103015Z
UID:01d2d2ed-926f-48aa-932d-c28d2f351109
DTSTART;VALUE=DATE:20260501
DTEND;VALUE=DATE:20260503
DESCRIPTION:
LOCATION:
SUMMARY:Track Varsity boys/girls - Regional meet @ A&M Commerce - Away
END:VEVENT
BEGIN:VEVENT
DTSTAMP:20260425T103015Z
UID:ce3f681f-dcca-4806-871b-d289b4bc6b69
DTSTART:20260501T090000
DTEND:20260501T130000
DESCRIPTION:
LOCATION:
SUMMARY:Primary Field Day
END:VEVENT
BEGIN:VEVENT
DTSTAMP:20260425T103015Z
UID:3ae31ca9-c8c4-4d4a-a2ec-22908e462201
DTSTART:20260501T100000
DTEND:20260501T140000
DESCRIPTION:
LOCATION:
SUMMARY:Special Needs Prom
END:VEVENT
BEGIN:VEVENT
DTSTAMP:20260425T103015Z
UID:3e2f063d-8636-4087-ada9-3b793bb14eaf
DTSTART:20260501T190000
DTEND:20260501T200000
DESCRIPTION:
LOCATION:
SUMMARY:Baseball BI-DISTRICT playoff - Varsity vs Lindale - Home (game 2 of
  best of 3) 
END:VEVENT
BEGIN:VEVENT
DTSTAMP:20260425T103015Z
UID:6fa6ed11-7171-4e38-a58a-891f45a091b4
DTSTART:20260501T190000
DTEND:20260501T220000
DESCRIPTION:
LOCATION:
SUMMARY:PTHS Choir Pop Show
END:VEVENT
BEGIN:VEVENT
DTSTAMP:20260425T103015Z
UID:8d28d53e-41d2-4338-8832-04879bcd55ea
DTSTART;VALUE=DATE:20260502
DTEND;VALUE=DATE:20260503
DESCRIPTION:
LOCATION:
SUMMARY:Baseball BI-DISTRICT playoff - Varsity vs Lindale @ TBD (game 3 if 
 necessary) 
END:VEVENT
BEGIN:VEVENT
DTSTAMP:20260425T103015Z
UID:114d8a93-6c4d-4238-90b2-c9d217db5a6c
DTSTART;VALUE=DATE:20260502
DTEND;VALUE=DATE:20260503
DESCRIPTION:
LOCATION:
SUMMARY:Passion Guard Spring Show
END:VEVENT
BEGIN:VEVENT
DTSTAMP:20260425T103015Z
UID:49d1985f-1882-422b-a2de-8543bc8bd60d
DTSTART;VALUE=DATE:20260504
DTEND;VALUE=DATE:20260509
DESCRIPTION:
LOCATION:
SUMMARY:Teacher Appreciation Week 
END:VEVENT
BEGIN:VEVENT
DTSTAMP:20260425T103015Z
UID:418d382b-5deb-45f9-bb63-2ab324816ab9
DTSTART;VALUE=DATE:20260504
DTEND;VALUE=DATE:20260505
DESCRIPTION:
LOCATION:
SUMMARY:JH Band Spring Concert
END:VEVENT
BEGIN:VEVENT
DTSTAMP:20260425T103015Z
UID:33b4b090-6e16-4e0d-a29c-33d0e536865d
DTSTART;VALUE=DATE:20260504
DTEND;VALUE=DATE:20260509
DESCRIPTION:
LOCATION:
SUMMARY:Teacher Appreciation Week
END:VEVENT
BEGIN:VEVENT
DTSTAMP:20260425T103015Z
UID:e439d343-ba86-4324-a11d-ee3a81bb4061
DTSTART:20260504T163000
DTEND:20260504T173000
DESCRIPTION:
LOCATION:
SUMMARY:Drum Major Tryouts
END:VEVENT
BEGIN:VEVENT
DTSTAMP:20260425T103015Z
UID:731a38a9-9e6a-42f0-993f-c7f7f31c4e75
DTSTART:20260505T183000
DTEND:20260505T201500
DESCRIPTION:
LOCATION:
SUMMARY:6th Grade Band Spring Concert
END:VEVENT
BEGIN:VEVENT
DTSTAMP:20260425T103015Z
UID:f4748e7e-28d0-4900-9904-268ae47d803b
DTSTART:20260505T190000
DTEND:20260505T200000
DESCRIPTION:
LOCATION:
SUMMARY:Cinco de Mayo Cultural Celebration Program
END:VEVENT
BEGIN:VEVENT
DTSTAMP:20260425T103015Z
UID:387693f3-b21a-451d-988a-dfef58620362
DTSTART:20260507T180000
DTEND:20260507T200000
DESCRIPTION:
LOCATION:
SUMMARY:Parkway Elementary District Art Show
END:VEVENT
BEGIN:VEVENT
DTSTAMP:20260425T103015Z
UID:49ce4d1b-d1a8-431f-abb4-b32aa1dc2244
DTSTART:20260507T183000
DTEND:20260507T193000
DESCRIPTION:
LOCATION:
SUMMARY:Middle School Band Concert 6:30 pm
END:VEVENT
BEGIN:VEVENT
DTSTAMP:20260425T103015Z
UID:0925c35f-87ea-4cfb-8bb2-a762ae3091a0
DTSTART;VALUE=DATE:20260508
DTEND;VALUE=DATE:20260509
DESCRIPTION:
LOCATION:
SUMMARY:6th Grade Band to Splash Kingdom/Soundpost
END:VEVENT
BEGIN:VEVENT
DTSTAMP:20260425T103015Z
UID:25116817-4406-4e74-a5a5-8a13eca81e80
DTSTART:20260508T103000
DTEND:20260508T123000
DESCRIPTION:
LOCATION:
SUMMARY:Primary Mother's Day Picnic
END:VEVENT
BEGIN:VEVENT
DTSTAMP:20260425T103015Z
UID:5792cc9c-15c3-4ad0-bbf6-0d8f66b01b8a
DTSTART:20260508T190000
DTEND:20260508T200000
DESCRIPTION:
LOCATION:
SUMMARY:PTHS Choir Pop Show
END:VEVENT
BEGIN:VEVENT
DTSTAMP:20260425T103015Z
UID:2e6b0704-85c1-4746-aa2c-9ac74adfe9e9
DTSTART;VALUE=DATE:20260509
DTEND;VALUE=DATE:20260510
DESCRIPTION:
LOCATION:
SUMMARY:Band solo contest
END:VEVENT
BEGIN:VEVENT
DTSTAMP:20260425T103015Z
UID:ffdda100-f3d6-4a56-84fb-19a80ca1e1de
DTSTART:20260509T080000
DTEND:20260509T090000
DESCRIPTION:
LOCATION:
SUMMARY:PTHS PROM at La Luna Ranch
END:VEVENT
BEGIN:VEVENT
DTSTAMP:20260425T103015Z
UID:8a0bbbbf-7ef6-4320-9e49-2de6c5856c0a
DTSTART:20260511T174500
DTEND:20260511T184500
DESCRIPTION:<p>For information visit <a target="_blank" rel="noopener noref
 errer nofollow" href="https://www.ptisd.org/page/board-of-trustees">https:
 //www.ptisd.org/page/board-of-trustees</a></p>
LOCATION:1701 Pine Tree Rd\, Longview\, TX 75604\, USA
SUMMARY:PTISD Board Meeting 
END:VEVENT
BEGIN:VEVENT
DTSTAMP:20260425T103015Z
UID:93ccebc7-6ba0-4ccc-92a1-11ea9280d863
DTSTART:20260511T183000
DTEND:20260511T193000
DESCRIPTION:
LOCATION:
SUMMARY:PTHS Spring Band Concert
END:VEVENT
BEGIN:VEVENT
DTSTAMP:20260425T103015Z
UID:0be41a38-2132-44a7-af05-e95569213c43
DTSTART;VALUE=DATE:20260512
DTEND;VALUE=DATE:20260513
DESCRIPTION:
LOCATION:
SUMMARY: HS Band Contest - Canton HS - Sound Post Music Festival
END:VEVENT
BEGIN:VEVENT
DTSTAMP:20260425T103015Z
UID:a36af62c-9557-4edb-b0d6-01eb82eed7de
DTSTART;VALUE=DATE:20260512
DTEND;VALUE=DATE:20260513
DESCRIPTION:
LOCATION:
SUMMARY:Primary Tug of War 8:00am by Basketball Court
END:VEVENT
BEGIN:VEVENT
DTSTAMP:20260425T103015Z
UID:56efe0c3-68e1-47cd-aff2-5b2ac466d9ec
DTSTART:20260512T083000
DTEND:20260512T133000
DESCRIPTION:
LOCATION:
SUMMARY:Birch Beatles  End of Year Tour around Longview
END:VEVENT
BEGIN:VEVENT
DTSTAMP:20260425T103015Z
UID:8cf737ea-d123-4b93-b0a9-3bda03862233
DTSTART:20260512T183000
DTEND:20260512T200000
DESCRIPTION:
LOCATION:
SUMMARY:PTHS Theatre Banquet
END:VEVENT
BEGIN:VEVENT
DTSTAMP:20260425T103015Z
UID:d68de34f-be35-4d38-bca2-80b1aff5fe51
DTSTART:20260512T190000
DTEND:20260512T200000
DESCRIPTION:
LOCATION:
SUMMARY:JH Choir Pop Show
END:VEVENT
BEGIN:VEVENT
DTSTAMP:20260425T103015Z
UID:13dad437-e1dd-4ab6-9862-2defb634cfce
DTSTART;VALUE=DATE:20260514
DTEND;VALUE=DATE:20260515
DESCRIPTION:
LOCATION:1701 Pine Tree Rd\, Longview\, TX 75604\, USA
SUMMARY:CTE Industry Advisory Board Meeting #3
END:VEVENT
BEGIN:VEVENT
DTSTAMP:20260425T103015Z
UID:741e0a1f-7859-455b-b744-ceefd19cd37d
DTSTART;VALUE=DATE:20260514
DTEND;VALUE=DATE:20260515
DESCRIPTION:
LOCATION:
SUMMARY:JH Choir Spring Trip
END:VEVENT
BEGIN:VEVENT
DTSTAMP:20260425T103015Z
UID:d163586b-3f7b-45e1-8286-ba52614e5324
DTSTART;VALUE=DATE:20260514
DTEND;VALUE=DATE:20260515
DESCRIPTION:
LOCATION:
SUMMARY:Senior Awards Night
END:VEVENT
BEGIN:VEVENT
DTSTAMP:20260425T103015Z
UID:3d533958-79dc-4cb3-a5b3-c6a97c85f142
DTSTART;VALUE=DATE:20260514
DTEND;VALUE=DATE:20260515
DESCRIPTION:
LOCATION:
SUMMARY:UIL Theatrical Design State
END:VEVENT
BEGIN:VEVENT
DTSTAMP:20260425T103015Z
UID:186cd290-1214-472c-bba0-1179a0a6a32d
DTSTART:20260514T183000
DTEND:20260514T190000
DESCRIPTION:
LOCATION:600 Pine Tree Pkwy\, Longview\, TX 75604\, USA
SUMMARY: 5th Grade Band Informational Meeting
END:VEVENT
BEGIN:VEVENT
DTSTAMP:20260425T103015Z
UID:a399e771-c11d-47ae-b769-2ac6e017dc36
DTSTART;VALUE=DATE:20260515
DTEND;VALUE=DATE:20260516
DESCRIPTION:
LOCATION:
SUMMARY:UIL Theatrical Design State
END:VEVENT
BEGIN:VEVENT
DTSTAMP:20260425T103015Z
UID:b5612d20-8ec6-43e7-8b2c-b793d580324d
DTSTART:20260515T083000
DTEND:20260515T103000
DESCRIPTION:
LOCATION:
SUMMARY:Senior Walk - All Campuses and Central Office
END:VEVENT
BEGIN:VEVENT
DTSTAMP:20260425T103015Z
UID:3ea8979b-b151-47a6-a753-80db6e5eca65
DTSTART:20260515T183000
DTEND:20260515T193000
DESCRIPTION:
LOCATION:
SUMMARY:HS Solo Contest - Finals
END:VEVENT
BEGIN:VEVENT
DTSTAMP:20260425T103015Z
UID:51c9d17d-0a2d-4647-a1e7-8cb49488eeee
DTSTART;VALUE=DATE:20260518
DTEND;VALUE=DATE:20260519
DESCRIPTION:
LOCATION:
SUMMARY:Primary Outdoor Centers
END:VEVENT
BEGIN:VEVENT
DTSTAMP:20260425T103015Z
UID:be1460d7-8896-439a-90a1-8cac9a2ad4bd
DTSTART;VALUE=DATE:20260518
DTEND;VALUE=DATE:20260519
DESCRIPTION:
LOCATION:
SUMMARY:UIL Academics State Meet – Austin
END:VEVENT
BEGIN:VEVENT
DTSTAMP:20260425T103015Z
UID:34d2d152-24cf-4925-a5e3-2915d0a4b2a9
DTSTART;VALUE=DATE:20260519
DTEND;VALUE=DATE:20260520
DESCRIPTION:
LOCATION:
SUMMARY:Awards Assemblies
END:VEVENT
BEGIN:VEVENT
DTSTAMP:20260425T103015Z
UID:4a6a65a1-9e76-4417-8891-9355aff15a60
DTSTART;VALUE=DATE:20260519
DTEND;VALUE=DATE:20260520
DESCRIPTION:
LOCATION:
SUMMARY:UIL Academics State Meet – Austin
END:VEVENT
BEGIN:VEVENT
DTSTAMP:20260425T103015Z
UID:580d272f-4d5f-45c9-8031-a07ab1185866
DTSTART:20260519T083000
DTEND:20260519T110000
DESCRIPTION:
LOCATION:
SUMMARY:Kindergarten Graduation 
END:VEVENT
BEGIN:VEVENT
DTSTAMP:20260425T103015Z
UID:10824721-24d2-4e38-b2d0-3f0b284f9acb
DTSTART;VALUE=DATE:20260520
DTEND;VALUE=DATE:20260521
DESCRIPTION:
LOCATION:
SUMMARY:UIL OAP State Meet – Austin
END:VEVENT
BEGIN:VEVENT
DTSTAMP:20260425T103015Z
UID:30c9eadc-8216-4112-9eba-9b01429c2c02
DTSTART:20260520T090000
DTEND:20260520T100000
DESCRIPTION:
LOCATION:
SUMMARY:Pre-K Promotion Party
END:VEVENT
BEGIN:VEVENT
DTSTAMP:20260425T103015Z
UID:02e299b3-4309-46e6-8f3b-183d9bc4dafb
DTSTART:20260521T200000
DTEND:20260521T220000
DESCRIPTION:
LOCATION:3737 W Loop 281\, Longview\, TX 75604\, USA
SUMMARY:Pine Tree High School Graduation  Class of 2026
END:VEVENT
BEGIN:VEVENT
DTSTAMP:20260425T103015Z
UID:c98b65c5-d915-4cb0-b0cc-c6543206af27
DTSTART;VALUE=DATE:20260525
DTEND;VALUE=DATE:20260526
DESCRIPTION:
LOCATION:
SUMMARY:District Holiday -All Campuses and District Offices Closed 
END:VEVENT
BEGIN:VEVENT
DTSTAMP:20260425T103015Z
UID:7033a843-8bcd-4077-a3fc-ca3ef30d6df7
DTSTART;VALUE=DATE:20260526
DTEND;VALUE=DATE:20260530
DESCRIPTION:
LOCATION:
SUMMARY:Precision Line Camp
END:VEVENT
BEGIN:VEVENT
DTSTAMP:20260425T103015Z
UID:a3b6dfd4-ff15-4921-82e2-e159b7ead0d7
DTSTART;VALUE=DATE:20260604
DTEND;VALUE=DATE:20260608
DESCRIPTION:
LOCATION:
SUMMARY:Precision Officer Camp
END:VEVENT
BEGIN:VEVENT
DTSTAMP:20260425T103015Z
UID:e946b9fc-c8b2-413c-b041-047376977fee
DTSTART:20260608T174500
DTEND:20260608T184500
DESCRIPTION:<p>For information visit <a target="_blank" rel="noopener noref
 errer nofollow" href="https://www.ptisd.org/page/board-of-trustees">https:
 //www.ptisd.org/page/board-of-trustees</a></p>
LOCATION:1701 Pine Tree Rd\, Longview\, TX 75604\, USA
SUMMARY:PTISD Board Meeting 
END:VEVENT
BEGIN:VEVENT
DTSTAMP:20260425T103015Z
UID:ad491c3b-8e19-4c90-be69-1a715310dc9c
DTSTART;VALUE=DATE:20260713
DTEND;VALUE=DATE:20260716
DESCRIPTION:
LOCATION:
SUMMARY:PTHS Cheer UCA Home Camp
END:VEVENT
BEGIN:VEVENT
DTSTAMP:20260425T103015Z
UID:f84fe342-faa1-4597-ab3e-dd33af6bae95
DTSTART;VALUE=DATE:20260730
DTEND;VALUE=DATE:20260731
DESCRIPTION:
LOCATION:
SUMMARY:Pine Tree Central Office Closed 
END:VEVENT
BEGIN:VEVENT
DTSTAMP:20260425T103015Z
UID:ae1ac1ab-95e5-41aa-82fd-92b40a5a2a9b
DTSTART;VALUE=DATE:20260804
DTEND;VALUE=DATE:20260807
DESCRIPTION:
LOCATION:
SUMMARY:Student Registration
END:VEVENT
BEGIN:VEVENT
DTSTAMP:20260425T103015Z
UID:6f15b9e3-8189-43e2-b477-7a2d68b11dca
DTSTART:20260813T130000
DTEND:20260813T180000
DESCRIPTION:
LOCATION:
SUMMARY:Primary Family Orientations 1:00-6:00PM 
END:VEVENT
BEGIN:VEVENT
DTSTAMP:20260425T103015Z
UID:30a3128b-615e-4350-81f0-b159d2b56e01
DTSTART:20260818T073000
DTEND:20260818T113000
DESCRIPTION:
LOCATION:
SUMMARY:Primary Family Orientations 7:30-11:30 AM
END:VEVENT
BEGIN:VEVENT
DTSTAMP:20260425T103015Z
UID:78b66ac5-fdc2-4816-8680-bf5c1c74d310
DTSTART;VALUE=DATE:20260819
DTEND;VALUE=DATE:20260820
DESCRIPTION:
LOCATION:
SUMMARY:Pine Tree  ISD First Day of School
END:VEVENT
BEGIN:VEVENT
DTSTAMP:20260425T103015Z
UID:ed4416b8-8513-4129-acba-544a676cbb9e
DTSTART;VALUE=DATE:20260907
DTEND;VALUE=DATE:20260908
DESCRIPTION:
LOCATION:
SUMMARY:District Holiday - All Campuses and Offices will be Closed
END:VEVENT
BEGIN:VEVENT
DTSTAMP:20260425T103015Z
UID:a54c8256-e7f3-42e8-b279-e126164a85d4
DTSTART;VALUE=DATE:20261009
DTEND;VALUE=DATE:20261010
DESCRIPTION:
LOCATION:
SUMMARY:Staff Development Day 
END:VEVENT
BEGIN:VEVENT
DTSTAMP:20260425T103015Z
UID:28a68879-0044-46d1-8162-c5aff53e31b7
DTSTART;VALUE=DATE:20261012
DTEND;VALUE=DATE:20261013
DESCRIPTION:
LOCATION:
SUMMARY:District Holiday - All Campuses and Offices will be Closed
END:VEVENT
BEGIN:VEVENT
DTSTAMP:20260425T103015Z
UID:6f2e5336-325e-400d-bbb0-d2bbed58de52
DTSTART;VALUE=DATE:20261123
DTEND;VALUE=DATE:20261128
DESCRIPTION:
LOCATION:
SUMMARY:District Holiday - All Campuses and Offices will be Closed
END:VEVENT
BEGIN:VEVENT
DTSTAMP:20260425T103015Z
UID:bdd026e8-956f-4809-9a03-49c56ac71079
DTSTART;VALUE=DATE:20261218
DTEND;VALUE=DATE:20261219
DESCRIPTION:
LOCATION:
SUMMARY:Early Release 
END:VEVENT
BEGIN:VEVENT
DTSTAMP:20260425T103015Z
UID:97077765-df2a-412b-9cb2-7fd81530a337
DTSTART;VALUE=DATE:20261221
DTEND;VALUE=DATE:20270105
DESCRIPTION:
LOCATION:
SUMMARY:District Holiday - All Campuses and Offices will be Closed
END:VEVENT
BEGIN:VEVENT
DTSTAMP:20260425T103015Z
UID:ed28de6f-f040-4f9a-8db1-513cc92aea84
DTSTART;VALUE=DATE:20270105
DTEND;VALUE=DATE:20270106
DESCRIPTION:
LOCATION:
SUMMARY:Staff Development Day 
END:VEVENT
BEGIN:VEVENT
DTSTAMP:20260425T103015Z
UID:9da61411-4421-47ad-ad40-4bb997b2f81c
DTSTART:20270206T180000
DTEND:20270206T220000
DESCRIPTION:<p>Prepaid reservations are required for this event. For ticket
  information visit www.ptisd.org/page/pirates-of-the-pines</p><p>The Pine 
 Tree ISD Education Foundation accomplishes our mission through the generos
 ity of businesses\, community members and alumni intentionally supporting 
 and enriching the lives of students in our community. We are asking for yo
 ur partnership and generosity in providing academic supportive opportuniti
 es for Pine Tree students. Your donations will grant academic enriching op
 portunities to deserving students who financially would be unable to attai
 n.</p>
LOCATION:300 Tuttle Cir\, Longview\, TX 75605\, USA
SUMMARY:Pirates of the Pines 
END:VEVENT
BEGIN:VEVENT
DTSTAMP:20260425T103015Z
UID:67287269-c0fe-46a9-8ed7-70cbdce35393
DTSTART;VALUE=DATE:20270212
DTEND;VALUE=DATE:20270213
DESCRIPTION:
LOCATION:
SUMMARY:District Holiday - All Campuses and Offices will be Closed
END:VEVENT
BEGIN:VEVENT
DTSTAMP:20260425T103015Z
UID:e2318be9-117b-4516-b594-cfeff491fee7
DTSTART:20270215T080000
DTEND:20270215T090000
DESCRIPTION:
LOCATION:
SUMMARY:District Holiday - All Campuses and Offices will be Closed
END:VEVENT
BEGIN:VEVENT
DTSTAMP:20260425T103015Z
UID:36305ca4-4d5e-49b8-9d21-47c114035942
DTSTART;VALUE=DATE:20270308
DTEND;VALUE=DATE:20270313
DESCRIPTION:
LOCATION:
SUMMARY:Spring Break ☀️ 
END:VEVENT
BEGIN:VEVENT
DTSTAMP:20260425T103015Z
UID:1267e93d-532e-45d0-b02b-2f8e79166c76
DTSTART:20270325T180000
DTEND:20270325T200000
DESCRIPTION:<p>Join us at Pine Tree Expedition 2027\, a community event tha
 t will showcase Pine Tree. Visit with students\, teachers and administrato
 rs from each campus and department about pathways to success\, innovative 
 projects\, extracurricular activities\, special programs\, and more. Enjoy
  student demonstrations\, fine arts performances\; learn about volunteerin
 g and job opportunities. This is your chance to discover what makes Pine T
 ree great all in one location. Make plans to join us on Thursday\, Februar
 y 20th from 6pm - 8pm at Maude Cobb Convention Center\, 100 Grand Blvd.</p
 >
LOCATION:100 Grand Blvd\, Longview\, TX 75604\, USA
SUMMARY:Pine Tree Expedition 2027
END:VEVENT
BEGIN:VEVENT
DTSTAMP:20260425T103015Z
UID:95d15082-d64f-429c-a285-8d1b6382b0df
DTSTART;VALUE=DATE:20270326
DTEND;VALUE=DATE:20270327
DESCRIPTION:
LOCATION:
SUMMARY:District Holiday - All Campuses and Offices will be Closed
END:VEVENT
BEGIN:VEVENT
DTSTAMP:20260425T103015Z
UID:58c37942-ac88-4fc2-adfa-a4fa3d733abc
DTSTART;VALUE=DATE:20270416
DTEND;VALUE=DATE:20270417
DESCRIPTION:
LOCATION:
SUMMARY:District Holiday - All Campuses and Offices will be Closed
END:VEVENT
BEGIN:VEVENT
DTSTAMP:20260425T103015Z
UID:e772e580-c8e0-4dbb-9f45-b4b2555102b0
DTSTART;VALUE=DATE:20270526
DTEND;VALUE=DATE:20270527
DESCRIPTION:
LOCATION:
SUMMARY:Early Release 
END:VEVENT
BEGIN:VEVENT
DTSTAMP:20260425T103015Z
UID:44575fad-e821-456e-9fe9-c150a4fa524e
DTSTART;VALUE=DATE:20270526
DTEND;VALUE=DATE:20270527
DESCRIPTION:
LOCATION:
SUMMARY:Pine Tree Last Day of School
END:VEVENT
BEGIN:VEVENT
DTSTAMP:20260425T103015Z
UID:cc814602-6c19-4f2c-9751-9260fcfa8d5f
DTSTART;VALUE=DATE:20270527
DTEND;VALUE=DATE:20270528
DESCRIPTION:
LOCATION:
SUMMARY:Pine Tree High School Graduation 🧑🏻‍🎓
END:VEVENT
BEGIN:VEVENT
DTSTAMP:20260425T103015Z
UID:4ef1ae67-3c31-4a41-8085-1586b95376c1
DTSTART;VALUE=DATE:20270531
DTEND;VALUE=DATE:20270601
DESCRIPTION:
LOCATION:
SUMMARY:District Holiday - All Campuses and Offices will be Closed
END:VEVENT
END:VCALENDAR
