BEGIN:VCALENDAR
VERSION:2.0
PRODID:icalendar-ruby
CALSCALE:GREGORIAN
BEGIN:VTIMEZONE
TZID:America/New_York
BEGIN:DAYLIGHT
DTSTART:20260308T030000
TZOFFSETFROM:-0500
TZOFFSETTO:-0400
RRULE:FREQ=YEARLY;BYDAY=2SU;BYMONTH=3
TZNAME:EDT
END:DAYLIGHT
BEGIN:STANDARD
DTSTART:20261101T010000
TZOFFSETFROM:-0400
TZOFFSETTO:-0500
RRULE:FREQ=YEARLY;BYDAY=1SU;BYMONTH=11
TZNAME:EST
END:STANDARD
END:VTIMEZONE
BEGIN:VEVENT
DTSTAMP:20260425T103859Z
UID:19699b83-dc3a-40cd-a4a7-9606cf206d18
DTSTART:20260427T180000
DTEND:20260427T190000
DESCRIPTION:
LOCATION:Sutton Town Hall\, 4 Uxbridge Rd\, Sutton\, MA 01590\, USA
SUMMARY:School Committee Meeting (as needed)
END:VEVENT
BEGIN:VEVENT
DTSTAMP:20260425T103859Z
UID:c604c928-2a50-4387-b322-7d020762d418
DTSTART;VALUE=DATE:20260501
DTEND;VALUE=DATE:20260502
DESCRIPTION:
LOCATION:
SUMMARY:HALF DAY (Prof. Dev.)
END:VEVENT
BEGIN:VEVENT
DTSTAMP:20260425T103859Z
UID:bf75a758-57de-4d9f-938a-1be56d192e16
DTSTART:20260506T101500
DTEND:20260506T110000
DESCRIPTION:
LOCATION:SCEL Auditorium
SUMMARY:Grade 5 Band & Chorus will be performing for students in grades K-2
END:VEVENT
BEGIN:VEVENT
DTSTAMP:20260425T103859Z
UID:38737c5e-fe77-4701-8af3-6d3a53ca296f
DTSTART:20260511T180000
DTEND:20260511T200000
DESCRIPTION:
LOCATION:Sutton Town Hall\, 4 Uxbridge Rd\, Sutton\, MA 01590\, USA
SUMMARY:School Committee Meeting
END:VEVENT
BEGIN:VEVENT
DTSTAMP:20260425T103859Z
UID:08eb0ebb-3d86-4f8f-9ba3-f131ad25f6ed
DTSTART:20260518T180000
DTEND:20260518T190000
DESCRIPTION:
LOCATION:Sutton Town Hall\, 4 Uxbridge Rd\, Sutton\, MA 01590\, USA
SUMMARY:School Committee Meeting (as needed)
END:VEVENT
BEGIN:VEVENT
DTSTAMP:20260425T103859Z
UID:827d36ed-8f99-496d-a3ca-b07b7369dd5d
DTSTART;VALUE=DATE:20260525
DTEND;VALUE=DATE:20260526
DESCRIPTION:
LOCATION:
SUMMARY:Memorial Day Holiday
END:VEVENT
BEGIN:VEVENT
DTSTAMP:20260425T103859Z
UID:9f826210-7132-4032-b138-0b77e1a9d4ed
DTSTART:20260608T180000
DTEND:20260608T200000
DESCRIPTION:
LOCATION:Sutton Town Hall\, 4 Uxbridge Rd\, Sutton\, MA 01590\, USA
SUMMARY:School Committee Meeting
END:VEVENT
BEGIN:VEVENT
DTSTAMP:20260425T103859Z
UID:c4a4e259-5210-4484-9b46-49404d6fcffe
DTSTART;VALUE=DATE:20260612
DTEND;VALUE=DATE:20260613
DESCRIPTION:
LOCATION:
SUMMARY:Possible Last Day of School (if no snow days)
END:VEVENT
BEGIN:VEVENT
DTSTAMP:20260425T103859Z
UID:cadb37a1-5cb1-4feb-ad2b-d764641f4c73
DTSTART;VALUE=DATE:20260619
DTEND;VALUE=DATE:20260620
DESCRIPTION:
LOCATION:
SUMMARY:Juneteenth Holiday
END:VEVENT
END:VCALENDAR
