BEGIN:VCALENDAR
VERSION:2.0
PRODID:icalendar-ruby
CALSCALE:GREGORIAN
BEGIN:VTIMEZONE
TZID:America/New_York
BEGIN:DAYLIGHT
DTSTART:20260308T030000
TZOFFSETFROM:-0500
TZOFFSETTO:-0400
RRULE:FREQ=YEARLY;BYDAY=2SU;BYMONTH=3
TZNAME:EDT
END:DAYLIGHT
BEGIN:STANDARD
DTSTART:20261101T010000
TZOFFSETFROM:-0400
TZOFFSETTO:-0500
RRULE:FREQ=YEARLY;BYDAY=1SU;BYMONTH=11
TZNAME:EST
END:STANDARD
END:VTIMEZONE
BEGIN:VEVENT
DTSTAMP:20260423T105110Z
UID:4639c231-3975-4240-a18b-53cd4e32d45f
DTSTART:20260512T173000
DTEND:20260512T183000
DESCRIPTION:
LOCATION:
SUMMARY:May Board Meeting
END:VEVENT
BEGIN:VEVENT
DTSTAMP:20260423T105110Z
UID:b1d7d18c-5f41-4815-8aed-ec9e5edd9fab
DTSTART;VALUE=DATE:20260515
DTEND;VALUE=DATE:20260516
DESCRIPTION:
LOCATION:
SUMMARY:Last Day of School
END:VEVENT
BEGIN:VEVENT
DTSTAMP:20260423T105110Z
UID:b1aff8d4-3e98-4b25-8d0b-b26af7222e0a
DTSTART;VALUE=DATE:20260518
DTEND;VALUE=DATE:20260521
DESCRIPTION:
LOCATION:
SUMMARY:Post-Planning for Staff
END:VEVENT
END:VCALENDAR
