BEGIN:VCALENDAR
VERSION:2.0
PRODID:icalendar-ruby
CALSCALE:GREGORIAN
BEGIN:VTIMEZONE
TZID:America/New_York
BEGIN:DAYLIGHT
DTSTART:20260308T030000
TZOFFSETFROM:-0500
TZOFFSETTO:-0400
RRULE:FREQ=YEARLY;BYDAY=2SU;BYMONTH=3
TZNAME:EDT
END:DAYLIGHT
BEGIN:STANDARD
DTSTART:20261101T010000
TZOFFSETFROM:-0400
TZOFFSETTO:-0500
RRULE:FREQ=YEARLY;BYDAY=1SU;BYMONTH=11
TZNAME:EST
END:STANDARD
END:VTIMEZONE
BEGIN:VEVENT
DTSTAMP:20260425T131750Z
UID:e7405c8d-58b1-495c-813c-cc03cf4a198c
DTSTART;VALUE=DATE:20260429
DTEND;VALUE=DATE:20260430
DESCRIPTION:<p>This is only for current TCMS 6th-8th grade students.</p><p>
 Packets will need to be completed and turned in by April 17 in order to be
  seen by a physician on April 29.</p>
LOCATION:
SUMMARY:Free Sports Physical @ TCMS
END:VEVENT
BEGIN:VEVENT
DTSTAMP:20260425T131750Z
UID:0eeac608-de21-4f81-8caf-afe3d7e1560b
DTSTART;VALUE=DATE:20260514
DTEND;VALUE=DATE:20260515
DESCRIPTION:<p><span>8th Grade: 9:00 am</span><br><span>7th Grade: 10:30 am
 </span><br><span>6th Grade: 12:30 pm</span></p>
LOCATION:
SUMMARY:TCMS Honors Day
END:VEVENT
BEGIN:VEVENT
DTSTAMP:20260425T131750Z
UID:f80ff765-ab2f-4993-8007-2e2ccc3438c0
DTSTART;VALUE=DATE:20260515
DTEND;VALUE=DATE:20260516
DESCRIPTION:
LOCATION:
SUMMARY:Last Day of School
END:VEVENT
BEGIN:VEVENT
DTSTAMP:20260425T131750Z
UID:dbfec5aa-a45e-4d7f-98ed-11aaa0f14b87
DTSTART;VALUE=DATE:20260518
DTEND;VALUE=DATE:20260521
DESCRIPTION:
LOCATION:
SUMMARY:Post-Planning
END:VEVENT
END:VCALENDAR
