BEGIN:VCALENDAR
VERSION:2.0
PRODID:icalendar-ruby
CALSCALE:GREGORIAN
BEGIN:VTIMEZONE
TZID:America/New_York
BEGIN:DAYLIGHT
DTSTART:20260308T030000
TZOFFSETFROM:-0500
TZOFFSETTO:-0400
RRULE:FREQ=YEARLY;BYDAY=2SU;BYMONTH=3
TZNAME:EDT
END:DAYLIGHT
BEGIN:STANDARD
DTSTART:20261101T010000
TZOFFSETFROM:-0400
TZOFFSETTO:-0500
RRULE:FREQ=YEARLY;BYDAY=1SU;BYMONTH=11
TZNAME:EST
END:STANDARD
END:VTIMEZONE
BEGIN:VEVENT
DTSTAMP:20260421T163407Z
UID:4efe68bd-f161-470a-8ae9-b0cbc8248bcb
DTSTART:20260423T183000
DTEND:20260423T200000
DESCRIPTION:
LOCATION:
SUMMARY:7-12 Band Concert @ HS Auditorium
END:VEVENT
BEGIN:VEVENT
DTSTAMP:20260421T163407Z
UID:f4cd749b-91a7-49bb-94fc-fe6a87def024
DTSTART:20260507T183000
DTEND:20260507T193000
DESCRIPTION:
LOCATION:
SUMMARY:HS - Feria de Mai: Culture Expo
END:VEVENT
BEGIN:VEVENT
DTSTAMP:20260421T163407Z
UID:f6e9bdc5-6c9b-4c2e-9cae-2f004017560f
DTSTART;VALUE=DATE:20260516
DTEND;VALUE=DATE:20260517
DESCRIPTION:
LOCATION:
SUMMARY:Junior Prom - Queensbury Hotel
END:VEVENT
BEGIN:VEVENT
DTSTAMP:20260421T163407Z
UID:d7386afa-47e2-425c-8d41-b147033e3b15
DTSTART:20260519T080000
DTEND:20260519T200000
DESCRIPTION:Voting held at Tanglewood and Ballard Elementary schools
LOCATION:
SUMMARY:2026-27 Annual Budget Vote & BOE Election
END:VEVENT
BEGIN:VEVENT
DTSTAMP:20260421T163407Z
UID:735b9474-3187-4829-9120-2b40d0c77ce2
DTSTART;VALUE=DATE:20260522
DTEND;VALUE=DATE:20260523
DESCRIPTION:
LOCATION:
SUMMARY:No School: Memorial Day Observed
END:VEVENT
BEGIN:VEVENT
DTSTAMP:20260421T163407Z
UID:d7f00509-155f-4c3c-9a07-31c79ce2c7a4
DTSTART;VALUE=DATE:20260525
DTEND;VALUE=DATE:20260526
DESCRIPTION:
LOCATION:
SUMMARY:No School: Memorial Day Observed
END:VEVENT
BEGIN:VEVENT
DTSTAMP:20260421T163407Z
UID:86e75fff-64b1-4251-baba-7511460ad3e3
DTSTART;VALUE=DATE:20260529
DTEND;VALUE=DATE:20260530
DESCRIPTION:
LOCATION:
SUMMARY:Music in the Parks
END:VEVENT
BEGIN:VEVENT
DTSTAMP:20260421T163407Z
UID:9b0ad338-0c44-4ee5-bdcd-9d8c03bef869
DTSTART:20260604T183000
DTEND:20260604T201500
DESCRIPTION:Table on stage (3) with tableclothes- PoB Grey\nSeating for 50 
 on Stage for community members\nSeating is roped off for 115 students in t
 he front row\nA table and 2 chairs outside the auditorium for a check-in t
 able\nrisers without railings can stay on the floor\nremove piano\nSide ta
 ble on stage near curtain\n2 mics set up
LOCATION:
SUMMARY:Academic Awards Night
END:VEVENT
BEGIN:VEVENT
DTSTAMP:20260421T163407Z
UID:eb83e867-4ff4-451e-b428-5ab604fa490e
DTSTART:20260608T193000
DTEND:20260608T203000
DESCRIPTION:
LOCATION:
SUMMARY:Vocal Point Spring Show
END:VEVENT
BEGIN:VEVENT
DTSTAMP:20260421T163407Z
UID:1fb0c314-7859-48b0-b02b-b127c3d17449
DTSTART;VALUE=DATE:20260609
DTEND;VALUE=DATE:20260611
DESCRIPTION:
LOCATION:
SUMMARY:Regents Exams
END:VEVENT
BEGIN:VEVENT
DTSTAMP:20260421T163407Z
UID:803afdce-c3da-42b0-80c2-66b62cd5514d
DTSTART:20260611T180000
DTEND:20260611T193000
DESCRIPTION:
LOCATION:
SUMMARY:Athletic Excellence Awards
END:VEVENT
BEGIN:VEVENT
DTSTAMP:20260421T163407Z
UID:f3df0dd0-5745-4887-844d-431297541ec0
DTSTART;VALUE=DATE:20260613
DTEND;VALUE=DATE:20260614
DESCRIPTION:
LOCATION:
SUMMARY:Flag Day Parade
END:VEVENT
BEGIN:VEVENT
DTSTAMP:20260421T163407Z
UID:41c52f3f-fc61-4810-b3ee-93d18dd3f5a8
DTSTART;VALUE=DATE:20260617
DTEND;VALUE=DATE:20260619
DESCRIPTION:
LOCATION:
SUMMARY:Regents Exams
END:VEVENT
BEGIN:VEVENT
DTSTAMP:20260421T163407Z
UID:073fc7a0-59bf-4309-af4c-5c9df0bba9c6
DTSTART:20260618T180000
DTEND:20260618T210000
DESCRIPTION:
LOCATION:
SUMMARY:Senior Dinner Dance
END:VEVENT
BEGIN:VEVENT
DTSTAMP:20260421T163407Z
UID:023ed0ad-fb2c-4fea-af0a-f94cd7757128
DTSTART:20260618T183000
DTEND:20260618T200000
DESCRIPTION:
LOCATION:
SUMMARY:BOCES - SAEC Graduation
END:VEVENT
BEGIN:VEVENT
DTSTAMP:20260421T163407Z
UID:4da12be2-6463-44e1-8ad0-528f9538b87d
DTSTART;VALUE=DATE:20260619
DTEND;VALUE=DATE:20260620
DESCRIPTION:
LOCATION:
SUMMARY:No School: Juneteenth
END:VEVENT
BEGIN:VEVENT
DTSTAMP:20260421T163407Z
UID:847aeba9-a252-43d1-8195-0052973778aa
DTSTART;VALUE=DATE:20260622
DTEND;VALUE=DATE:20260627
DESCRIPTION:
LOCATION:
SUMMARY:Regents Exams
END:VEVENT
BEGIN:VEVENT
DTSTAMP:20260421T163407Z
UID:735a3030-a87b-46c3-aab0-0e7336d6d759
DTSTART:20260625T110000
DTEND:20260625T120000
DESCRIPTION:
LOCATION:
SUMMARY:HS Graduation Rehearsal
END:VEVENT
BEGIN:VEVENT
DTSTAMP:20260421T163407Z
UID:da22454b-cf04-4d1b-a765-b741aa25dd63
DTSTART:20260625T190000
DTEND:20260625T203000
DESCRIPTION:
LOCATION:
SUMMARY:HS Graduation
END:VEVENT
BEGIN:VEVENT
DTSTAMP:20260421T163407Z
UID:b63a8e47-d84c-4b30-9cdb-634fcea7eb5a
DTSTART;VALUE=DATE:20260908
DTEND;VALUE=DATE:20260909
DESCRIPTION:
LOCATION:
SUMMARY:Superintendent's Conference Day
END:VEVENT
BEGIN:VEVENT
DTSTAMP:20260421T163407Z
UID:07d27464-382f-46bb-aa1f-a4e53cf20a9d
DTSTART;VALUE=DATE:20260909
DTEND;VALUE=DATE:20260910
DESCRIPTION:
LOCATION:
SUMMARY:Classes Begin
END:VEVENT
END:VCALENDAR
