BEGIN:VCALENDAR
VERSION:2.0
PRODID:icalendar-ruby
CALSCALE:GREGORIAN
BEGIN:VTIMEZONE
TZID:America/Chicago
BEGIN:DAYLIGHT
DTSTART:20260308T030000
TZOFFSETFROM:-0600
TZOFFSETTO:-0500
RRULE:FREQ=YEARLY;BYDAY=2SU;BYMONTH=3
TZNAME:CDT
END:DAYLIGHT
BEGIN:STANDARD
DTSTART:20261101T010000
TZOFFSETFROM:-0500
TZOFFSETTO:-0600
RRULE:FREQ=YEARLY;BYDAY=1SU;BYMONTH=11
TZNAME:CST
END:STANDARD
END:VTIMEZONE
BEGIN:VEVENT
DTSTAMP:20260424T164453Z
UID:3c739780-1d60-46e8-9abc-f1a6bbbee31e
DTSTART;VALUE=DATE:20260424
DTEND;VALUE=DATE:20260425
DESCRIPTION:
LOCATION:
SUMMARY:EOC MAKE UP TESTING
END:VEVENT
BEGIN:VEVENT
DTSTAMP:20260424T164453Z
UID:c9821ce6-fc39-4825-9bf0-8d43bb13c568
DTSTART;VALUE=DATE:20260425
DTEND;VALUE=DATE:20260426
DESCRIPTION:
LOCATION:
SUMMARY:GREENHOUSE SALE
END:VEVENT
BEGIN:VEVENT
DTSTAMP:20260424T164453Z
UID:ac449c55-a737-4c48-8532-e487592463cb
DTSTART;VALUE=DATE:20260425
DTEND;VALUE=DATE:20260426
DESCRIPTION:
LOCATION:
SUMMARY:Prom   8-10 pm
END:VEVENT
BEGIN:VEVENT
DTSTAMP:20260424T164453Z
UID:79b081bb-7224-42c1-8fe3-5c2f59ac7c46
DTSTART;VALUE=DATE:20260427
DTEND;VALUE=DATE:20260502
DESCRIPTION:
LOCATION:
SUMMARY:ENGLISH EOCs
END:VEVENT
BEGIN:VEVENT
DTSTAMP:20260424T164453Z
UID:0ec21f20-6674-4d02-ad56-9a4379d20846
DTSTART;VALUE=DATE:20260429
DTEND;VALUE=DATE:20260430
DESCRIPTION:
LOCATION:
SUMMARY:DECISION DAY
END:VEVENT
BEGIN:VEVENT
DTSTAMP:20260424T164453Z
UID:7ed488ed-2e65-40f3-8e6c-f6c56e61282f
DTSTART;VALUE=DATE:20260430
DTEND;VALUE=DATE:20260501
DESCRIPTION:
LOCATION:
SUMMARY:MSHSAA State Solo Ensemble Contest-Mizzou
END:VEVENT
BEGIN:VEVENT
DTSTAMP:20260424T164453Z
UID:d826b2d8-2235-4605-b492-8fa9f06651e6
DTSTART:20260506T183000
DTEND:20260506T203000
DESCRIPTION:
LOCATION:
SUMMARY:HIGHSCHOOL BAND/JAZZ CONCERT
END:VEVENT
BEGIN:VEVENT
DTSTAMP:20260424T164453Z
UID:1625af93-a2f7-44df-8fb9-a90143b01a58
DTSTART:20260507T170000
DTEND:20260507T190000
DESCRIPTION:
LOCATION:
SUMMARY:B.E.S.T. PROGRAM GRADUATION
END:VEVENT
BEGIN:VEVENT
DTSTAMP:20260424T164453Z
UID:0c7591c7-b2a9-4bc7-b4c9-30ae747feec2
DTSTART:20260511T183000
DTEND:20260511T203000
DESCRIPTION:
LOCATION:
SUMMARY:BAND AWARDS
END:VEVENT
BEGIN:VEVENT
DTSTAMP:20260424T164453Z
UID:b532899f-fe7d-4be9-89fe-b82034b89183
DTSTART:20260512T173000
DTEND:20260512T193000
DESCRIPTION:
LOCATION:
SUMMARY:BOOSTER CLUB
END:VEVENT
BEGIN:VEVENT
DTSTAMP:20260424T164453Z
UID:125a9675-a812-4e19-8e6f-0fc9f336660b
DTSTART:20260513T183000
DTEND:20260513T203000
DESCRIPTION:
LOCATION:
SUMMARY:HIGHSCHOOL CHOIR CONCERT
END:VEVENT
BEGIN:VEVENT
DTSTAMP:20260424T164453Z
UID:6da0b316-2b8d-4778-9537-97be2ce10d48
DTSTART;VALUE=DATE:20260514
DTEND;VALUE=DATE:20260515
DESCRIPTION:
LOCATION:
SUMMARY:FCA MEETING  7AM  PATERSON GYM
END:VEVENT
BEGIN:VEVENT
DTSTAMP:20260424T164453Z
UID:b21cc039-3042-47f0-a883-ff6c4d6557b8
DTSTART;VALUE=DATE:20260514
DTEND;VALUE=DATE:20260515
DESCRIPTION:
LOCATION:
SUMMARY:FFA  3:30  CAFETERIA
END:VEVENT
BEGIN:VEVENT
DTSTAMP:20260424T164453Z
UID:009ec6e5-09cf-4bbe-877a-8abe8ce60072
DTSTART;VALUE=DATE:20260521
DTEND;VALUE=DATE:20260522
DESCRIPTION:
LOCATION:
SUMMARY:GRADUATION     7:00 PM
END:VEVENT
BEGIN:VEVENT
DTSTAMP:20260424T164453Z
UID:8fc6a901-e9b4-42cc-99e2-26d1f85d1983
DTSTART;VALUE=DATE:20260522
DTEND;VALUE=DATE:20260523
DESCRIPTION:
LOCATION:
SUMMARY:LAST DAY OF SCHOOL
END:VEVENT
END:VCALENDAR
