BEGIN:VCALENDAR
VERSION:2.0
PRODID:icalendar-ruby
CALSCALE:GREGORIAN
BEGIN:VTIMEZONE
TZID:America/Chicago
BEGIN:DAYLIGHT
DTSTART:20260308T030000
TZOFFSETFROM:-0600
TZOFFSETTO:-0500
RRULE:FREQ=YEARLY;BYDAY=2SU;BYMONTH=3
TZNAME:CDT
END:DAYLIGHT
BEGIN:STANDARD
DTSTART:20261101T010000
TZOFFSETFROM:-0500
TZOFFSETTO:-0600
RRULE:FREQ=YEARLY;BYDAY=1SU;BYMONTH=11
TZNAME:CST
END:STANDARD
END:VTIMEZONE
BEGIN:VEVENT
DTSTAMP:20260423T152128Z
UID:6cb0e180-f4b5-4938-9708-0bf137bf7923
DTSTART:20260429T133500
DTEND:20260429T134500
DESCRIPTION:
LOCATION:
SUMMARY:Early Dismissal 
END:VEVENT
BEGIN:VEVENT
DTSTAMP:20260423T152128Z
UID:88469658-6bed-43aa-bc0b-a89b27a0d213
DTSTART:20260429T133600
DTEND:20260429T134600
DESCRIPTION:
LOCATION:
SUMMARY:Early Dismissal
END:VEVENT
BEGIN:VEVENT
DTSTAMP:20260423T152128Z
UID:37fc3dca-c684-46a2-94ce-421c50d007be
DTSTART:20260501T080000
DTEND:20260501T090000
DESCRIPTION:
LOCATION:
SUMMARY:5th Gr. Swim 
END:VEVENT
BEGIN:VEVENT
DTSTAMP:20260423T152128Z
UID:378dee48-dc64-4816-89a5-1228cad5d739
DTSTART:20260501T084500
DTEND:20260501T141500
DESCRIPTION:
LOCATION:Manitowoc County Historical Society: Museum and Pinecrest Village\
 , 924 Pine Crest Ln\, Manitowoc\, WI 54220\, USA
SUMMARY:1st Grade Field Trip
END:VEVENT
BEGIN:VEVENT
DTSTAMP:20260423T152128Z
UID:4f6add00-1ace-4246-934b-8069bdf0cccc
DTSTART:20260501T090000
DTEND:20260501T100000
DESCRIPTION:
LOCATION:
SUMMARY:4th Gr. Swim 
END:VEVENT
BEGIN:VEVENT
DTSTAMP:20260423T152128Z
UID:44e72a0b-b70a-4f16-91b6-f2eb5719c18b
DTSTART:20260501T100000
DTEND:20260501T110000
DESCRIPTION:
LOCATION:
SUMMARY:3rd Gr. Swim 
END:VEVENT
BEGIN:VEVENT
DTSTAMP:20260423T152128Z
UID:e8910e45-72e2-428b-aecc-56ba22393227
DTSTART:20260506T133500
DTEND:20260506T134500
DESCRIPTION:
LOCATION:
SUMMARY:Early Dismissal 
END:VEVENT
BEGIN:VEVENT
DTSTAMP:20260423T152128Z
UID:ea85cc5b-d22d-48d0-9ede-4b4047b0c7a6
DTSTART:20260506T133600
DTEND:20260506T134600
DESCRIPTION:
LOCATION:
SUMMARY:Early Dismissal
END:VEVENT
BEGIN:VEVENT
DTSTAMP:20260423T152128Z
UID:923dbb01-152c-450e-8c29-70f3809815db
DTSTART:20260512T083000
DTEND:20260512T150000
DESCRIPTION:
LOCATION:Heritage Hill State Historical Park\, 2640 S Webster Ave\, Green B
 ay\, WI 54301\, USA
SUMMARY:3rd Gr. Field Trip
END:VEVENT
BEGIN:VEVENT
DTSTAMP:20260423T152128Z
UID:2f677526-5ea4-4271-bf35-88ca5c33e5bc
DTSTART:20260513T133500
DTEND:20260513T134500
DESCRIPTION:
LOCATION:
SUMMARY:Early Dismissal 
END:VEVENT
BEGIN:VEVENT
DTSTAMP:20260423T152128Z
UID:bf097247-d069-4c0e-a5ad-fc331b29b840
DTSTART:20260513T133600
DTEND:20260513T134600
DESCRIPTION:
LOCATION:
SUMMARY:Early Dismissal
END:VEVENT
BEGIN:VEVENT
DTSTAMP:20260423T152128Z
UID:1baf1a5d-a104-4f2f-8ae9-c2a47103b3a1
DTSTART:20260515T080000
DTEND:20260515T120000
DESCRIPTION:
LOCATION:National Railroad Museum\, 2285 S Broadway\, Ashwaubenon\, WI 5430
 4\, USA
SUMMARY:5K Field Trip
END:VEVENT
BEGIN:VEVENT
DTSTAMP:20260423T152128Z
UID:b1f3b8d0-1505-4c9f-8e4e-b094992a95c3
DTSTART:20260515T080000
DTEND:20260515T090000
DESCRIPTION:
LOCATION:
SUMMARY:5th Gr. Swim 
END:VEVENT
BEGIN:VEVENT
DTSTAMP:20260423T152128Z
UID:8c3bb8dd-ca3b-4128-8e43-4002445d9a59
DTSTART:20260515T090000
DTEND:20260515T100000
DESCRIPTION:
LOCATION:
SUMMARY:4th Gr. Swim 
END:VEVENT
BEGIN:VEVENT
DTSTAMP:20260423T152128Z
UID:607601fa-c9fc-43bb-896a-cfb37fd98ed1
DTSTART:20260515T100000
DTEND:20260515T110000
DESCRIPTION:
LOCATION:
SUMMARY:3rd Gr. Swim 
END:VEVENT
BEGIN:VEVENT
DTSTAMP:20260423T152128Z
UID:59b9ad25-c1e5-4540-ad9a-484a968e6d69
DTSTART:20260519T090000
DTEND:20260519T143000
DESCRIPTION:
LOCATION:Bay Beach Wildlife Sanctuary\, 1660 E Shore Dr\, Green Bay\, WI 54
 302\, USA
SUMMARY:1st Grade Field Trip
END:VEVENT
BEGIN:VEVENT
DTSTAMP:20260423T152128Z
UID:6fcb53ca-690b-4aa7-a4a0-9a1a643d86dc
DTSTART:20260520T133500
DTEND:20260520T134500
DESCRIPTION:
LOCATION:
SUMMARY:Early Dismissal 
END:VEVENT
BEGIN:VEVENT
DTSTAMP:20260423T152128Z
UID:ef525b40-2149-4844-887e-7550153b6204
DTSTART:20260520T133600
DTEND:20260520T134600
DESCRIPTION:
LOCATION:
SUMMARY:Early Dismissal
END:VEVENT
BEGIN:VEVENT
DTSTAMP:20260423T152128Z
UID:195bfefe-2977-4032-90e0-c3dad3eb49b6
DTSTART:20260521T120000
DTEND:20260521T150000
DESCRIPTION:
LOCATION:Brillion Nature Center\, W1135 Deer View Rd\, Brillion\, WI 54110\
 , USA
SUMMARY:3rd Gr. Field Trip
END:VEVENT
BEGIN:VEVENT
DTSTAMP:20260423T152128Z
UID:7b87be20-9bd3-42b6-9086-e72ba63d7ee4
DTSTART;VALUE=DATE:20260525
DTEND;VALUE=DATE:20260526
DESCRIPTION:
LOCATION:
SUMMARY:No School 
END:VEVENT
BEGIN:VEVENT
DTSTAMP:20260423T152128Z
UID:cad251ec-a33b-435f-ba4b-92e2113291eb
DTSTART:20260527T133500
DTEND:20260527T134500
DESCRIPTION:
LOCATION:
SUMMARY:Early Dismissal 
END:VEVENT
BEGIN:VEVENT
DTSTAMP:20260423T152128Z
UID:394da0ea-9e29-494f-8f80-4a4bd011a986
DTSTART:20260527T133600
DTEND:20260527T134600
DESCRIPTION:
LOCATION:
SUMMARY:Early Dismissal
END:VEVENT
BEGIN:VEVENT
DTSTAMP:20260423T152128Z
UID:2fae4582-09e6-4fa2-96eb-84a963208218
DTSTART:20260528T080000
DTEND:20260528T124500
DESCRIPTION:
LOCATION:Brillion Nature Center\, W1135 Deer View Rd\, Brillion\, WI 54110\
 , USA
SUMMARY:5K Field Trip
END:VEVENT
BEGIN:VEVENT
DTSTAMP:20260423T152128Z
UID:c1140504-81af-447e-8f05-70f67f08e0dd
DTSTART:20260529T084500
DTEND:20260529T144500
DESCRIPTION:
LOCATION:11 Tri-Park Way\, Appleton\, WI 54914\, USA
SUMMARY:5th Grade Field Trip
END:VEVENT
BEGIN:VEVENT
DTSTAMP:20260423T152128Z
UID:d7d034d8-9a4e-420c-a6f6-b49772fbab64
DTSTART:20260601T080000
DTEND:20260601T140000
DESCRIPTION:
LOCATION:Brillion Nature Center\, W1135 Deer View Rd\, Brillion\, WI 54110\
 , USA
SUMMARY:2nd Gr. Field Trip
END:VEVENT
BEGIN:VEVENT
DTSTAMP:20260423T152128Z
UID:4c2a6627-1bb2-4a19-a84e-774c6e4a999a
DTSTART:20260602T091500
DTEND:20260602T144500
DESCRIPTION:
LOCATION:Brillion Nature Center\, W1135 Deer View Rd\, Brillion\, WI 54110\
 , USA
SUMMARY:5th Grade Field Trip to BNC
END:VEVENT
BEGIN:VEVENT
DTSTAMP:20260423T152128Z
UID:f0c3596e-e5fb-4be2-8b5a-a0a5503eff5a
DTSTART;VALUE=DATE:20260603
DTEND;VALUE=DATE:20260604
DESCRIPTION:<p><strong><em>June 3\, 2026\, will follow a full-day bell sche
 dule with AM and PM 4K in attendance.</em></strong></p>
LOCATION:
SUMMARY:Full Day with AM and PM 4K in attendance
END:VEVENT
BEGIN:VEVENT
DTSTAMP:20260423T152128Z
UID:80c0ae5b-aa74-4527-8554-becaf05ef125
DTSTART:20260604T113000
DTEND:20260604T120000
DESCRIPTION:11:30 dismissal for all students
LOCATION:
SUMMARY:Last Day of School/11:30 Dismissal
END:VEVENT
END:VCALENDAR
