BEGIN:VCALENDAR
VERSION:2.0
PRODID:icalendar-ruby
CALSCALE:GREGORIAN
BEGIN:VTIMEZONE
TZID:America/Chicago
BEGIN:DAYLIGHT
DTSTART:20260308T030000
TZOFFSETFROM:-0600
TZOFFSETTO:-0500
RRULE:FREQ=YEARLY;BYDAY=2SU;BYMONTH=3
TZNAME:CDT
END:DAYLIGHT
BEGIN:STANDARD
DTSTART:20261101T010000
TZOFFSETFROM:-0500
TZOFFSETTO:-0600
RRULE:FREQ=YEARLY;BYDAY=1SU;BYMONTH=11
TZNAME:CST
END:STANDARD
END:VTIMEZONE
BEGIN:VEVENT
DTSTAMP:20260422T021322Z
UID:0a81fe24-8d80-4d1a-a8c4-3e4c263a441c
DTSTART:20260506T170000
DTEND:20260506T180000
DESCRIPTION:
LOCATION:
SUMMARY:LN PTO Meeting
END:VEVENT
BEGIN:VEVENT
DTSTAMP:20260422T021322Z
UID:caa57e55-0f70-4537-bb54-ace5963b62a9
DTSTART:20260603T170000
DTEND:20260603T180000
DESCRIPTION:
LOCATION:
SUMMARY:LN PTO Meeting
END:VEVENT
BEGIN:VEVENT
DTSTAMP:20260422T021322Z
UID:a746d7aa-c7b1-47ac-ba1f-f52b90d154f8
DTSTART:20260708T170000
DTEND:20260708T180000
DESCRIPTION:
LOCATION:
SUMMARY:LN PTO Meeting
END:VEVENT
BEGIN:VEVENT
DTSTAMP:20260422T021322Z
UID:d27bc7ce-1bfc-416d-a3c8-dd2bd32c9aac
DTSTART:20260812T170000
DTEND:20260812T180000
DESCRIPTION:
LOCATION:
SUMMARY:LN PTO Meeting
END:VEVENT
BEGIN:VEVENT
DTSTAMP:20260422T021322Z
UID:c347b490-ebe9-42be-8409-60ebf5fdc042
DTSTART:20260909T170000
DTEND:20260909T180000
DESCRIPTION:
LOCATION:
SUMMARY:LN PTO Meeting
END:VEVENT
BEGIN:VEVENT
DTSTAMP:20260422T021322Z
UID:2dbbd133-0f64-4673-91e3-a25ed2139eba
DTSTART:20261014T170000
DTEND:20261014T180000
DESCRIPTION:
LOCATION:
SUMMARY:LN PTO Meeting
END:VEVENT
BEGIN:VEVENT
DTSTAMP:20260422T021322Z
UID:3843b79f-a8a7-4e3c-ac96-69951cfea86d
DTSTART:20261111T170000
DTEND:20261111T180000
DESCRIPTION:
LOCATION:
SUMMARY:LN PTO Meeting
END:VEVENT
BEGIN:VEVENT
DTSTAMP:20260422T021322Z
UID:7236fa35-3a93-466c-b3b0-724976de36e3
DTSTART:20261209T170000
DTEND:20261209T180000
DESCRIPTION:
LOCATION:
SUMMARY:LN PTO Meeting
END:VEVENT
BEGIN:VEVENT
DTSTAMP:20260422T021322Z
UID:71bea391-4656-4ac0-be65-16809eca9bcd
DTSTART:20270113T170000
DTEND:20270113T180000
DESCRIPTION:
LOCATION:
SUMMARY:LN PTO Meeting
END:VEVENT
BEGIN:VEVENT
DTSTAMP:20260422T021322Z
UID:13a040c0-e603-4ec6-ae96-a3a6f17c3f1c
DTSTART:20270210T170000
DTEND:20270210T180000
DESCRIPTION:
LOCATION:
SUMMARY:LN PTO Meeting
END:VEVENT
BEGIN:VEVENT
DTSTAMP:20260422T021322Z
UID:ffa58a32-a870-4794-9c33-4c6f89b182b8
DTSTART:20270310T170000
DTEND:20270310T180000
DESCRIPTION:
LOCATION:
SUMMARY:LN PTO Meeting
END:VEVENT
END:VCALENDAR
