BEGIN:VCALENDAR
VERSION:2.0
PRODID:icalendar-ruby
CALSCALE:GREGORIAN
BEGIN:VTIMEZONE
TZID:America/Chicago
BEGIN:DAYLIGHT
DTSTART:20260308T030000
TZOFFSETFROM:-0600
TZOFFSETTO:-0500
RRULE:FREQ=YEARLY;BYDAY=2SU;BYMONTH=3
TZNAME:CDT
END:DAYLIGHT
BEGIN:STANDARD
DTSTART:20261101T010000
TZOFFSETFROM:-0500
TZOFFSETTO:-0600
RRULE:FREQ=YEARLY;BYDAY=1SU;BYMONTH=11
TZNAME:CST
END:STANDARD
END:VTIMEZONE
BEGIN:VEVENT
DTSTAMP:20260422T020824Z
UID:e44e9ebe-1852-4e06-b97d-5195e3e01c27
DTSTART:20260428T093000
DTEND:20260428T130000
DESCRIPTION:
LOCATION:
SUMMARY:Grade 4 to Boerner Botanical Gardens
END:VEVENT
BEGIN:VEVENT
DTSTAMP:20260422T020824Z
UID:032f6417-03e9-4aea-8962-35bce5887642
DTSTART:20260507T090000
DTEND:20260507T130000
DESCRIPTION:
LOCATION:
SUMMARY:GM - Grade 3 to First Stage
END:VEVENT
BEGIN:VEVENT
DTSTAMP:20260422T020824Z
UID:32c385e6-5536-4563-bed7-d01755a9be51
DTSTART:20260514T093000
DTEND:20260514T130000
DESCRIPTION:
LOCATION:
SUMMARY:GM: K4 to Boerner Botanical Gardens
END:VEVENT
BEGIN:VEVENT
DTSTAMP:20260422T020824Z
UID:803e5d01-367c-4f80-b28c-f2eb4e82ae7a
DTSTART:20260519T153000
DTEND:20260519T163000
DESCRIPTION:
LOCATION:
SUMMARY:General Mitchell Kindergarten Concert
END:VEVENT
BEGIN:VEVENT
DTSTAMP:20260422T020824Z
UID:543526f3-28c8-4efa-99f3-ecf8af5a36a7
DTSTART:20260521T091500
DTEND:20260521T104500
DESCRIPTION:
LOCATION:
SUMMARY:GM: K5 Fire Station Visit
END:VEVENT
BEGIN:VEVENT
DTSTAMP:20260422T020824Z
UID:335a5291-2bfe-4e62-948d-1ee602071752
DTSTART:20260909T150000
DTEND:20260909T160000
DESCRIPTION:
LOCATION:
SUMMARY:GM - PTO Meeting
END:VEVENT
BEGIN:VEVENT
DTSTAMP:20260422T020824Z
UID:791ef6b9-794f-4de5-810c-90e6c7d88cdd
DTSTART:20260924T160000
DTEND:20260924T170000
DESCRIPTION:
LOCATION:
SUMMARY:GM - Back To School Bingo
END:VEVENT
BEGIN:VEVENT
DTSTAMP:20260422T020824Z
UID:ee2f88e6-0000-4025-a9ba-471c34beddec
DTSTART:20261014T150000
DTEND:20261014T160000
DESCRIPTION:
LOCATION:
SUMMARY:GM - PTO Meeting
END:VEVENT
BEGIN:VEVENT
DTSTAMP:20260422T020824Z
UID:1fad9018-ee65-4f2f-ba8a-c082030fe79b
DTSTART:20261030T163000
DTEND:20261030T180000
DESCRIPTION:
LOCATION:
SUMMARY:GM - Trunk or Treat
END:VEVENT
BEGIN:VEVENT
DTSTAMP:20260422T020824Z
UID:c0b72268-5791-4205-8171-8705e87b4371
DTSTART:20261111T150000
DTEND:20261111T160000
DESCRIPTION:
LOCATION:
SUMMARY:GM - PTO Meeting
END:VEVENT
BEGIN:VEVENT
DTSTAMP:20260422T020824Z
UID:12107c0c-7714-4d6c-b251-b78d8072226f
DTSTART:20261113T180000
DTEND:20261113T193000
DESCRIPTION:
LOCATION:
SUMMARY:GM - 2nd - 4th Movie Night
END:VEVENT
BEGIN:VEVENT
DTSTAMP:20260422T020824Z
UID:0b5244d2-5edf-4a3d-951e-cd9199338b49
DTSTART:20261209T150000
DTEND:20261209T160000
DESCRIPTION:
LOCATION:
SUMMARY:GM - PTO Meeting
END:VEVENT
BEGIN:VEVENT
DTSTAMP:20260422T020824Z
UID:81c3046e-8b28-4402-ae41-f52a4218f7f7
DTSTART:20261210T160000
DTEND:20261210T170000
DESCRIPTION:
LOCATION:
SUMMARY:GM - K4 - 1st Glow Dance
END:VEVENT
BEGIN:VEVENT
DTSTAMP:20260422T020824Z
UID:cebee423-d135-4afb-a13d-26f5d750d073
DTSTART:20270113T150000
DTEND:20270113T160000
DESCRIPTION:
LOCATION:
SUMMARY:GM - PTO Meeting
END:VEVENT
BEGIN:VEVENT
DTSTAMP:20260422T020824Z
UID:d75c666c-f089-4761-9751-63f3046f4245
DTSTART:20270121T160000
DTEND:20270121T170000
DESCRIPTION:
LOCATION:
SUMMARY:GM - Paint Night
END:VEVENT
BEGIN:VEVENT
DTSTAMP:20260422T020824Z
UID:4f6a9ddf-9ea5-4444-b102-a34e9b49b673
DTSTART:20270205T180000
DTEND:20270205T190000
DESCRIPTION:
LOCATION:
SUMMARY:GM - K4 - 1st Movie Night
END:VEVENT
BEGIN:VEVENT
DTSTAMP:20260422T020824Z
UID:c0dd6301-599d-4246-a767-f39c915ed324
DTSTART:20270210T150000
DTEND:20270210T160000
DESCRIPTION:
LOCATION:
SUMMARY:GM - PTO Meeting
END:VEVENT
BEGIN:VEVENT
DTSTAMP:20260422T020824Z
UID:a69578eb-8cb9-40f9-a9e7-eeee009f15fc
DTSTART:20270304T160000
DTEND:20270304T170000
DESCRIPTION:
LOCATION:
SUMMARY:GM - 2nd-4th Glow Dance
END:VEVENT
BEGIN:VEVENT
DTSTAMP:20260422T020824Z
UID:4ce02189-21c6-41e7-9a89-a95563802c8a
DTSTART:20270310T150000
DTEND:20270310T160000
DESCRIPTION:
LOCATION:
SUMMARY:GM - PTO Meeting
END:VEVENT
BEGIN:VEVENT
DTSTAMP:20260422T020824Z
UID:ac44261c-7744-45a6-92a0-618d38bf647f
DTSTART:20270414T150000
DTEND:20270414T160000
DESCRIPTION:
LOCATION:
SUMMARY:GM - PTO Meeting
END:VEVENT
BEGIN:VEVENT
DTSTAMP:20260422T020824Z
UID:2acc5d0d-ccf4-4b24-a93f-f83ce3e4a01b
DTSTART:20270429T160000
DTEND:20270429T170000
DESCRIPTION:
LOCATION:
SUMMARY:GM - BINGO!
END:VEVENT
BEGIN:VEVENT
DTSTAMP:20260422T020824Z
UID:fffddf25-c8fb-4b10-9f6d-92ae2a803361
DTSTART:20270512T150000
DTEND:20270512T160000
DESCRIPTION:
LOCATION:
SUMMARY:GM - PTO Meeting
END:VEVENT
END:VCALENDAR
