BEGIN:VCALENDAR
VERSION:2.0
PRODID:icalendar-ruby
CALSCALE:GREGORIAN
BEGIN:VTIMEZONE
TZID:America/New_York
BEGIN:DAYLIGHT
DTSTART:20260308T030000
TZOFFSETFROM:-0500
TZOFFSETTO:-0400
RRULE:FREQ=YEARLY;BYDAY=2SU;BYMONTH=3
TZNAME:EDT
END:DAYLIGHT
BEGIN:STANDARD
DTSTART:20261101T010000
TZOFFSETFROM:-0400
TZOFFSETTO:-0500
RRULE:FREQ=YEARLY;BYDAY=1SU;BYMONTH=11
TZNAME:EST
END:STANDARD
END:VTIMEZONE
BEGIN:VEVENT
DTSTAMP:20260423T180109Z
UID:1c620d08-bc1b-477c-bc9f-19fffd8e56bf
DTSTART:20260505T190000
DTEND:20260505T200000
DESCRIPTION:<p><span>City Council meetings takes place in the Council Chamb
 ers\, located on the third floor of the city municipal building.</span></p
 >
LOCATION:206 Claremont Ave\, Ashland\, OH 44805\, USA
SUMMARY:City Council Meeting
END:VEVENT
BEGIN:VEVENT
DTSTAMP:20260423T180109Z
UID:95fcbda3-b89a-4dc6-b8df-8bc298919ea7
DTSTART:20260519T190000
DTEND:20260519T200000
DESCRIPTION:<p><span>City Council meetings takes place in the Council Chamb
 ers\, located on the third floor of the city municipal building.</span></p
 >
LOCATION:206 Claremont Ave\, Ashland\, OH 44805\, USA
SUMMARY:City Council Meeting
END:VEVENT
BEGIN:VEVENT
DTSTAMP:20260423T180109Z
UID:812df970-e926-4522-851b-e10335368542
DTSTART:20260602T190000
DTEND:20260602T200000
DESCRIPTION:<p><span>City Council meetings takes place in the Council Chamb
 ers\, located on the third floor of the city municipal building.</span></p
 >
LOCATION:206 Claremont Ave\, Ashland\, OH 44805\, USA
SUMMARY:City Council Meeting
END:VEVENT
BEGIN:VEVENT
DTSTAMP:20260423T180109Z
UID:32f9c26d-ac4e-4a5a-8440-fecff8a5b0b7
DTSTART:20260616T190000
DTEND:20260616T200000
DESCRIPTION:<p><span>City Council meetings takes place in the Council Chamb
 ers\, located on the third floor of the city municipal building.</span></p
 >
LOCATION:206 Claremont Ave\, Ashland\, OH 44805\, USA
SUMMARY:City Council Meeting
END:VEVENT
BEGIN:VEVENT
DTSTAMP:20260423T180109Z
UID:bb4df961-26aa-4f33-825a-528cc7d70dd6
DTSTART:20260707T190000
DTEND:20260707T200000
DESCRIPTION:<p><span>City Council meetings takes place in the Council Chamb
 ers\, located on the third floor of the city municipal building.</span></p
 >
LOCATION:206 Claremont Ave\, Ashland\, OH 44805\, USA
SUMMARY:City Council Meeting
END:VEVENT
BEGIN:VEVENT
DTSTAMP:20260423T180109Z
UID:014cb68f-b63d-4f1a-8d02-99dad9f44f35
DTSTART:20260721T190000
DTEND:20260721T200000
DESCRIPTION:<p><span>City Council meetings takes place in the Council Chamb
 ers\, located on the third floor of the city municipal building.</span></p
 >
LOCATION:206 Claremont Ave\, Ashland\, OH 44805\, USA
SUMMARY:City Council Meeting
END:VEVENT
BEGIN:VEVENT
DTSTAMP:20260423T180109Z
UID:abcbac6d-66e9-4cdf-b5d9-be3d2e9022a4
DTSTART:20260901T190000
DTEND:20260901T200000
DESCRIPTION:<p><span>City Council meetings takes place in the Council Chamb
 ers\, located on the third floor of the city municipal building.</span></p
 >
LOCATION:206 Claremont Ave\, Ashland\, OH 44805\, USA
SUMMARY:City Council Meeting
END:VEVENT
BEGIN:VEVENT
DTSTAMP:20260423T180109Z
UID:542f4b6d-2098-43bc-a746-dd0ef53ceede
DTSTART:20260915T190000
DTEND:20260915T200000
DESCRIPTION:<p><span>City Council meetings takes place in the Council Chamb
 ers\, located on the third floor of the city municipal building.</span></p
 >
LOCATION:206 Claremont Ave\, Ashland\, OH 44805\, USA
SUMMARY:City Council Meeting
END:VEVENT
BEGIN:VEVENT
DTSTAMP:20260423T180109Z
UID:b80fc788-8977-45ee-a81f-bf9975e93906
DTSTART:20261006T190000
DTEND:20261006T200000
DESCRIPTION:<p><span>City Council meetings takes place in the Council Chamb
 ers\, located on the third floor of the city municipal building.</span></p
 >
LOCATION:206 Claremont Ave\, Ashland\, OH 44805\, USA
SUMMARY:City Council Meeting
END:VEVENT
BEGIN:VEVENT
DTSTAMP:20260423T180109Z
UID:c1b88d85-0d8e-446e-8524-3820133c249f
DTSTART:20261020T190000
DTEND:20261020T200000
DESCRIPTION:<p><span>City Council meetings takes place in the Council Chamb
 ers\, located on the third floor of the city municipal building.</span></p
 >
LOCATION:206 Claremont Ave\, Ashland\, OH 44805\, USA
SUMMARY:City Council Meeting
END:VEVENT
BEGIN:VEVENT
DTSTAMP:20260423T180109Z
UID:6f1bd1f2-23dd-4e3d-a47d-09dd7646b8ec
DTSTART:20261103T190000
DTEND:20261103T200000
DESCRIPTION:<p><span>City Council meetings takes place in the Council Chamb
 ers\, located on the third floor of the city municipal building.</span></p
 >
LOCATION:206 Claremont Ave\, Ashland\, OH 44805\, USA
SUMMARY:City Council Meeting
END:VEVENT
BEGIN:VEVENT
DTSTAMP:20260423T180109Z
UID:d51d0452-3d77-4f9b-b82c-aa6e16d699ba
DTSTART:20261117T190000
DTEND:20261117T200000
DESCRIPTION:<p><span>City Council meetings takes place in the Council Chamb
 ers\, located on the third floor of the city municipal building.</span></p
 >
LOCATION:206 Claremont Ave\, Ashland\, OH 44805\, USA
SUMMARY:City Council Meeting
END:VEVENT
BEGIN:VEVENT
DTSTAMP:20260423T180109Z
UID:0c5e9ffb-0f8e-4d7d-9d28-e308888b7996
DTSTART:20261201T190000
DTEND:20261201T200000
DESCRIPTION:<p><span>City Council meetings takes place in the Council Chamb
 ers\, located on the third floor of the city municipal building.</span></p
 >
LOCATION:206 Claremont Ave\, Ashland\, OH 44805\, USA
SUMMARY:City Council Meeting
END:VEVENT
BEGIN:VEVENT
DTSTAMP:20260423T180109Z
UID:7fa5e90f-8cac-4049-a2e9-89b11dcc02d6
DTSTART:20261215T190000
DTEND:20261215T200000
DESCRIPTION:<p><span>City Council meetings takes place in the Council Chamb
 ers\, located on the third floor of the city municipal building.</span></p
 >
LOCATION:206 Claremont Ave\, Ashland\, OH 44805\, USA
SUMMARY:City Council Meeting
END:VEVENT
END:VCALENDAR
