BEGIN:VCALENDAR
VERSION:2.0
PRODID:icalendar-ruby
CALSCALE:GREGORIAN
BEGIN:VTIMEZONE
TZID:America/New_York
BEGIN:DAYLIGHT
DTSTART:20260308T030000
TZOFFSETFROM:-0500
TZOFFSETTO:-0400
RRULE:FREQ=YEARLY;BYDAY=2SU;BYMONTH=3
TZNAME:EDT
END:DAYLIGHT
BEGIN:STANDARD
DTSTART:20261101T010000
TZOFFSETFROM:-0400
TZOFFSETTO:-0500
RRULE:FREQ=YEARLY;BYDAY=1SU;BYMONTH=11
TZNAME:EST
END:STANDARD
END:VTIMEZONE
BEGIN:VEVENT
DTSTAMP:20260419T213359Z
UID:05d3dec7-f642-4bc1-b529-e467856914c2
DTSTART;VALUE=DATE:20260421
DTEND;VALUE=DATE:20260422
DESCRIPTION:
LOCATION:
SUMMARY:HS Spanish Trip to NY
END:VEVENT
BEGIN:VEVENT
DTSTAMP:20260419T213359Z
UID:fe5bf958-ab7f-4ced-8613-ec889a09cbd7
DTSTART;VALUE=DATE:20260422
DTEND;VALUE=DATE:20260423
DESCRIPTION:
LOCATION:
SUMMARY:Grounds for Sculpture Trip HS Spanish & Art Classes
END:VEVENT
BEGIN:VEVENT
DTSTAMP:20260419T213359Z
UID:2cb3c88d-bfc9-4be4-94bb-537c99a61d7c
DTSTART:20260422T141500
DTEND:20260422T151500
DESCRIPTION:
LOCATION:Bartle School
SUMMARY:Green Team Meeting
END:VEVENT
BEGIN:VEVENT
DTSTAMP:20260419T213359Z
UID:20a37a36-4dc8-4d13-9fb0-3d179cebc909
DTSTART;VALUE=DATE:20260424
DTEND;VALUE=DATE:20260425
DESCRIPTION:
LOCATION:
SUMMARY:BS Spring Picture Day
END:VEVENT
BEGIN:VEVENT
DTSTAMP:20260419T213359Z
UID:1928a58d-4de0-4748-a8db-f846940cdfb5
DTSTART;VALUE=DATE:20260424
DTEND;VALUE=DATE:20260429
DESCRIPTION:
LOCATION:
SUMMARY:DECA Competition Georgia
END:VEVENT
BEGIN:VEVENT
DTSTAMP:20260419T213359Z
UID:ef6253d2-ad5f-4938-8395-1539af2a22a7
DTSTART:20260424T141500
DTEND:20260424T151500
DESCRIPTION:
LOCATION:Bartle School
SUMMARY:Run For Fun
END:VEVENT
BEGIN:VEVENT
DTSTAMP:20260419T213359Z
UID:9ea6b29b-b8e7-4d57-ac16-1f9889de89af
DTSTART:20260426T083000
DTEND:20260426T113000
DESCRIPTION:
LOCATION:HS Auditorium
SUMMARY:Battle of the Books Competition
END:VEVENT
BEGIN:VEVENT
DTSTAMP:20260419T213359Z
UID:a86e924e-112a-4e97-b94a-020fe80ee192
DTSTART:20260427T183000
DTEND:20260427T193000
DESCRIPTION:
LOCATION:
SUMMARY:Board Meeting
END:VEVENT
BEGIN:VEVENT
DTSTAMP:20260419T213359Z
UID:9e9c324f-37bf-497c-97c3-b674caf2e3c9
DTSTART:20260427T190000
DTEND:20260427T200000
DESCRIPTION:
LOCATION:
SUMMARY:Board Meeting
END:VEVENT
BEGIN:VEVENT
DTSTAMP:20260419T213359Z
UID:1e3a1dab-ebba-4e5e-a16f-fcdb69560d2d
DTSTART:20260428T190000
DTEND:20260428T193000
DESCRIPTION:
LOCATION:HS Auditorium
SUMMARY:HS/MS Spring Choir Concert
END:VEVENT
BEGIN:VEVENT
DTSTAMP:20260419T213359Z
UID:c452c866-f1e5-42bf-98f7-dce1b36b75bb
DTSTART:20260429T141500
DTEND:20260429T151500
DESCRIPTION:
LOCATION:Bartle School
SUMMARY:Book Buddies
END:VEVENT
BEGIN:VEVENT
DTSTAMP:20260419T213359Z
UID:d123b5de-a669-488c-999c-5cd2d5918b73
DTSTART:20260429T141500
DTEND:20260429T151500
DESCRIPTION:
LOCATION:Bartle School
SUMMARY:Green Team Meeting
END:VEVENT
BEGIN:VEVENT
DTSTAMP:20260419T213359Z
UID:4f254145-1246-46fa-ba0b-0b39fe829b38
DTSTART:20260501T141500
DTEND:20260501T151500
DESCRIPTION:
LOCATION:Bartle School
SUMMARY:Run For Fun
END:VEVENT
BEGIN:VEVENT
DTSTAMP:20260419T213359Z
UID:569e76fa-7ce7-4617-a04a-b8da87c217f2
DTSTART:20260506T141500
DTEND:20260506T151500
DESCRIPTION:
LOCATION:Bartle School
SUMMARY:Green Team Meeting
END:VEVENT
BEGIN:VEVENT
DTSTAMP:20260419T213359Z
UID:a1d678d6-97f0-46a3-b37c-c4cf63cbcd3c
DTSTART:20260507T080000
DTEND:20260507T120000
DESCRIPTION:
LOCATION:Irving School
SUMMARY:Petting Zoo
END:VEVENT
BEGIN:VEVENT
DTSTAMP:20260419T213359Z
UID:4fa7a836-9f64-4424-94e3-5caf3f5c18ab
DTSTART:20260508T141500
DTEND:20260508T151500
DESCRIPTION:
LOCATION:Bartle School
SUMMARY:Run For Fun
END:VEVENT
BEGIN:VEVENT
DTSTAMP:20260419T213359Z
UID:e005032f-35c9-4816-b9e7-d40277c7a204
DTSTART:20260511T173000
DTEND:20260511T180000
DESCRIPTION:
LOCATION:High School Room 112
SUMMARY:HS/MS PTSO
END:VEVENT
BEGIN:VEVENT
DTSTAMP:20260419T213359Z
UID:b683eb71-e045-43ea-bd96-b125918f23d3
DTSTART:20260511T173000
DTEND:20260511T190000
DESCRIPTION:
LOCATION:HS Room 112
SUMMARY:HS/MS PTSO Meeting
END:VEVENT
BEGIN:VEVENT
DTSTAMP:20260419T213359Z
UID:a4167544-cfad-4d42-9026-2253bd7254f2
DTSTART:20260512T180000
DTEND:20260512T190000
DESCRIPTION:
LOCATION:Bartle School
SUMMARY:Coffee with Principal & Assistant Principal
END:VEVENT
BEGIN:VEVENT
DTSTAMP:20260419T213359Z
UID:a6715d29-0866-4bac-a9ba-a65218939ea8
DTSTART;VALUE=DATE:20260513
DTEND;VALUE=DATE:20260514
DESCRIPTION:
LOCATION:
SUMMARY:IS Turtle Back Zoo
END:VEVENT
BEGIN:VEVENT
DTSTAMP:20260419T213359Z
UID:f23008b9-37ed-41f1-9c93-a75e112b34d8
DTSTART:20260513T141500
DTEND:20260513T151500
DESCRIPTION:
LOCATION:Bartle School
SUMMARY:Book Buddies
END:VEVENT
BEGIN:VEVENT
DTSTAMP:20260419T213359Z
UID:5e15e8e5-f143-4754-a706-5a7018967043
DTSTART:20260513T141500
DTEND:20260513T151500
DESCRIPTION:
LOCATION:Bartle School
SUMMARY:Green Team Meeting
END:VEVENT
BEGIN:VEVENT
DTSTAMP:20260419T213359Z
UID:ce40a578-c3b7-42e2-b2d3-8bc719a7c5e9
DTSTART;VALUE=DATE:20260515
DTEND;VALUE=DATE:20260516
DESCRIPTION:
LOCATION:Bartle School
SUMMARY:Liberty Science Center
END:VEVENT
BEGIN:VEVENT
DTSTAMP:20260419T213359Z
UID:7d6163ba-06a7-4160-9bae-77eeac4228fc
DTSTART;VALUE=DATE:20260519
DTEND;VALUE=DATE:20260522
DESCRIPTION:
LOCATION:
SUMMARY:Camp Mason
END:VEVENT
BEGIN:VEVENT
DTSTAMP:20260419T213359Z
UID:a5b861a6-6090-4ac0-8887-63be74a13472
DTSTART:20260520T141500
DTEND:20260520T151500
DESCRIPTION:
LOCATION:Bartle School
SUMMARY:Green Team Meeting
END:VEVENT
BEGIN:VEVENT
DTSTAMP:20260419T213359Z
UID:11f886f4-1731-4a10-9c98-550377ad1c55
DTSTART;VALUE=DATE:20260521
DTEND;VALUE=DATE:20260522
DESCRIPTION:
LOCATION:
SUMMARY:2nd Grade Liberty Science Center
END:VEVENT
BEGIN:VEVENT
DTSTAMP:20260419T213359Z
UID:3fdc5047-27d6-4e69-b339-e34639c47ab3
DTSTART;VALUE=DATE:20260521
DTEND;VALUE=DATE:20260522
DESCRIPTION:
LOCATION:
SUMMARY:IS Whole School Picnic
END:VEVENT
BEGIN:VEVENT
DTSTAMP:20260419T213359Z
UID:b8addf66-2416-42d4-9b40-6d3226d02354
DTSTART;VALUE=DATE:20260522
DTEND;VALUE=DATE:20260523
DESCRIPTION:
LOCATION:
SUMMARY:Early Dismissal
END:VEVENT
BEGIN:VEVENT
DTSTAMP:20260419T213359Z
UID:1c3f71ba-b8cd-43b7-b720-645e12be6359
DTSTART;VALUE=DATE:20260522
DTEND;VALUE=DATE:20260523
DESCRIPTION:
LOCATION:
SUMMARY:Early Dismissal
END:VEVENT
BEGIN:VEVENT
DTSTAMP:20260419T213359Z
UID:a5fba521-6b00-41ab-9d52-02a12b20c680
DTSTART;VALUE=DATE:20260525
DTEND;VALUE=DATE:20260526
DESCRIPTION:
LOCATION:
SUMMARY:School Closed
END:VEVENT
BEGIN:VEVENT
DTSTAMP:20260419T213359Z
UID:5cce7826-e1f5-4e55-9149-cf5d49b7cf8c
DTSTART;VALUE=DATE:20260525
DTEND;VALUE=DATE:20260526
DESCRIPTION:
LOCATION:
SUMMARY:School Closed Memorial Day
END:VEVENT
BEGIN:VEVENT
DTSTAMP:20260419T213359Z
UID:815ca6f3-7ca2-4a18-9e53-6eb0fd0c3fa9
DTSTART:20260526T183000
DTEND:20260526T193000
DESCRIPTION:
LOCATION:
SUMMARY:Board Meeting
END:VEVENT
BEGIN:VEVENT
DTSTAMP:20260419T213359Z
UID:8b5dd089-e1ec-4969-a878-bcfad7741816
DTSTART:20260526T190000
DTEND:20260526T200000
DESCRIPTION:
LOCATION:
SUMMARY:Board Meeting
END:VEVENT
BEGIN:VEVENT
DTSTAMP:20260419T213359Z
UID:ee9e4652-b2c4-43b1-80de-b827b47c9093
DTSTART:20260528T190000
DTEND:20260528T210000
DESCRIPTION:
LOCATION:HS Auditorium
SUMMARY:HS/MS Spring Band Concert
END:VEVENT
BEGIN:VEVENT
DTSTAMP:20260419T213359Z
UID:709f8045-4985-4aba-8c02-504f839e166f
DTSTART:20260601T190000
DTEND:20260601T210000
DESCRIPTION:
LOCATION:HS Auditorium
SUMMARY:Senior Awards
END:VEVENT
BEGIN:VEVENT
DTSTAMP:20260419T213359Z
UID:92df5f49-50fa-4e13-9136-540c10447b2e
DTSTART;VALUE=DATE:20260602
DTEND;VALUE=DATE:20260603
DESCRIPTION:
LOCATION:
SUMMARY:AM BS Principal Visit & Reading to IS
END:VEVENT
BEGIN:VEVENT
DTSTAMP:20260419T213359Z
UID:a6505215-fc86-42af-834f-bb30495c7035
DTSTART:20260602T090000
DTEND:20260602T120000
DESCRIPTION:
LOCATION:
SUMMARY:Bartle 5th Grade visiting MS
END:VEVENT
BEGIN:VEVENT
DTSTAMP:20260419T213359Z
UID:6ce8509f-f86b-488a-b5d2-6151e84b5503
DTSTART:20260602T133000
DTEND:20260602T140000
DESCRIPTION:Curtin\, Medine\, Kausch\, Koval
LOCATION:Irving School Gym
SUMMARY:Kindergarten Living Garden
END:VEVENT
BEGIN:VEVENT
DTSTAMP:20260419T213359Z
UID:e6b9b572-4fab-40ab-a793-d27c016fea7f
DTSTART:20260602T190000
DTEND:20260602T200000
DESCRIPTION:
LOCATION:HS Auditorium
SUMMARY:Bartle School Concert
END:VEVENT
BEGIN:VEVENT
DTSTAMP:20260419T213359Z
UID:2875f521-2f33-4b22-ac06-512e018105bd
DTSTART;VALUE=DATE:20260603
DTEND;VALUE=DATE:20260604
DESCRIPTION:
LOCATION:
SUMMARY:Teen Center to Walter Kerr Theater
END:VEVENT
BEGIN:VEVENT
DTSTAMP:20260419T213359Z
UID:f43d4d37-c31e-43cb-91af-f6a86ce330b8
DTSTART:20260603T133000
DTEND:20260603T140000
DESCRIPTION:Lucas\, Gray\, Walsch\, Tyler\, Isley
LOCATION:Irving Gym
SUMMARY:Kindergarten Living Garden
END:VEVENT
BEGIN:VEVENT
DTSTAMP:20260419T213359Z
UID:33be0e0e-c55b-4b73-8dfe-a47242248efa
DTSTART:20260603T190000
DTEND:20260603T203000
DESCRIPTION:
LOCATION:HS Auditorium
SUMMARY:National Society Inductions
END:VEVENT
BEGIN:VEVENT
DTSTAMP:20260419T213359Z
UID:d2644993-0203-49a0-86df-c0dd289962e5
DTSTART;VALUE=DATE:20260604
DTEND;VALUE=DATE:20260605
DESCRIPTION:
LOCATION:
SUMMARY:Irving First Grade Walk To Bartle School 
END:VEVENT
BEGIN:VEVENT
DTSTAMP:20260419T213359Z
UID:a2493027-e517-49aa-9ca8-83ad885d4d8f
DTSTART:20260604T090000
DTEND:20260604T100000
DESCRIPTION:
LOCATION:Irving School Gym
SUMMARY:Pre-K Musical
END:VEVENT
BEGIN:VEVENT
DTSTAMP:20260419T213359Z
UID:4d125908-135e-403a-abc2-7a860ef38034
DTSTART:20260604T173000
DTEND:20260604T183000
DESCRIPTION:
LOCATION:Front Lawn
SUMMARY:HS Pre Prom & Prom
END:VEVENT
BEGIN:VEVENT
DTSTAMP:20260419T213359Z
UID:b4923378-0dcd-45e0-971a-fab9d97a703d
DTSTART:20260605T090000
DTEND:20260605T100000
DESCRIPTION:
LOCATION:Irving School Gym
SUMMARY:Pre-K Musical
END:VEVENT
BEGIN:VEVENT
DTSTAMP:20260419T213359Z
UID:d5dc8a01-2d92-4690-b19f-eb9e56fe6871
DTSTART:20260605T100000
DTEND:20260605T103000
DESCRIPTION:
LOCATION:Great Adventure
SUMMARY:Senior Trip
END:VEVENT
BEGIN:VEVENT
DTSTAMP:20260419T213359Z
UID:4edca336-c0b3-4ac3-aad4-ab7578985b49
DTSTART:20260608T173000
DTEND:20260608T180000
DESCRIPTION:
LOCATION:High School Room 112
SUMMARY:HS/MS PTSO
END:VEVENT
BEGIN:VEVENT
DTSTAMP:20260419T213359Z
UID:eb143004-f3d2-4a1c-b1b6-045f2581cbb3
DTSTART;VALUE=DATE:20260609
DTEND;VALUE=DATE:20260610
DESCRIPTION:
LOCATION:
SUMMARY:MS 8th Grade Trip Dorney Park
END:VEVENT
BEGIN:VEVENT
DTSTAMP:20260419T213359Z
UID:7df9ea0d-225b-4312-bcab-074864e887fa
DTSTART:20260609T080000
DTEND:20260609T120000
DESCRIPTION:
LOCATION:HS Gym
SUMMARY:HS Science Fair
END:VEVENT
BEGIN:VEVENT
DTSTAMP:20260419T213359Z
UID:f8499533-7775-4a95-99a8-5a4b8bfed4e5
DTSTART:20260609T173000
DTEND:20260609T190000
DESCRIPTION:
LOCATION:HS Room 112
SUMMARY:HS/MS PTSO Meeting
END:VEVENT
BEGIN:VEVENT
DTSTAMP:20260419T213359Z
UID:b291a732-4f2b-44bd-8f55-c17aa8fc78ad
DTSTART;VALUE=DATE:20260610
DTEND;VALUE=DATE:20260611
DESCRIPTION:
LOCATION:Picnic Area & MS Gym
SUMMARY:6th Grade Field Day & BBQ
END:VEVENT
BEGIN:VEVENT
DTSTAMP:20260419T213359Z
UID:2fdc2cb8-cff4-4149-a912-bfad419fae53
DTSTART;VALUE=DATE:20260611
DTEND;VALUE=DATE:20260612
DESCRIPTION:
LOCATION:Picnic Area & MS Gym
SUMMARY:7th Grade Field Day & BBQ
END:VEVENT
BEGIN:VEVENT
DTSTAMP:20260419T213359Z
UID:8a143929-ebaf-472a-9f89-f14b858a0402
DTSTART;VALUE=DATE:20260611
DTEND;VALUE=DATE:20260612
DESCRIPTION:
LOCATION:
SUMMARY:8th Grade to Donaldson Park
END:VEVENT
BEGIN:VEVENT
DTSTAMP:20260419T213359Z
UID:57e31dc1-24e2-4836-87a6-349afa7c4a62
DTSTART:20260611T133000
DTEND:20260611T140000
DESCRIPTION:
LOCATION:Irving Gym
SUMMARY:First Grade Musical
END:VEVENT
BEGIN:VEVENT
DTSTAMP:20260419T213359Z
UID:9948d658-cc66-4667-b026-9ce343badfba
DTSTART;VALUE=DATE:20260612
DTEND;VALUE=DATE:20260613
DESCRIPTION:
LOCATION:
SUMMARY:5th Grade to Splash Pad
END:VEVENT
BEGIN:VEVENT
DTSTAMP:20260419T213359Z
UID:9b481c25-03ab-4ee2-8d3a-97494a5794ea
DTSTART;VALUE=DATE:20260612
DTEND;VALUE=DATE:20260613
DESCRIPTION:
LOCATION:Picnic Area and MS Gym
SUMMARY:8th Grade BBQ & Dance
END:VEVENT
BEGIN:VEVENT
DTSTAMP:20260419T213359Z
UID:c12a34b8-1128-47ed-8910-676894867d51
DTSTART:20260615T100000
DTEND:20260615T113000
DESCRIPTION:
LOCATION:BS Gym
SUMMARY:BS 5th Grade Moving Up Ceremony
END:VEVENT
BEGIN:VEVENT
DTSTAMP:20260419T213359Z
UID:572a2a0a-87a9-4982-9ddb-6d60f17c0acf
DTSTART:20260616T100000
DTEND:20260616T110000
DESCRIPTION:
LOCATION:HS Auditorium
SUMMARY:8th Grade Awards Ceremony
END:VEVENT
BEGIN:VEVENT
DTSTAMP:20260419T213359Z
UID:f1e0382e-1dc6-4259-b272-5750395a89e0
DTSTART:20260616T120000
DTEND:20260616T130000
DESCRIPTION:
LOCATION:HS Auditorium
SUMMARY:8th Grade Graduation
END:VEVENT
BEGIN:VEVENT
DTSTAMP:20260419T213359Z
UID:503ffb83-770a-41f0-a4d9-322832a2bc01
DTSTART:20260617T133000
DTEND:20260617T140000
DESCRIPTION:
LOCATION:Front Lawn
SUMMARY:HS Graduation
END:VEVENT
BEGIN:VEVENT
DTSTAMP:20260419T213359Z
UID:c0f11fbd-8a4e-4658-a5cc-f8a15f5f519d
DTSTART;VALUE=DATE:20260618
DTEND;VALUE=DATE:20260619
DESCRIPTION:
LOCATION:
SUMMARY:Last Day of School Staff/Students
END:VEVENT
BEGIN:VEVENT
DTSTAMP:20260419T213359Z
UID:7a2abb71-bbfd-4167-9d74-ff04811ab7bd
DTSTART;VALUE=DATE:20260619
DTEND;VALUE=DATE:20260620
DESCRIPTION:
LOCATION:
SUMMARY:Closed Juneteenth
END:VEVENT
BEGIN:VEVENT
DTSTAMP:20260419T213359Z
UID:9258f9df-082f-4544-abe8-871e8efe0382
DTSTART:20260622T190000
DTEND:20260622T200000
DESCRIPTION:
LOCATION:
SUMMARY:Board Meeting
END:VEVENT
BEGIN:VEVENT
DTSTAMP:20260419T213359Z
UID:e5c45199-fd9a-4fb0-9729-3f4d492f92e9
DTSTART;VALUE=DATE:20260626
DTEND;VALUE=DATE:20260627
DESCRIPTION:
LOCATION:
SUMMARY:Closed
END:VEVENT
BEGIN:VEVENT
DTSTAMP:20260419T213359Z
UID:c0b5ca8f-36c6-40b2-ab0e-254cfa42d7b6
DTSTART;VALUE=DATE:20260703
DTEND;VALUE=DATE:20260704
DESCRIPTION:
LOCATION:
SUMMARY:Closed
END:VEVENT
BEGIN:VEVENT
DTSTAMP:20260419T213359Z
UID:32f8f518-b7b7-47ac-9582-a5732d5b0cec
DTSTART;VALUE=DATE:20260710
DTEND;VALUE=DATE:20260711
DESCRIPTION:
LOCATION:
SUMMARY:Closed
END:VEVENT
BEGIN:VEVENT
DTSTAMP:20260419T213359Z
UID:29ac454a-f0e5-4eb2-a1cd-bfdd3fda76d8
DTSTART;VALUE=DATE:20260717
DTEND;VALUE=DATE:20260718
DESCRIPTION:
LOCATION:
SUMMARY:Closed
END:VEVENT
BEGIN:VEVENT
DTSTAMP:20260419T213359Z
UID:9de098a7-fe0c-412c-965f-79fb6af4509c
DTSTART;VALUE=DATE:20260724
DTEND;VALUE=DATE:20260725
DESCRIPTION:
LOCATION:
SUMMARY:Closed
END:VEVENT
BEGIN:VEVENT
DTSTAMP:20260419T213359Z
UID:c06202e8-0ccf-42f2-b423-132a25b5da4a
DTSTART:20260727T190000
DTEND:20260727T200000
DESCRIPTION:
LOCATION:
SUMMARY:Board Meeting
END:VEVENT
BEGIN:VEVENT
DTSTAMP:20260419T213359Z
UID:e8fcac3d-6179-40e4-878b-bad4c18615de
DTSTART;VALUE=DATE:20260731
DTEND;VALUE=DATE:20260801
DESCRIPTION:
LOCATION:
SUMMARY:Closed
END:VEVENT
BEGIN:VEVENT
DTSTAMP:20260419T213359Z
UID:d98e4529-989a-46c8-a05e-6de710f6d7c3
DTSTART;VALUE=DATE:20260807
DTEND;VALUE=DATE:20260808
DESCRIPTION:
LOCATION:
SUMMARY:Closed
END:VEVENT
BEGIN:VEVENT
DTSTAMP:20260419T213359Z
UID:e6bdf4d0-cfc8-404e-9ea3-e7b9958211bd
DTSTART;VALUE=DATE:20260814
DTEND;VALUE=DATE:20260815
DESCRIPTION:
LOCATION:
SUMMARY:Closed
END:VEVENT
BEGIN:VEVENT
DTSTAMP:20260419T213359Z
UID:8e4512bd-41f5-4075-85f2-7264b0c1cd2a
DTSTART;VALUE=DATE:20260821
DTEND;VALUE=DATE:20260822
DESCRIPTION:
LOCATION:
SUMMARY:Closed
END:VEVENT
BEGIN:VEVENT
DTSTAMP:20260419T213359Z
UID:a5efa7ef-1b0b-43f0-8df4-774304b3b6ee
DTSTART:20260824T190000
DTEND:20260824T200000
DESCRIPTION:
LOCATION:
SUMMARY:Board Meeting
END:VEVENT
BEGIN:VEVENT
DTSTAMP:20260419T213359Z
UID:b4a5458a-f4aa-489f-bf14-5fd1966f42c3
DTSTART;VALUE=DATE:20260828
DTEND;VALUE=DATE:20260829
DESCRIPTION:
LOCATION:
SUMMARY:Closed
END:VEVENT
BEGIN:VEVENT
DTSTAMP:20260419T213359Z
UID:8089cd84-f2cc-412e-9c26-bcf66cc490e3
DTSTART;VALUE=DATE:20260904
DTEND;VALUE=DATE:20260905
DESCRIPTION:
LOCATION:
SUMMARY:Closed
END:VEVENT
BEGIN:VEVENT
DTSTAMP:20260419T213359Z
UID:1ecf60bd-1651-443b-b9b1-d3959f1f9fdd
DTSTART:20260928T190000
DTEND:20260928T200000
DESCRIPTION:
LOCATION:
SUMMARY:Board Meeting
END:VEVENT
BEGIN:VEVENT
DTSTAMP:20260419T213359Z
UID:59b1a279-a815-40b9-8427-4ec4f7d63e4c
DTSTART:20261026T190000
DTEND:20261026T200000
DESCRIPTION:
LOCATION:
SUMMARY:Board Meeting
END:VEVENT
BEGIN:VEVENT
DTSTAMP:20260419T213359Z
UID:c658bd2e-08a1-449c-a213-a7690aaaadaf
DTSTART:20261123T190000
DTEND:20261123T200000
DESCRIPTION:
LOCATION:
SUMMARY:Board Meeting
END:VEVENT
BEGIN:VEVENT
DTSTAMP:20260419T213359Z
UID:e8b59962-d412-42ac-b574-cc487c5d5a38
DTSTART:20261221T190000
DTEND:20261221T200000
DESCRIPTION:
LOCATION:
SUMMARY:Board Meeting
END:VEVENT
BEGIN:VEVENT
DTSTAMP:20260419T213359Z
UID:37d0a3ca-8d33-48ad-b4a7-b3991a5b14ee
DTSTART:20270104T190000
DTEND:20270104T200000
DESCRIPTION:
LOCATION:
SUMMARY:Board Meeting
END:VEVENT
END:VCALENDAR
