BEGIN:VCALENDAR
VERSION:2.0
PRODID:icalendar-ruby
CALSCALE:GREGORIAN
BEGIN:VTIMEZONE
TZID:America/New_York
BEGIN:DAYLIGHT
DTSTART:20260308T030000
TZOFFSETFROM:-0500
TZOFFSETTO:-0400
RRULE:FREQ=YEARLY;BYDAY=2SU;BYMONTH=3
TZNAME:EDT
END:DAYLIGHT
BEGIN:STANDARD
DTSTART:20261101T010000
TZOFFSETFROM:-0400
TZOFFSETTO:-0500
RRULE:FREQ=YEARLY;BYDAY=1SU;BYMONTH=11
TZNAME:EST
END:STANDARD
END:VTIMEZONE
BEGIN:VEVENT
DTSTAMP:20260421T073222Z
UID:70064d1a-fea9-49de-b2e1-d43a647378aa
DTSTART;VALUE=DATE:20260420
DTEND;VALUE=DATE:20260424
DESCRIPTION:<br><br>https://www.classdojo.com/ul/t/school?postID=685d83d656
 1e6e3a53f5717f&target=story&schoolID=64e7dc5141f8052a942498b4
LOCATION:
SUMMARY:No School - Spring Recess • SCHOOL EVENT
END:VEVENT
BEGIN:VEVENT
DTSTAMP:20260421T073222Z
UID:ebff7cce-db58-4332-9e76-60fc7db7b988
DTSTART;VALUE=DATE:20260513
DTEND;VALUE=DATE:20260514
DESCRIPTION:<br><br>https://www.classdojo.com/ul/t/school?postID=694067c71e
 5c626aa6ba98e3&target=story&schoolID=64e7dc5141f8052a942498b4
LOCATION:
SUMMARY:Grades 3 & 4 MCAS: Math • SCHOOL EVENT
END:VEVENT
END:VCALENDAR
