BEGIN:VCALENDAR
VERSION:2.0
PRODID:icalendar-ruby
CALSCALE:GREGORIAN
BEGIN:VTIMEZONE
TZID:America/Denver
BEGIN:DAYLIGHT
DTSTART:20260308T030000
TZOFFSETFROM:-0700
TZOFFSETTO:-0600
RRULE:FREQ=YEARLY;BYDAY=2SU;BYMONTH=3
TZNAME:MDT
END:DAYLIGHT
BEGIN:STANDARD
DTSTART:20261101T010000
TZOFFSETFROM:-0600
TZOFFSETTO:-0700
RRULE:FREQ=YEARLY;BYDAY=1SU;BYMONTH=11
TZNAME:MST
END:STANDARD
END:VTIMEZONE
BEGIN:VEVENT
DTSTAMP:20260421T163118Z
UID:7877e8a2-c36e-4044-8ca3-596a1c8149fe
DTSTART;VALUE=DATE:20260427
DTEND;VALUE=DATE:20260428
DESCRIPTION:
LOCATION:
SUMMARY:No Classes\, Alternate Make-up Day
END:VEVENT
BEGIN:VEVENT
DTSTAMP:20260421T163118Z
UID:86ee8d76-8be5-4a6f-ac49-4ce29e4fca87
DTSTART:20260501T174500
DTEND:20260501T210000
DESCRIPTION:
LOCATION:
SUMMARY:Senior Sunset and Bridge Dance 
END:VEVENT
BEGIN:VEVENT
DTSTAMP:20260421T163118Z
UID:8563ae9b-ab02-4d71-a147-11d4a339cd53
DTSTART;VALUE=DATE:20260504
DTEND;VALUE=DATE:20260509
DESCRIPTION:
LOCATION:
SUMMARY:Teacher Appreciation Week
END:VEVENT
BEGIN:VEVENT
DTSTAMP:20260421T163118Z
UID:944ed0ea-c3ff-4ceb-8b02-50ab8aa26c47
DTSTART:20260506T133000
DTEND:20260506T145200
DESCRIPTION:
LOCATION:Main Gym
SUMMARY:Spring Awards 
END:VEVENT
BEGIN:VEVENT
DTSTAMP:20260421T163118Z
UID:ab787adc-48b3-4f15-a894-25b32b460868
DTSTART;VALUE=DATE:20260508
DTEND;VALUE=DATE:20260509
DESCRIPTION:
LOCATION:
SUMMARY:Seniors Last Academic School Day
END:VEVENT
BEGIN:VEVENT
DTSTAMP:20260421T163118Z
UID:1c926aa1-465d-4639-ba3c-85062872abd5
DTSTART:20260511T083000
DTEND:20260511T100000
DESCRIPTION:<p>8:30 AM (Last Names A-F)</p><p>9:00 AM (Last Names G-K)</p><
 p>9:30 AM (Last Names L-R)</p><p>10:00 AM (Last Names S-Z)</p>
LOCATION:
SUMMARY:Senior Checkout Day
END:VEVENT
BEGIN:VEVENT
DTSTAMP:20260421T163118Z
UID:f5b252a7-dbec-47b4-bdc6-39a2a98e47d3
DTSTART:20260512T080000
DTEND:20260515T111000
DESCRIPTION:<p><a target="_blank" rel="noopener noreferrer nofollow" href="
 https://docs.google.com/document/d/1aoefpHdg_B0LLSjruIrAF3gRoI-NvvhX/edit?
 usp=sharing&amp\;ouid=110438578018504023015&amp\;rtpof=true&amp\;sd=true">
 Final Exam Schedule</a></p>
LOCATION:
SUMMARY:Final Exams
END:VEVENT
BEGIN:VEVENT
DTSTAMP:20260421T163118Z
UID:5192f4b0-b924-4fe3-a5c4-eefa7e52728b
DTSTART:20260512T183000
DTEND:20260512T200000
DESCRIPTION:
LOCATION:Auditorium
SUMMARY:Senior Awards Night (by invitation only)
END:VEVENT
BEGIN:VEVENT
DTSTAMP:20260421T163118Z
UID:367fefbb-e5a0-4a16-8b90-bffa488cce75
DTSTART;VALUE=DATE:20260515
DTEND;VALUE=DATE:20260516
DESCRIPTION:
LOCATION:
SUMMARY:Last Day of Classes
END:VEVENT
BEGIN:VEVENT
DTSTAMP:20260421T163118Z
UID:425fbdba-553d-4625-9d13-31452f4482ed
DTSTART:20260519T140000
DTEND:20260519T153000
DESCRIPTION:
LOCATION:3185 Venetucci Blvd\, Colorado Springs\, CO 80906\, USA
SUMMARY:Graduation 
END:VEVENT
BEGIN:VEVENT
DTSTAMP:20260421T163118Z
UID:be5446dd-de81-4692-9b58-3fa9a8e98201
DTSTART;VALUE=DATE:20260520
DTEND;VALUE=DATE:20260521
DESCRIPTION:
LOCATION:
SUMMARY:Last Day for Teachers
END:VEVENT
BEGIN:VEVENT
DTSTAMP:20260421T163118Z
UID:600e5935-7cc0-4605-b5bf-3b3ae01ca93b
DTSTART;VALUE=DATE:20260525
DTEND;VALUE=DATE:20260526
DESCRIPTION:
LOCATION:
SUMMARY:District Closed for Memorial Day
END:VEVENT
BEGIN:VEVENT
DTSTAMP:20260421T163118Z
UID:499ec051-83f3-4736-adb6-96d56a35b504
DTSTART:20260803T080000
DTEND:20260803T140000
DESCRIPTION:<p>8:00-10:30 a.m. <strong>(Last Names A-L)</strong><br>11:30-2
 :00 p.m.  <strong>(Last Names M-Z)</strong></p>
LOCATION:
SUMMARY:Senior Schedule Changes - See  Event Details
END:VEVENT
BEGIN:VEVENT
DTSTAMP:20260421T163118Z
UID:c68bfeb8-a09b-446a-8e16-1a3a516346f6
DTSTART:20260804T080000
DTEND:20260804T143000
DESCRIPTION:<p>8:00-9:00 a.m.     <strong>(Last Names A-E)</strong></p><p
 >9:00-10:00 a.m.   <strong>(Last Names F-J)</strong></p><p>10:00-11:00 a.
 m. <strong>(Last Names K-O)</strong></p><p>12:30-1:30 p.m. <strong>  (La
 st Names P-T)</strong></p><p>1:30-2:30 p.m.     <strong>(Last Names U-Z)
 </strong></p>
LOCATION:
SUMMARY:Schedule Changes for 9-11 Grades - See Event Details
END:VEVENT
BEGIN:VEVENT
DTSTAMP:20260421T163118Z
UID:ff80d7cb-cc3b-4d65-b0c6-1509de163365
DTSTART:20260806T080000
DTEND:20260806T150000
DESCRIPTION:<p>8:00-8:30 a.m.&nbsp\; &nbsp\; &nbsp\; <strong>(Last Names A-
 I) </strong>9th Grade Processing&nbsp\;</p><p>8:30-9:00 a.m. &nbsp\; &nbsp
 \; <strong>&nbsp\;(Last Names J-Q) </strong>9th Grade Processing&nbsp\;</p
 ><p>9:00-9:30 a.m.&nbsp\; &nbsp\; &nbsp\; <strong>(Last Names R-Z) </stron
 g>9th Grade Processing&nbsp\;</p><p>9:30-10:00 a.m.&nbsp\; &nbsp\; <strong
 >(Last Names A-I) </strong>10th Grade Processing</p><p>10:00-10:30 a.m.&nb
 sp\; <strong>(Last Names J-Q) </strong>10th Grade Processing</p><p>10:30-1
 1:00 a.m.&nbsp\; <strong>(Last Names R-Z) </strong>10th Grade Processing</
 p><p>12:00-12:30 p.m.&nbsp\; <strong>(Last Names A-I) </strong>11th Grade 
 Processing</p><p>12:30-1:00 p.m.&nbsp\; &nbsp\; <strong>(Last Names J-Q) <
 /strong>11th Grade Processing</p><p>1:00-1:30 p.m.&nbsp\; &nbsp\; &nbsp\; 
 <strong>(Last Names R-Z) </strong>11th Grade Processing</p><p>1:30-2:00 p.
 m.&nbsp\; &nbsp\; &nbsp\; <strong>(Last Names A-I) </strong>12th Grade Pro
 cessing</p><p>2:00-2:30 p.m.&nbsp\; &nbsp\; &nbsp\; <strong>(Last Names J-
 Q) </strong>12th Grade Processing</p><p>2:30-3:00 p.m.&nbsp\; &nbsp\; &nbs
 p\; <strong>(Last Names R-Z) </strong>12th Grade Processing</p><p></p>
LOCATION:
SUMMARY:Processing Day - See Event Details
END:VEVENT
BEGIN:VEVENT
DTSTAMP:20260421T163118Z
UID:f031528e-24d4-4c6c-ace4-9a6a4f907517
DTSTART:20260806T180000
DTEND:20260806T190000
DESCRIPTION:
LOCATION:Palmer Ridge High School Auditorium
SUMMARY:Freshmen Parent Meeting
END:VEVENT
BEGIN:VEVENT
DTSTAMP:20260421T163118Z
UID:13b35242-5632-4f5f-b3f8-bb076070bb63
DTSTART:20260807T090000
DTEND:20260807T140000
DESCRIPTION:
LOCATION:
SUMMARY:Freshmen Orientation and Bear Bash
END:VEVENT
BEGIN:VEVENT
DTSTAMP:20260421T163118Z
UID:153b8f1c-3491-42a1-8f30-ef5352055ba9
DTSTART:20260807T140000
DTEND:20260807T150000
DESCRIPTION:
LOCATION:Palmer Ridge High School Main Entrance Foyer
SUMMARY:New Student Orientation
END:VEVENT
BEGIN:VEVENT
DTSTAMP:20260421T163118Z
UID:38b3682c-2939-4e1a-8833-d9e0f7ab23d4
DTSTART;VALUE=DATE:20260812
DTEND;VALUE=DATE:20260813
DESCRIPTION:
LOCATION:
SUMMARY:First Day of School
END:VEVENT
BEGIN:VEVENT
DTSTAMP:20260421T163118Z
UID:d771b17a-6300-41ad-a681-9e88941e5401
DTSTART:20260815T170000
DTEND:20260815T220000
DESCRIPTION:
LOCATION:
SUMMARY:Club Fair and Navy & Gold Dance
END:VEVENT
BEGIN:VEVENT
DTSTAMP:20260421T163118Z
UID:0ef04d91-ef35-4373-8197-3c51fdc4a6c9
DTSTART:20260818T104500
DTEND:20260818T111500
DESCRIPTION:
LOCATION:Palmer Ridge High School Auditorium
SUMMARY:Senior Meeting with Counselors
END:VEVENT
BEGIN:VEVENT
DTSTAMP:20260421T163118Z
UID:63ebb174-6065-4bbf-bdb1-291d00ca02ba
DTSTART;VALUE=DATE:20260819
DTEND;VALUE=DATE:20260820
DESCRIPTION:<p>Screening will take place during each student's study hall c
 lass.</p>
LOCATION:
SUMMARY:Freshmen Hearing and Vision Screening - See Event Details
END:VEVENT
BEGIN:VEVENT
DTSTAMP:20260421T163118Z
UID:eebc658f-123c-4a41-9847-7eae5197d0d7
DTSTART:20260819T104500
DTEND:20260819T111500
DESCRIPTION:
LOCATION:Palmer Ridge High School Gym
SUMMARY:Senior Group Picture
END:VEVENT
BEGIN:VEVENT
DTSTAMP:20260421T163118Z
UID:1be2673f-350d-4fcb-a8dc-5c857c701c9b
DTSTART:20260820T080000
DTEND:20260820T090000
DESCRIPTION:<p>Screening will take place during each student's study hall c
 lass.</p>
LOCATION:
SUMMARY:Freshmen Hearing and Vision Screening - See Event Details
END:VEVENT
BEGIN:VEVENT
DTSTAMP:20260421T163118Z
UID:7f49c8b5-d937-46c3-b37f-6f0f8122c552
DTSTART:20260820T104500
DTEND:20260820T111500
DESCRIPTION:
LOCATION:Palmer Ridge High School Auditorium
SUMMARY:Senior Meeting with Jostens
END:VEVENT
BEGIN:VEVENT
DTSTAMP:20260421T163118Z
UID:471857bc-14bd-492d-924a-ec9f026550d7
DTSTART:20260821T060000
DTEND:20260821T073000
DESCRIPTION:
LOCATION:
SUMMARY:Senior Sunrise
END:VEVENT
BEGIN:VEVENT
DTSTAMP:20260421T163118Z
UID:d218a224-ea45-4de5-a418-dd6d0f228aee
DTSTART:20260826T180000
DTEND:20260826T200000
DESCRIPTION:
LOCATION:Palmer Ridge High School Gym
SUMMARY:Back-to-School Night
END:VEVENT
BEGIN:VEVENT
DTSTAMP:20260421T163118Z
UID:4dd6dc02-d447-4830-9248-bcf99f79e89c
DTSTART;VALUE=DATE:20260904
DTEND;VALUE=DATE:20260905
DESCRIPTION:
LOCATION:
SUMMARY:No Classes\, PLC Day
END:VEVENT
BEGIN:VEVENT
DTSTAMP:20260421T163118Z
UID:f36d42c9-ee23-4bbe-b0a1-2178c4e4854e
DTSTART;VALUE=DATE:20260907
DTEND;VALUE=DATE:20260908
DESCRIPTION:
LOCATION:
SUMMARY:No Classes\, District Closed 
END:VEVENT
BEGIN:VEVENT
DTSTAMP:20260421T163118Z
UID:3c230963-715e-4522-9e8c-8adc25e81f9d
DTSTART:20260908T080000
DTEND:20260908T110000
DESCRIPTION:
LOCATION:
SUMMARY:Make-up Hearing and Vision Screening
END:VEVENT
BEGIN:VEVENT
DTSTAMP:20260421T163118Z
UID:95b66b94-e831-405e-b455-050317d67236
DTSTART;VALUE=DATE:20260921
DTEND;VALUE=DATE:20260922
DESCRIPTION:
LOCATION:
SUMMARY:No Classes\, PLC Day
END:VEVENT
BEGIN:VEVENT
DTSTAMP:20260421T163118Z
UID:0242dd74-73b1-4096-9798-25d36b59684d
DTSTART:20260922T080000
DTEND:20260922T100000
DESCRIPTION:
LOCATION:
SUMMARY:Picture Retakes
END:VEVENT
BEGIN:VEVENT
DTSTAMP:20260421T163118Z
UID:71539c9e-e6c0-4d2f-9410-aa838bcd4112
DTSTART:20260926T190000
DTEND:20260926T220000
DESCRIPTION:
LOCATION:Palmer Ridge High School Gym
SUMMARY:Homecoming Dance
END:VEVENT
BEGIN:VEVENT
DTSTAMP:20260421T163118Z
UID:3045500f-0460-46f2-9c45-e1457efe369d
DTSTART:20260928T153000
DTEND:20260928T170000
DESCRIPTION:
LOCATION:Sunset Room (Room 1118)
SUMMARY:Building Accountability and Advisory Committee (BAAC) Meeting
END:VEVENT
BEGIN:VEVENT
DTSTAMP:20260421T163118Z
UID:e39c7fff-b6e1-4190-bbee-dd5c2572744d
DTSTART;VALUE=DATE:20261001
DTEND;VALUE=DATE:20261002
DESCRIPTION:
LOCATION:
SUMMARY:October Count Begins
END:VEVENT
BEGIN:VEVENT
DTSTAMP:20260421T163118Z
UID:61689908-57d5-42d7-87b1-3a79ef06e74b
DTSTART:20261001T153000
DTEND:20261001T183000
DESCRIPTION:
LOCATION:Palmer Ridge High School Gym
SUMMARY:Parent Teacher Conferences
END:VEVENT
BEGIN:VEVENT
DTSTAMP:20260421T163118Z
UID:a66a3c73-c4d2-47fb-a5ae-cc5ab3c1e787
DTSTART;VALUE=DATE:20261009
DTEND;VALUE=DATE:20261010
DESCRIPTION:
LOCATION:
SUMMARY:No Classes
END:VEVENT
BEGIN:VEVENT
DTSTAMP:20260421T163118Z
UID:75eaca34-6fa4-40d6-afdb-345dc398341c
DTSTART;VALUE=DATE:20261012
DTEND;VALUE=DATE:20261013
DESCRIPTION:
LOCATION:
SUMMARY:No Classes
END:VEVENT
BEGIN:VEVENT
DTSTAMP:20260421T163118Z
UID:17a01269-c37e-4a4e-a8f9-e67cff66b93b
DTSTART:20261019T183000
DTEND:20261019T200000
DESCRIPTION:
LOCATION:
SUMMARY:National Honor Society Induction
END:VEVENT
BEGIN:VEVENT
DTSTAMP:20260421T163118Z
UID:2b42e861-035a-4017-9ee4-d65919c36186
DTSTART:20261022T080000
DTEND:20261022T120000
DESCRIPTION:
LOCATION:
SUMMARY:PSAT/NMSQT
END:VEVENT
BEGIN:VEVENT
DTSTAMP:20260421T163118Z
UID:afadecc2-95c2-416c-b00d-bf10bfef1a99
DTSTART:20261116T153000
DTEND:20261116T170000
DESCRIPTION:
LOCATION:Sunset Room (Room 1118)
SUMMARY:Building Accountability and Advisory Committee (BAAC) Meeting
END:VEVENT
BEGIN:VEVENT
DTSTAMP:20260421T163118Z
UID:c9e2790d-423d-400b-b623-b9d31efdd630
DTSTART;VALUE=DATE:20261123
DTEND;VALUE=DATE:20261128
DESCRIPTION:
LOCATION:
SUMMARY:Thanksgiving Break
END:VEVENT
BEGIN:VEVENT
DTSTAMP:20260421T163118Z
UID:09ae49c9-7cf8-4476-9c8d-d3111b53e142
DTSTART;VALUE=DATE:20261214
DTEND;VALUE=DATE:20261218
DESCRIPTION:<p>Final Exams will take place from 8:00 - 11:10 a.m. </p><p>Mo
 nday - Periods 1 &amp\; 2<br>Tuesday - Periods 3 &amp\; 4<br>Wednesday - P
 eriods 5 &amp\; 6<br>Thursday - Periods 7 &amp\; 8</p>
LOCATION:
SUMMARY:Final Exams - See Details
END:VEVENT
BEGIN:VEVENT
DTSTAMP:20260421T163118Z
UID:fc77f7c9-6d72-4e34-8998-58468f9d8874
DTSTART;VALUE=DATE:20261218
DTEND;VALUE=DATE:20261219
DESCRIPTION:
LOCATION:
SUMMARY:No Classes\, PLC Day
END:VEVENT
BEGIN:VEVENT
DTSTAMP:20260421T163118Z
UID:8c5bd9d6-c1bf-4660-b723-693136c5fba0
DTSTART;VALUE=DATE:20261221
DTEND;VALUE=DATE:20270106
DESCRIPTION:
LOCATION:
SUMMARY:Winter Break
END:VEVENT
BEGIN:VEVENT
DTSTAMP:20260421T163118Z
UID:d14de053-a5f8-4aa4-8aae-f940ef729fc3
DTSTART;VALUE=DATE:20270106
DTEND;VALUE=DATE:20270107
DESCRIPTION:
LOCATION:
SUMMARY:Classes Resume\, Begin Second Semester
END:VEVENT
BEGIN:VEVENT
DTSTAMP:20260421T163118Z
UID:2b474f72-3859-4a96-b564-943546cfb321
DTSTART:20270112T180000
DTEND:20270112T200000
DESCRIPTION:
LOCATION:
SUMMARY:8th Grade Choice Night
END:VEVENT
BEGIN:VEVENT
DTSTAMP:20260421T163118Z
UID:43ecb382-f6a5-4958-bb30-9f949034f3f4
DTSTART;VALUE=DATE:20270118
DTEND;VALUE=DATE:20270119
DESCRIPTION:
LOCATION:
SUMMARY:No Classes\, District Closed 
END:VEVENT
BEGIN:VEVENT
DTSTAMP:20260421T163118Z
UID:f89ba60e-f97e-4660-bd04-25462e2b4238
DTSTART;VALUE=DATE:20270128
DTEND;VALUE=DATE:20270129
DESCRIPTION:
LOCATION:
SUMMARY:Post-secondary Palooza - time TBD
END:VEVENT
BEGIN:VEVENT
DTSTAMP:20260421T163118Z
UID:8b2384b9-97e3-404b-a18b-5e1f4a1da121
DTSTART:20270206T190000
DTEND:20270206T220000
DESCRIPTION:
LOCATION:Gym
SUMMARY:Snowball Dance
END:VEVENT
BEGIN:VEVENT
DTSTAMP:20260421T163118Z
UID:a5564a74-f3a2-4169-952c-6d6b5377dbf7
DTSTART:20270208T153000
DTEND:20270208T170000
DESCRIPTION:
LOCATION:Sunset Room (Room 1118)
SUMMARY:Building Accountability and Advisory Committee (BAAC) Meeting
END:VEVENT
BEGIN:VEVENT
DTSTAMP:20260421T163118Z
UID:bf282dcd-e8dc-4b8f-a5d4-fc03d999f014
DTSTART;VALUE=DATE:20270215
DTEND;VALUE=DATE:20270216
DESCRIPTION:
LOCATION:
SUMMARY:No Classes\, District Closed 
END:VEVENT
BEGIN:VEVENT
DTSTAMP:20260421T163118Z
UID:80ea22ba-f5b1-4551-9548-203c50822eab
DTSTART;VALUE=DATE:20270226
DTEND;VALUE=DATE:20270227
DESCRIPTION:
LOCATION:
SUMMARY:No Classes\, PLC Day
END:VEVENT
BEGIN:VEVENT
DTSTAMP:20260421T163118Z
UID:a3b6e0ef-da63-42d0-b836-2b2e6ce1db96
DTSTART:20270310T153000
DTEND:20270310T173000
DESCRIPTION:
LOCATION:Gym
SUMMARY:Parent Teacher Conferences
END:VEVENT
BEGIN:VEVENT
DTSTAMP:20260421T163118Z
UID:56b643a3-f13d-4e87-9420-c07595e170ce
DTSTART;VALUE=DATE:20270322
DTEND;VALUE=DATE:20270327
DESCRIPTION:
LOCATION:
SUMMARY:Spring Break
END:VEVENT
BEGIN:VEVENT
DTSTAMP:20260421T163118Z
UID:ca56bd52-6b66-4607-ae84-45d0bfb35075
DTSTART:20270401T104500
DTEND:20270401T111500
DESCRIPTION:
LOCATION:Auditorium
SUMMARY:Senior Class Meeting (during Bear Time)
END:VEVENT
BEGIN:VEVENT
DTSTAMP:20260421T163118Z
UID:444d8663-ba46-4170-818e-ba06d3902682
DTSTART:20270405T153000
DTEND:20270405T170000
DESCRIPTION:
LOCATION:Sunset Room (Room 1118)
SUMMARY:Building Accountability and Advisory Committee (BAAC) Meeting
END:VEVENT
BEGIN:VEVENT
DTSTAMP:20260421T163118Z
UID:966f9c76-599c-4606-9f19-6e9347de1003
DTSTART:20270410T200000
DTEND:20270410T230000
DESCRIPTION:
LOCATION:
SUMMARY:Junior/Senior Prom
END:VEVENT
BEGIN:VEVENT
DTSTAMP:20260421T163118Z
UID:06e8e418-4826-4dee-b69b-50fce0e00b94
DTSTART:20270430T054500
DTEND:20270430T210000
DESCRIPTION:
LOCATION:
SUMMARY:Senior Sunset/Bridge Dance
END:VEVENT
BEGIN:VEVENT
DTSTAMP:20260421T163118Z
UID:4037cdbb-c1d9-43ae-85b3-e7041f3385e2
DTSTART;VALUE=DATE:20270503
DTEND;VALUE=DATE:20270508
DESCRIPTION:
LOCATION:
SUMMARY:Teacher Appreciation Week
END:VEVENT
BEGIN:VEVENT
DTSTAMP:20260421T163118Z
UID:4cef066f-d377-45ab-9843-0b94bb4c96e5
DTSTART:20270505T134500
DTEND:20270505T144500
DESCRIPTION:
LOCATION:Gym
SUMMARY:Spring Awards
END:VEVENT
BEGIN:VEVENT
DTSTAMP:20260421T163118Z
UID:4f30b3bd-1f98-4a8a-859d-2428459db0f1
DTSTART;VALUE=DATE:20270507
DTEND;VALUE=DATE:20270508
DESCRIPTION:
LOCATION:
SUMMARY:Seniors Last Academic School Day
END:VEVENT
BEGIN:VEVENT
DTSTAMP:20260421T163118Z
UID:72484a1a-3032-4a1c-a634-e9b17fc702e6
DTSTART:20270510T083000
DTEND:20270510T100000
DESCRIPTION:<p>8:30 AM (Last Names A-F)</p><p>9:00 AM (Last Names G-K)</p><
 p>9:30 AM (Last Names L-R)</p><p>10:00 AM (Last Names S-Z)</p>
LOCATION:
SUMMARY:Senior Checkout Day - See Event Details
END:VEVENT
BEGIN:VEVENT
DTSTAMP:20260421T163118Z
UID:c70f25c1-b9a1-4e63-b9cd-679ad28118c8
DTSTART;VALUE=DATE:20270511
DTEND;VALUE=DATE:20270515
DESCRIPTION:<p>Final Exams will take place from 8:00 - 11:10 a.m.</p><p>Tue
 sday - Periods 1 &amp\; 2<br>Wednesday - Periods 3 &amp\; 4<br>Thursday - 
 Periods 5 &amp\; 6<br>Friday - Periods 7 &amp\; 8</p>
LOCATION:
SUMMARY:Final Exams - See Details
END:VEVENT
BEGIN:VEVENT
DTSTAMP:20260421T163118Z
UID:8092caf1-d29a-4f7d-ac00-099edf5c09e1
DTSTART:20270511T183000
DTEND:20270511T200000
DESCRIPTION:
LOCATION:Auditorium
SUMMARY:Senior Awards Night (By Invitation Only)
END:VEVENT
BEGIN:VEVENT
DTSTAMP:20260421T163118Z
UID:4eea1a67-f5f1-4134-8219-0149d953c777
DTSTART;VALUE=DATE:20270514
DTEND;VALUE=DATE:20270515
DESCRIPTION:
LOCATION:
SUMMARY:Last Day of Classes
END:VEVENT
BEGIN:VEVENT
DTSTAMP:20260421T163118Z
UID:b8d27e6e-2fda-49b2-8b39-a07bf8654fc5
DTSTART:20270518T140000
DTEND:20270518T153000
DESCRIPTION:
LOCATION:3185 Venetucci Blvd\, Colorado Springs\, CO 80906\, USA
SUMMARY:Class of 2027 Graduation Ceremony
END:VEVENT
BEGIN:VEVENT
DTSTAMP:20260421T163118Z
UID:e4bc3a3c-2317-4354-8dd2-288153b08814
DTSTART;VALUE=DATE:20270519
DTEND;VALUE=DATE:20270520
DESCRIPTION:
LOCATION:
SUMMARY:Last Day for Teachers
END:VEVENT
BEGIN:VEVENT
DTSTAMP:20260421T163118Z
UID:1a139a1b-0a86-4ec8-b609-15c9be262dc3
DTSTART;VALUE=DATE:20270531
DTEND;VALUE=DATE:20270601
DESCRIPTION:
LOCATION:
SUMMARY:District Closed for Memorial Day
END:VEVENT
END:VCALENDAR
