BEGIN:VCALENDAR
VERSION:2.0
PRODID:icalendar-ruby
CALSCALE:GREGORIAN
BEGIN:VTIMEZONE
TZID:America/New_York
BEGIN:DAYLIGHT
DTSTART:20260308T030000
TZOFFSETFROM:-0500
TZOFFSETTO:-0400
RRULE:FREQ=YEARLY;BYDAY=2SU;BYMONTH=3
TZNAME:EDT
END:DAYLIGHT
BEGIN:STANDARD
DTSTART:20261101T010000
TZOFFSETFROM:-0400
TZOFFSETTO:-0500
RRULE:FREQ=YEARLY;BYDAY=1SU;BYMONTH=11
TZNAME:EST
END:STANDARD
END:VTIMEZONE
BEGIN:VEVENT
DTSTAMP:20260424T165108Z
UID:627646ab-94fb-4bcd-8862-393394efbb34
DTSTART;VALUE=DATE:20260504
DTEND;VALUE=DATE:20260505
DESCRIPTION:
LOCATION:
SUMMARY:3-8: SC READY Writing 
END:VEVENT
BEGIN:VEVENT
DTSTAMP:20260424T165108Z
UID:bf4cee97-39c9-41c5-bb11-ab21b10b4220
DTSTART;VALUE=DATE:20260505
DTEND;VALUE=DATE:20260506
DESCRIPTION:
LOCATION:
SUMMARY:3-8: SC READY Reading 
END:VEVENT
BEGIN:VEVENT
DTSTAMP:20260424T165108Z
UID:7a7bd2ba-0f4f-45fc-92ca-a2e9f4b62dc7
DTSTART;VALUE=DATE:20260506
DTEND;VALUE=DATE:20260507
DESCRIPTION:
LOCATION:
SUMMARY:3-5: SC READY Reading 
END:VEVENT
BEGIN:VEVENT
DTSTAMP:20260424T165108Z
UID:83c29ba8-b3ad-4940-b5a3-22e6bd862413
DTSTART;VALUE=DATE:20260506
DTEND;VALUE=DATE:20260507
DESCRIPTION:
LOCATION:
SUMMARY:6-8: SC READY Math
END:VEVENT
BEGIN:VEVENT
DTSTAMP:20260424T165108Z
UID:bc74d8fb-4eb3-4913-819a-2c487498d899
DTSTART;VALUE=DATE:20260507
DTEND;VALUE=DATE:20260508
DESCRIPTION:
LOCATION:
SUMMARY:3-5: SC READY Math 
END:VEVENT
BEGIN:VEVENT
DTSTAMP:20260424T165108Z
UID:e148b882-9a3e-44ee-9ac8-4e95a048c2d4
DTSTART;VALUE=DATE:20260507
DTEND;VALUE=DATE:20260508
DESCRIPTION:
LOCATION:
SUMMARY:6: SC READY Science 
END:VEVENT
BEGIN:VEVENT
DTSTAMP:20260424T165108Z
UID:eba4d3b4-a698-4214-becc-814e08c9e656
DTSTART;VALUE=DATE:20260508
DTEND;VALUE=DATE:20260509
DESCRIPTION:
LOCATION:
SUMMARY:3-5: SC READY Math 
END:VEVENT
BEGIN:VEVENT
DTSTAMP:20260424T165108Z
UID:5697fcf8-3ecb-4445-a51b-27d2be523f60
DTSTART;VALUE=DATE:20260511
DTEND;VALUE=DATE:20260512
DESCRIPTION:
LOCATION:
SUMMARY:4: SC READY Science 
END:VEVENT
BEGIN:VEVENT
DTSTAMP:20260424T165108Z
UID:cbef22d1-0e50-48bc-b173-11c82eae8027
DTSTART;VALUE=DATE:20260515
DTEND;VALUE=DATE:20260516
DESCRIPTION:
LOCATION:
SUMMARY:Middle School Field Day 
END:VEVENT
BEGIN:VEVENT
DTSTAMP:20260424T165108Z
UID:4c1c7fa2-8d11-4c39-a6c0-8ba85aabaa43
DTSTART:20260519T180000
DTEND:20260519T190000
DESCRIPTION:
LOCATION:
SUMMARY:8th Grade Awards 
END:VEVENT
BEGIN:VEVENT
DTSTAMP:20260424T165108Z
UID:67634a44-a811-4b94-a5e5-6b14bf081c31
DTSTART;VALUE=DATE:20260520
DTEND;VALUE=DATE:20260521
DESCRIPTION:
LOCATION:
SUMMARY:Elementary Field Day
END:VEVENT
BEGIN:VEVENT
DTSTAMP:20260424T165108Z
UID:2c48f126-5258-417f-b8ed-e36cd5434044
DTSTART:20260520T080000
DTEND:20260520T140000
DESCRIPTION:
LOCATION:
SUMMARY:Band & Strings EOY Field Trip
END:VEVENT
BEGIN:VEVENT
DTSTAMP:20260424T165108Z
UID:bdc6fadc-9d89-4ccd-9869-4c81d634ce69
DTSTART:20260520T083000
DTEND:20260520T093000
DESCRIPTION:
LOCATION:
SUMMARY:Awards for 6th-7th
END:VEVENT
BEGIN:VEVENT
DTSTAMP:20260424T165108Z
UID:dde36e5c-69f9-4dfc-9d67-c47338a15c1a
DTSTART:20260521T130000
DTEND:20260521T140000
DESCRIPTION:
LOCATION:
SUMMARY:Awards for 5th 
END:VEVENT
BEGIN:VEVENT
DTSTAMP:20260424T165108Z
UID:9b608250-8b69-46ed-9906-65511aa4cda6
DTSTART;VALUE=DATE:20260522
DTEND;VALUE=DATE:20260523
DESCRIPTION:
LOCATION:
SUMMARY:5K and Montessori Field Day
END:VEVENT
BEGIN:VEVENT
DTSTAMP:20260424T165108Z
UID:b65c22c8-1c33-40ad-85d3-7ea5d126d8be
DTSTART;VALUE=DATE:20260525
DTEND;VALUE=DATE:20260526
DESCRIPTION:
LOCATION:
SUMMARY:No School
END:VEVENT
BEGIN:VEVENT
DTSTAMP:20260424T165108Z
UID:65bed279-5d1a-48b6-9e9e-d2655b63a1aa
DTSTART;VALUE=DATE:20260526
DTEND;VALUE=DATE:20260527
DESCRIPTION:
LOCATION:
SUMMARY:4K Water Day
END:VEVENT
BEGIN:VEVENT
DTSTAMP:20260424T165108Z
UID:5d299cb9-84a8-41ec-bd60-6359f7da29fa
DTSTART:20260527T100000
DTEND:20260527T110000
DESCRIPTION:
LOCATION:
SUMMARY:Awards for 3rd 
END:VEVENT
BEGIN:VEVENT
DTSTAMP:20260424T165108Z
UID:450f0749-ea3d-456a-9166-f8628e2b2865
DTSTART:20260527T120000
DTEND:20260527T130000
DESCRIPTION:
LOCATION:
SUMMARY:Awards for 4th
END:VEVENT
BEGIN:VEVENT
DTSTAMP:20260424T165108Z
UID:90733d64-a36f-48e7-ad72-cdf1e7f6562c
DTSTART:20260528T090000
DTEND:20260528T100000
DESCRIPTION:
LOCATION:
SUMMARY:Awards for 2nd 
END:VEVENT
BEGIN:VEVENT
DTSTAMP:20260424T165108Z
UID:e1c6d235-8ed5-41f5-bf5f-0bfa97c35ce6
DTSTART:20260528T101500
DTEND:20260528T111500
DESCRIPTION:
LOCATION:
SUMMARY:Awards for First 
END:VEVENT
BEGIN:VEVENT
DTSTAMP:20260424T165108Z
UID:cf09ddec-cfd6-488d-bf82-5fe896a30f3b
DTSTART:20260528T113000
DTEND:20260528T123000
DESCRIPTION:
LOCATION:
SUMMARY:Awards for 4K
END:VEVENT
BEGIN:VEVENT
DTSTAMP:20260424T165108Z
UID:90a2c6cf-eb5a-45a1-a7cb-e8c5046d5934
DTSTART:20260528T123000
DTEND:20260528T133000
DESCRIPTION:
LOCATION:
SUMMARY:Awards for 5K
END:VEVENT
BEGIN:VEVENT
DTSTAMP:20260424T165108Z
UID:96785f79-89f9-42d2-851f-96c3ed62f3f6
DTSTART;VALUE=DATE:20260529
DTEND;VALUE=DATE:20260530
DESCRIPTION:
LOCATION:
SUMMARY:Last Day of School- 1/2 Day- Dismissal at 11:30
END:VEVENT
END:VCALENDAR
