BEGIN:VCALENDAR
VERSION:2.0
PRODID:icalendar-ruby
CALSCALE:GREGORIAN
BEGIN:VTIMEZONE
TZID:America/New_York
BEGIN:DAYLIGHT
DTSTART:20260308T030000
TZOFFSETFROM:-0500
TZOFFSETTO:-0400
RRULE:FREQ=YEARLY;BYDAY=2SU;BYMONTH=3
TZNAME:EDT
END:DAYLIGHT
BEGIN:STANDARD
DTSTART:20261101T010000
TZOFFSETFROM:-0400
TZOFFSETTO:-0500
RRULE:FREQ=YEARLY;BYDAY=1SU;BYMONTH=11
TZNAME:EST
END:STANDARD
END:VTIMEZONE
BEGIN:VEVENT
DTSTAMP:20260423T194844Z
UID:37d06e5c-143f-4d14-a2f2-0e1d26f7e0e9
DTSTART;VALUE=DATE:20260430
DTEND;VALUE=DATE:20260501
DESCRIPTION:
LOCATION:
SUMMARY:HS Spring Play
END:VEVENT
BEGIN:VEVENT
DTSTAMP:20260423T194844Z
UID:139c9db9-eb0e-43a3-86ab-5259af8cba40
DTSTART;VALUE=DATE:20260501
DTEND;VALUE=DATE:20260502
DESCRIPTION:
LOCATION:
SUMMARY:HS Spring Play
END:VEVENT
BEGIN:VEVENT
DTSTAMP:20260423T194844Z
UID:bc4bbe27-de1a-4c91-b1cd-d40cde137cd0
DTSTART;VALUE=DATE:20260502
DTEND;VALUE=DATE:20260503
DESCRIPTION:
LOCATION:
SUMMARY:HS Spring Play
END:VEVENT
BEGIN:VEVENT
DTSTAMP:20260423T194844Z
UID:dfa01384-e7c7-40fa-a25f-0b0008c33b20
DTSTART;VALUE=DATE:20260511
DTEND;VALUE=DATE:20260512
DESCRIPTION:
LOCATION:
SUMMARY:Delayed Start-Secondary ONLY
END:VEVENT
BEGIN:VEVENT
DTSTAMP:20260423T194844Z
UID:dcaae0da-3ee0-45dc-a503-00c6660b6b8e
DTSTART:20260520T120000
DTEND:20260520T140000
DESCRIPTION:
LOCATION:
SUMMARY:Senior Recognition
END:VEVENT
BEGIN:VEVENT
DTSTAMP:20260423T194844Z
UID:9a00ee6b-bb9b-4554-a83a-02af2caa6675
DTSTART:20260520T183000
DTEND:20260520T193000
DESCRIPTION:
LOCATION:
SUMMARY:HS Band Concert
END:VEVENT
BEGIN:VEVENT
DTSTAMP:20260423T194844Z
UID:a06d7e34-22f9-4632-9faa-b7438cb16c8f
DTSTART:20260528T190000
DTEND:20260528T200000
DESCRIPTION:
LOCATION:
SUMMARY:Commencement Exercises
END:VEVENT
END:VCALENDAR
