BEGIN:VCALENDAR
VERSION:2.0
PRODID:icalendar-ruby
CALSCALE:GREGORIAN
BEGIN:VTIMEZONE
TZID:America/Chicago
BEGIN:DAYLIGHT
DTSTART:20260308T030000
TZOFFSETFROM:-0600
TZOFFSETTO:-0500
RRULE:FREQ=YEARLY;BYDAY=2SU;BYMONTH=3
TZNAME:CDT
END:DAYLIGHT
BEGIN:STANDARD
DTSTART:20261101T010000
TZOFFSETFROM:-0500
TZOFFSETTO:-0600
RRULE:FREQ=YEARLY;BYDAY=1SU;BYMONTH=11
TZNAME:CST
END:STANDARD
END:VTIMEZONE
BEGIN:VEVENT
DTSTAMP:20260423T145519Z
UID:fe967e09-8aa4-449d-9c45-89d6e1660612
DTSTART:20260423T173000
DTEND:20260423T193000
DESCRIPTION:
LOCATION:
SUMMARY:AIS Spring Dance
END:VEVENT
BEGIN:VEVENT
DTSTAMP:20260423T145519Z
UID:841cbb33-b894-4cd7-8097-cd82eb6691e0
DTSTART;VALUE=DATE:20260427
DTEND;VALUE=DATE:20260502
DESCRIPTION:
LOCATION:
SUMMARY:Mothers/Father's Day Store - Afternoons Only
END:VEVENT
BEGIN:VEVENT
DTSTAMP:20260423T145519Z
UID:1febb326-255f-4272-ae06-eb4c7d82d626
DTSTART;VALUE=DATE:20260508
DTEND;VALUE=DATE:20260509
DESCRIPTION:
LOCATION:
SUMMARY:BMX Anti-Bullying Rally
END:VEVENT
BEGIN:VEVENT
DTSTAMP:20260423T145519Z
UID:fd63d41d-7c68-48e0-930b-dea9e3011096
DTSTART;VALUE=DATE:20260513
DTEND;VALUE=DATE:20260514
DESCRIPTION:
LOCATION:
SUMMARY:4th Grade Track Meet (am)
END:VEVENT
BEGIN:VEVENT
DTSTAMP:20260423T145519Z
UID:86887601-b533-4158-b403-cd1bbf0c0484
DTSTART;VALUE=DATE:20260514
DTEND;VALUE=DATE:20260515
DESCRIPTION:
LOCATION:
SUMMARY:3rd Grade Track Meet (pm)
END:VEVENT
BEGIN:VEVENT
DTSTAMP:20260423T145519Z
UID:81f77bcd-aae8-460d-8950-f6937b1b2fdc
DTSTART;VALUE=DATE:20260514
DTEND;VALUE=DATE:20260515
DESCRIPTION:
LOCATION:
SUMMARY:5th Grade Track Meet (am)
END:VEVENT
BEGIN:VEVENT
DTSTAMP:20260423T145519Z
UID:41f0ac7f-887b-438d-9af5-786166b34114
DTSTART:20260514T150000
DTEND:20260514T160000
DESCRIPTION:
LOCATION:
SUMMARY:Health/Wellness & Parent Engagement Meeting
END:VEVENT
BEGIN:VEVENT
DTSTAMP:20260423T145519Z
UID:195f38c3-8f0e-4ba6-bdd9-8ece48fb967f
DTSTART;VALUE=DATE:20260515
DTEND;VALUE=DATE:20260516
DESCRIPTION:
LOCATION:
SUMMARY:Color Run
END:VEVENT
BEGIN:VEVENT
DTSTAMP:20260423T145519Z
UID:d65d3e9a-783e-4571-8186-2775233544b7
DTSTART:20260617T140000
DTEND:20260617T150000
DESCRIPTION:
LOCATION:
SUMMARY:Summer Cheer Clinic
END:VEVENT
BEGIN:VEVENT
DTSTAMP:20260423T145519Z
UID:82992f81-94a0-4861-a67c-50547afe927b
DTSTART:20260618T140000
DTEND:20260618T150000
DESCRIPTION:
LOCATION:
SUMMARY:Summer Cheer Clinic
END:VEVENT
BEGIN:VEVENT
DTSTAMP:20260423T145519Z
UID:5156f47a-634f-4258-bcda-35d5b3ab7355
DTSTART;VALUE=DATE:20260812
DTEND;VALUE=DATE:20260813
DESCRIPTION:
LOCATION:
SUMMARY:First Day of School
END:VEVENT
BEGIN:VEVENT
DTSTAMP:20260423T145519Z
UID:b9d1bc6c-2f8e-4d3f-a577-b2e8ac605c8c
DTSTART;VALUE=DATE:20260907
DTEND;VALUE=DATE:20260908
DESCRIPTION:
LOCATION:
SUMMARY:Labor Day / No School
END:VEVENT
END:VCALENDAR
